Workbook

Sheet R７まとめ
A1: 第１表 入域観光客数 | K1: (単位:人、％)
B2: 区分 | C2: 入域観光客数（総数）
F3: 空路海路別内訳
A4: 期間 | D4: 国内 | E4: 外国 | F4: 空路計 | I4: 海路計
G5: 国内 | H5: 外国 | J5: 国内 | K5: 外国
A6: 年度 | B6: 今年度 | C6: 10935300 | D6: 7994400 | E6: 2940900 | F6: 10029800 | G6: 7950700 | H6: 2079100 | I6: 905500 | J6: 43700 | K6: 861800
B7: 前年度 | C7: 9952700 | D7: 7661200 | E7: 2291500 | F7: 9145300 | G7: 7622200 | H7: 1523100 | I7: 807400 | J7: 39000 | K7: 768400
B8: 増減数 | C8: 982600 | D8: 333200 | E8: 649400 | F8: 884500 | G8: 328500 | H8: 556000 | I8: 98100 | J8: 4700 | K8: 93400
B9: 前年度比 | C9: 1.098727 | D9: 1.0434919 | E9: 1.2833952 | F9: 1.0967163 | G9: 1.0430978 | H9: 1.365045 | I9: 1.1215011 | J9: 1.1205128 | K9: 1.1215513
A11: 第２表 航路別入域観光客数
B12: 区分 | D12: 1 | E12: 2 | F12: 3 | G12: 4 | H12: 5 | I12: 6 | J12: 7 | K12: 8 | L12: 9 | M12: 10 | N12: 11 | O12: 12 | P12: 13 | Q12: 14 | R12: 15 | S12: 16 | T12: 17 | U12: 18 | V12: 19 | W12: 20 | X12: 21 | Y12: 22 | Z12: 23 | AA12: 24 | AB12: 25 | AC12: 26 | AD12: 27 | AE12: 28
A13: 期間 | C13: 総数 | D13: 東京 | E13: 伊丹 | F13: 関西 | G13: 神戸 | H13: 福岡 | I13: 北九州 | J13: 名古屋 | K13: 札幌 | L13: 鹿児島 | M13: 仙台 | N13: 福島 | O13: 新潟 | P13: 静岡 | Q13: 富山 | R13: 小松 | S13: 岡山 | T13: 広島 | U13: 高松 | V13: 松山 | W13: 高知 | X13: 長崎 | Y13: 熊本 | Z13: 大分 | AA13: 宮崎 | AB13: 茨城 | AC13: 岩国 | AD13: その他 | AE13: 外国
A14: 年度 | B14: 今年度 | C14: 10935300 | D14: 3901200 | E14: 550400 | F14: 779300 | G14: 340700 | H14: 1015600 | I14: 200 | J14: 699200 | K14: 49400 | L14: 144800 | M14: 56100 | N14: 800 | O14: 16600 | P14: 37900 | Q14: 500 | R14: 39400 | S14: 45300 | T14: 54600 | U14: 46300 | V14: 40500 | W14: 600 | X14: 100 | Y14: 43500 | Z14: 100 | AA14: 39400 | AB14: 40100 | AC14: 40800 | AD14: 11000 | AE14: 2940900
B15: 前年度 | C15: 9952700 | D15: 3740500 | E15: 512200 | F15: 781100 | G15: 334900 | H15: 951800 | I15: 100 | J15: 647900 | K15: 49300 | L15: 140700 | M15: 60300 | N15: 500 | O15: 17100 | P15: 26600 | Q15: 200 | R15: 37000 | S15: 43800 | T15: 57900 | U15: 53500 | V15: 37600 | W15: 500 | X15: 100 | Y15: 42500 | Z15: 0 | AA15: 37400 | AB15: 42100 | AC15: 37200 | AD15: 8400 | AE15: 2291500
B16: 増減数 | C16: 982600 | D16: 160700 | E16: 38200 | F16: -1800 | G16: 5800 | H16: 63800 | I16: 100 | J16: 51300 | K16: 100 | L16: 4100 | M16: -4200 | N16: 300 | O16: -500 | P16: 11300 | Q16: 300 | R16: 2400 | S16: 1500 | T16: -3300 | U16: -7200 | V16: 2900 | W16: 100 | X16: 0 | Y16: 1000 | Z16: 100 | AA16: 2000 | AB16: -2000 | AC16: 3600 | AD16: 2600 | AE16: 649400
B17: 前年度比 | C17: 1.098727 | D17: 1.0429622 | E17: 1.0745802 | F17: 0.99769556 | G17: 1.0173186 | H17: 1.0670309 | I17: 2 | J17: 1.0791789 | K17: 1.0020284 | L17: 1.02914 | M17: 0.93034826 | N17: 1.6 | O17: 0.97076023 | P17: 1.424812 | Q17: 2.5 | R17: 1.0648649 | S17: 1.0342466 | T17: 0.94300518 | U17: 0.86542056 | V17: 1.0771277 | W17: 1.2 | X17: 1 | Y17: 1.0235294 | Z17: 皆増 | AA17: 1.0534759 | AB17: 0.95249406 | AC17: 1.0967742 | AD17: 1.3095238 | AE17: 1.2833952
B18: 今年度 構成比 | C18: 1 | D18: 0.3567529 | E18: 0.05033241 | F18: 0.07126462 | G18: 0.031155981 | H18: 0.092873538 | I18: 1.8289393e-05 | J18: 0.063939718 | K18: 0.0045174801 | L18: 0.013241521 | M18: 0.0051301748 | N18: 7.3157572e-05 | O18: 0.0015180196 | P18: 0.00346584 | Q18: 4.5723483e-05 | R18: 0.0036030104 | S18: 0.0041425475 | T18: 0.0049930043 | U18: 0.0042339945 | V18: 0.0037036021 | W18: 5.4868179e-05 | X18: 9.1446965e-06 | Y18: 0.003977943 | Z18: 9.1446965e-06 | AA18: 0.0036030104 | AB18: 0.0036670233 | AC18: 0.0037310362 | AD18: 0.0010059166 | AE18: 0.26893638
A20: 第３表 国籍別入域観光客数
B21: 区分 | D21: 1 | E21: 2 | F21: 3 | G21: 4 | H21: 5 | I21: 6 | J21: 7 | K21: 8 | L21: 9 | M21: 10 | N21: 11 | O21: 12 | P21: 13 | Q21: 14
A22: 期間 | C22: 外国人総数 | D22: 台湾 | E22: 韓国 | F22: 中国本土 | G22: 香港 | H22: アメリカ | I22: カナダ | J22: イギリス（本国） | K22: フランス | L22: タイ | M22: シンガポール | N22: マレーシア | O22: インドネシア | P22: ｵｰｽﾄﾗﾘｱ | Q22: その他
A23: 年度 | B23: 今年度 | C23: 2940900 | D23: 1232600 | E23: 606600 | F23: 363500 | G23: 227100 | H23: 48700 | I23: 13100 | J23: 11500 | K23: 7800 | L23: 23600 | M23: 23600 | N23: 11000 | O23: 5400 | P23: 12600 | Q23: 353800
B24: 前年度 | C24: 2291500 | D24: 882800 | E24: 470900 | F24: 337300 | G24: 181200 | H24: 51100 | I24: 12100 | J24: 10800 | K24: 3600 | L24: 20600 | M24: 21400 | N24: 9100 | O24: 4200 | P24: 10700 | Q24: 275700
B25: 増減数 | C25: 649400 | D25: 349800 | E25: 135700 | F25: 26200 | G25: 45900 | H25: -2400 | I25: 1000 | J25: 700 | K25: 4200 | L25: 3000 | M25: 2200 | N25: 1900 | O25: 1200 | P25: 1900 | Q25: 78100
B26: 前年度比 | C26: 1.2833952 | D26: 1.3962392 | E26: 1.2881716 | F26: 1.0776757 | G26: 1.2533113 | H26: 0.95303327 | I26: 1.0826446 | J26: 1.0648148 | K26: 2.1666667 | L26: 1.1456311 | M26: 1.1028037 | N26: 1.2087912 | O26: 1.2857143 | P26: 1.1775701 | Q26: 1.2832789
B27: 今年度 構成比 | C27: 1 | D27: 0.4191234 | E27: 0.20626339 | F27: 0.12360162 | G27: 0.077221259 | H27: 0.016559557 | I27: 0.0044544187 | J27: 0.0039103676 | K27: 0.0026522493 | L27: 0.0080247543 | M27: 0.0080247543 | N27: 0.0037403516 | O27: 0.0018361726 | P27: 0.0042844027 | Q27: 0.12030331
A29: 外国客航路別入域者数
B30: 台湾 | C30: 韓国 | D30: 中国本土 | E30: 香港 | F30: アメリカ | G30: カナダ | H30: イギリス （本国） | I30: フランス | J30: ドイツ | K30: イタリア | L30: ロシア | M30: インドネシア | N30: タイ | O30: フィリピン | P30: ベトナム | Q30: シンガポール | R30: マレーシア | S30: インド | T30: オーストラリア | U30: その他 計 | V30: その他 （乗客） | W30: その他 （乗務員） | X30: 合計
A31: 空路
A32: 那覇空港 | B32: 948800 | C32: 522700 | D32: 162000 | E32: 176300 | F32: 29300 | G32: 8000 | H32: 7500 | I32: 5000 | J32: 6600 | K32: 2700 | L32: 4300 | M32: 3300 | N32: 21500 | O32: 4000 | P32: 2500 | Q32: 20200 | R32: 8000 | S32: 1300 | T32: 6900 | U32: 22200 | V32: 22200 | W32: 0 | X32: 1963100
A33: 石垣空港 | B33: 13600 | C33: 33100 | D33: 2500 | E33: 12300 | F33: 600 | G33: 300 | H33: 700 | I33: 400 | J33: 0 | K33: 100 | L33: 0 | M33: 0 | N33: 0 | O33: 0 | P33: 0 | Q33: 0 | R33: 0 | S33: 0 | T33: 0 | U33: 800 | V33: 800 | W33: 0 | X33: 64400
A34: 下地島空港 | B34: 6300 | C34: 39200 | D34: 1400 | E34: 2400 | F34: 100 | G34: 0 | H34: 0 | I34: 0 | J34: 0 | K34: 0 | L34: 0 | M34: 0 | N34: 0 | O34: 0 | P34: 0 | Q34: 0 | R34: 0 | S34: 0 | T34: 0 | U34: 0 | V34: 0 | X34: 49400
A35: 嘉手納出張所分（空） | B35: 0 | C35: 0 | D35: 0 | E35: 0 | F35: 2200 | G35: 0 | H35: 0 | I35: 0 | J35: 0 | K35: 0 | L35: 0 | M35: 0 | N35: 0 | O35: 0 | P35: 0 | Q35: 0 | R35: 0 | S35: 0 | T35: 0 | U35: 0 | V35: 0 | W35: 0 | X35: 2200
A36: 空路 計 | B36: 968700 | C36: 595000 | D36: 165900 | E36: 191000 | F36: 32200 | G36: 8300 | H36: 8200 | I36: 5400 | J36: 6600 | K36: 2800 | L36: 4300 | M36: 3300 | N36: 21500 | O36: 4000 | P36: 2500 | Q36: 20200 | R36: 8000 | S36: 1300 | T36: 6900 | U36: 23000 | V36: 23000 | W36: 0 | X36: 2079100
A37: 海路
A38: 那覇港 | B38: 186400 | C38: 6200 | D38: 125200 | E38: 20500 | F38: 9900 | G38: 2800 | H38: 1900 | I38: 1800 | J38: 5600 | K38: 2700 | L38: 2700 | M38: 1800 | N38: 1600 | O38: 9700 | P38: 300 | Q38: 2900 | R38: 2600 | S38: 500 | T38: 3300 | U38: 172500 | V38: 7500 | W38: 0 | X38: 560900
A39: 石垣港 | B39: 46000 | C39: 500 | D39: 42300 | E39: 12400 | F39: 6200 | G39: 1900 | H39: 1200 | I39: 600 | J39: 600 | K39: 200 | L39: 600 | M39: 300 | N39: 500 | O39: 6100 | P39: 0 | Q39: 500 | R39: 400 | S39: 200 | T39: 2100 | U39: 62700 | V39: 2900 | W39: 165000 | X39: 185300
A40: 平良港 | B40: 31500 | C40: 4900 | D40: 30100 | E40: 3200 | F40: 400 | G40: 100 | H40: 200 | I40: 0 | J40: 0 | K40: 0 | L40: 0 | M40: 0 | N40: 0 | O40: 2500 | P40: 0 | Q40: 0 | R40: 0 | S40: 0 | T40: 300 | U40: 42400 | V40: 4700 | W40: 59800 | X40: 115600
A41: 与那国港 | B41: 0 | C41: 0 | D41: 0 | E41: 0 | F41: 0 | G41: 0 | H41: 0 | I41: 0 | J41: 0 | K41: 0 | L41: 0 | M41: 0 | N41: 0 | O41: 0 | P41: 0 | Q41: 0 | R41: 0 | S41: 0 | T41: 0 | U41: 0 | V41: 0 | W41: 37700 | X41: 0
A42: 海路 計 | B42: 263900 | C42: 11600 | D42: 197600 | E42: 36100 | F42: 16500 | G42: 4800 | H42: 3300 | I42: 2400 | J42: 6200 | K42: 2900 | L42: 3300 | M42: 2100 | N42: 2100 | O42: 18300 | P42: 300 | Q42: 3400 | R42: 3000 | S42: 700 | T42: 5700 | U42: 277600 | V42: 15100 | W42: 0 | X42: 861800
A43: 合計 入域観光客数（外国） | B43: 1232600 | C43: 606600 | D43: 363500 | E43: 227100 | F43: 48700 | G43: 13100 | H43: 11500 | I43: 7800 | J43: 12800 | K43: 5700 | L43: 7600 | M43: 5400 | N43: 23600 | O43: 22300 | P43: 2800 | Q43: 23600 | R43: 11000 | S43: 2000 | T43: 12600 | U43: 300600 | V43: 38100 | W43: 262500 | X43: 2940900
...

Sheet 令和７年度
A1: 令和７年度 | B1: 入域観光客数
A2: 月 | B2: 実績 | E2: リンク（月ごと）
B3: 総数 | C3: 国内客数 | D3: 外国客数 | E3: 月間
A4: ４月 | B4: =C4+D4 -> 882600 | C4: ='４月（１表）'!$D$8 -> 620900 | D4: ='４月（１表）'!$E$8 -> 261700 | E4: ４月（１表） | F4: ４月（２表） | G4: ４月（３表）
A5: ５月 | B5: =C5+D5 -> 842600 | C5: ='５月（１表）'!$D$8 -> 601000 | D5: ='５月（１表）'!$E$8 -> 241600 | E5: ５月（１表） | F5: ５月（２表） | G5: ５月（３表）
A6: ６月 | B6: =C6+D6 -> 838900 | C6: ='６月（１表）'!$D$8 -> 599700 | D6: ='６月（１表）'!$E$8 -> 239200 | E6: ６月（１表） | F6: ６月（２表） | G6: ６月（３表）
A7: ７月 | B7: =C7+D7 -> 947600 | C7: ='７月（１表）'!$D$8 -> 704200 | D7: ='７月（１表）'!$E$8 -> 243400 | E7: ７月（１表） | F7: ７月（２表） | G7: ７月（３表）
A8: ８月 | B8: =C8+D8 -> 1074900 | C8: ='８月（１表）'!$D$8 -> 783500 | D8: ='８月（１表）'!$E$8 -> 291400 | E8: ８月（１表） | F8: ８月（２表） | G8: ８月（３表）
A9: ９月 | B9: =C9+D9 -> 948600 | C9: ='９月（１表）'!$D$8 -> 685700 | D9: ='９月（１表）'!$E$8 -> 262900 | E9: ９月（１表） | F9: ９月（２表） | G9: ９月（３表）
A10: １０月 | B10: =C10+D10 -> 986100 | C10: ='10月（１表）'!$D$8 -> 725200 | D10: ='10月（１表）'!$E$8 -> 260900 | E10: 10月（１表） | F10: 10月（２表） | G10: 10月（３表）
A11: １１月 | B11: =C11+D11 -> 894500 | C11: ='11月（１表）'!$D$8 -> 662800 | D11: ='11月（１表）'!$E$8 -> 231700 | E11: 11月（１表） | F11: 11月（２表） | G11: 11月（３表）
A12: １２月 | B12: =C12+D12 -> 862800 | C12: ='12月（１表）'!$D$8 -> 648200 | D12: ='12月（１表）'!$E$8 -> 214600 | E12: 12月（１表） | F12: 12月（２表） | G12: 12月（３表）
A13: １月 | B13: =C13+D13 -> 836000 | C13: ='１月（１表）'!$D$8 -> 601400 | D13: ='１月（１表）'!$E$8 -> 234600 | E13: １月（１表） | F13: １月（２表） | G13: １月（３表）
A14: ２月 | B14: =C14+D14 -> 842800 | C14: ='２月（１表）'!$D$8 -> 623500 | D14: ='２月（１表）'!$E$8 -> 219300 | E14: ２月（１表） | F14: ２月（２表） | G14: ２月（３表）
A15: ３月 | B15: =C15+D15 -> 977900 | C15: ='３月（１表）'!$D$8 -> 738300 | D15: ='３月（１表）'!$E$8 -> 239600 | E15: ３月（１表） | F15: ３月（２表） | G15: ３月（３表）
A16: 合計 | B16: =SUM(B4:B15) -> 10935300 | C16: =SUM(C4:C15) -> 7994400 | D16: =SUM(D4:D15) -> 2940900 | E16: 月別入域観光客数の推移 | F16: （グラフ） | G16: （国内客グラフ）
E17: （外国客グラフ）
E18: ※上記の各セルをクリックすると、各月ごとのデータや、年度の集計・グラフのシートに移動します。
E19: ※移動後の各シートでは、シート左上の年度の表記をクリックすると、このシートに戻ります。

Sheet ４月（１表）
A1: =令和７年度!A1 -> 令和７年度 | D1: =RIGHT(CELL("filename",$A$1),LEN(CELL("filename",$A$1))-FIND("]",CELL("filename",$A$1))) -> ４月（１表） | E1: 入 域 観 光 客 統 計 月 報
A3: 第１表 入域観光客数 | K3: (単位:人、％)
B4: 区分 | C4: 入域観光客数（総数）
F5: 空路海路別内訳
A6: 期間 | D6: 国内 | E6: 外国 | F6: 空路計 | I6: 海路計
G7: 国内 | H7: 外国 | J7: 国内 | K7: 外国
A8: 月間 | B8: 令和7年4月 | C8: 882600 | D8: 620900 | E8: 261700 | F8: 786200 | G8: 617900 | H8: 168300 | I8: 96400 | J8: 3000 | K8: 93400
B9: 令和6年4月 | C9: 752300 | D9: 593400 | E9: 158900 | F9: 695600 | G9: 588100 | H9: 107500 | I9: 56700 | J9: 5300 | K9: 51400
B10: 増減数 | C10: 130300 | D10: 27500 | E10: 102800 | F10: 90600 | G10: 29800 | H10: 60800 | I10: 39700 | J10: -2300 | K10: 42000
B11: 前年 同月比 | C11: 1.1732022 | D11: 1.0463431 | E11: 1.6469478 | F11: 1.1302473 | G11: 1.0506717 | H11: 1.5655814 | I11: 1.7001764 | J11: 0.56603774 | K11: 1.8171206
A12: 年度 | B12: 今年度 | C12: 882600 | D12: 620900 | E12: 261700 | F12: 786200 | G12: 617900 | H12: 168300 | I12: 96400 | J12: 3000 | K12: 93400
A13: ４月累計 | B13: 前年度 | C13: 752300 | D13: 593400 | E13: 158900 | F13: 695600 | G13: 588100 | H13: 107500 | I13: 56700 | J13: 5300 | K13: 51400
B14: 増減数 | C14: 130300 | D14: 27500 | E14: 102800 | F14: 90600 | G14: 29800 | H14: 60800 | I14: 39700 | J14: -2300 | K14: 42000
B15: 前年度 同期比 | C15: 1.1732022 | D15: 1.0463431 | E15: 1.6469478 | F15: 1.1302473 | G15: 1.0506717 | H15: 1.5655814 | I15: 1.7001764 | J15: 0.56603774 | K15: 1.8171206
A16: 暦年 | B16: 今年 | C16: 3360000 | D16: 2510300 | E16: 849700 | F16: 3084900 | G16: 2499900 | H16: 585000 | I16: 275100 | J16: 10400 | K16: 264700
A17: 1月～4月 累計 | B17: 前年 | C17: 2945800 | D17: 2357600 | E17: 588200 | F17: 2735300 | G17: 2343800 | H17: 391500 | I17: 210500 | J17: 13800 | K17: 196700
B18: 増減数 | C18: 414200 | D18: 152700 | E18: 261500 | F18: 349600 | G18: 156100 | H18: 193500 | I18: 64600 | J18: -3400 | K18: 68000
B19: 前年 同期比 | C19: 1.140607 | D19: 1.0647693 | E19: 1.4445767 | F19: 1.1278105 | G19: 1.0666012 | H19: 1.4942529 | I19: 1.3068884 | J19: 0.75362319 | K19: 1.3457041
D21: 【参考】外国客のうち、乗務員等の人数： | E21: 27700 | F21: （海路） | K21: 4

Sheet ４月（２表）
A1: =令和７年度!A1 -> 令和７年度 | E1: =RIGHT(CELL("filename",$A$1),LEN(CELL("filename",$A$1))-FIND("]",CELL("filename",$A$1))) -> ４月（２表） | F1: 入 域 観 光 客 統 計 月 報
A3: 第２表 航路別入域観光客数
B4: 区分 | D4: 1 | E4: 2 | F4: 3 | G4: 4 | H4: 5 | I4: 6 | J4: 7 | K4: 8 | L4: 9 | M4: 10 | N4: 11 | O4: 12 | P4: 13 | Q4: 14 | R4: 15 | S4: 16 | T4: 17 | U4: 18 | V4: 19 | W4: 20 | X4: 21 | Y4: 22 | Z4: 23 | AA4: 24 | AB4: 25 | AC4: 26 | AD4: 27 | AE4: 28
A5: 期間 | C5: 総数 | D5: 東京 | E5: 伊丹 | F5: 関西 | G5: 神戸 | H5: 福岡 | I5: 北九州 | J5: 名古屋 | K5: 札幌 | L5: 鹿児島 | M5: 仙台 | N5: 福島 | O5: 新潟 | P5: 静岡 | Q5: 富山 | R5: 小松 | S5: 岡山 | T5: 広島 | U5: 高松 | V5: 松山 | W5: 高知 | X5: 長崎 | Y5: 熊本 | Z5: 大分 | AA5: 宮崎 | AB5: 茨城 | AC5: 岩国 | AD5: その他 | AE5: 外国
A6: 月間 | B6: 令和7年4月 | C6: 882600 | D6: 299700 | E6: 40400 | F6: 65200 | G6: 26200 | H6: 77200 | I6: 0 | J6: 54100 | K6: 4000 | L6: 10700 | M6: 4000 | N6: 0 | O6: 2400 | P6: 2600 | Q6: 100 | R6: 3200 | S6: 4200 | T6: 4500 | U6: 5000 | V6: 3200 | W6: 0 | X6: 0 | Y6: 3600 | Z6: 0 | AA6: 2900 | AB6: 2800 | AC6: 3500 | AD6: 1400 | AE6: 261700
B7: 令和6年4月 | C7: 752300 | D7: 286200 | E7: 38600 | F7: 62000 | G7: 27200 | H7: 73300 | I7: 0 | J7: 51000 | K7: 4000 | L7: 10600 | M7: 3700 | N7: 0 | O7: 2000 | P7: 500 | Q7: 0 | R7: 2900 | S7: 3900 | T7: 4100 | U7: 5600 | V7: 3200 | W7: 0 | X7: 0 | Y7: 3200 | Z7: 0 | AA7: 2700 | AB7: 3100 | AC7: 3300 | AD7: 2300 | AE7: 158900
B8: 増減数 | C8: 130300 | D8: 13500 | E8: 1800 | F8: 3200 | G8: -1000 | H8: 3900 | I8: 0 | J8: 3100 | K8: 0 | L8: 100 | M8: 300 | N8: 0 | O8: 400 | P8: 2100 | Q8: 100 | R8: 300 | S8: 300 | T8: 400 | U8: -600 | V8: 0 | W8: 0 | X8: 0 | Y8: 400 | Z8: 0 | AA8: 200 | AB8: -300 | AC8: 200 | AD8: -900 | AE8: 102800
B9: 前年 同月比 | C9: 1.1732022 | D9: 1.0471698 | E9: 1.0466321 | F9: 1.0516129 | G9: 0.96323529 | H9: 1.053206 | I9: - | J9: 1.0607843 | K9: 1 | L9: 1.009434 | M9: 1.0810811 | N9: - | O9: 1.2 | P9: 5.2 | Q9: 皆増 | R9: 1.1034483 | S9: 1.0769231 | T9: 1.097561 | U9: 0.89285714 | V9: 1 | W9: - | X9: - | Y9: 1.125 | Z9: - | AA9: 1.0740741 | AB9: 0.90322581 | AC9: 1.0606061 | AD9: 0.60869565 | AE9: 1.6469478
B10: 当月 構成比 | C10: 1 | D10: 0.33956492 | E10: 0.04577385 | F10: 0.073872649 | G10: 0.029685022 | H10: 0.087468842 | I10: 0 | J10: 0.06129617 | K10: 0.0045320644 | L10: 0.012123272 | M10: 0.0045320644 | N10: 0 | O10: 0.0027192386 | P10: 0.0029458418 | Q10: 0.00011330161 | R10: 0.0036256515 | S10: 0.0047586676 | T10: 0.0050985724 | U10: 0.0056650804 | V10: 0.0036256515 | W10: 0 | X10: 0 | Y10: 0.0040788579 | Z10: 0 | AA10: 0.0032857467 | AB10: 0.003172445 | AC10: 0.0039655563 | AD10: 0.0015862225 | AE10: 0.29651031
A11: 年度 | B11: 今年度 | C11: 882600 | D11: 299700 | E11: 40400 | F11: 65200 | G11: 26200 | H11: 77200 | I11: 0 | J11: 54100 | K11: 4000 | L11: 10700 | M11: 4000 | N11: 0 | O11: 2400 | P11: 2600 | Q11: 100 | R11: 3200 | S11: 4200 | T11: 4500 | U11: 5000 | V11: 3200 | W11: 0 | X11: 0 | Y11: 3600 | Z11: 0 | AA11: 2900 | AB11: 2800 | AC11: 3500 | AD11: 1400 | AE11: 261700
A12: ４月累計 | B12: 前年度 | C12: 752300 | D12: 286200 | E12: 38600 | F12: 62000 | G12: 27200 | H12: 73300 | I12: 0 | J12: 51000 | K12: 4000 | L12: 10600 | M12: 3700 | N12: 0 | O12: 2000 | P12: 500 | Q12: 0 | R12: 2900 | S12: 3900 | T12: 4100 | U12: 5600 | V12: 3200 | W12: 0 | X12: 0 | Y12: 3200 | Z12: 0 | AA12: 2700 | AB12: 3100 | AC12: 3300 | AD12: 2300 | AE12: 158900
B13: 増減数 | C13: 130300 | D13: 13500 | E13: 1800 | F13: 3200 | G13: -1000 | H13: 3900 | I13: 0 | J13: 3100 | K13: 0 | L13: 100 | M13: 300 | N13: 0 | O13: 400 | P13: 2100 | Q13: 100 | R13: 300 | S13: 300 | T13: 400 | U13: -600 | V13: 0 | W13: 0 | X13: 0 | Y13: 400 | Z13: 0 | AA13: 200 | AB13: -300 | AC13: 200 | AD13: -900 | AE13: 102800
B14: 前年度 同期比 | C14: 1.1732022 | D14: 1.0471698 | E14: 1.0466321 | F14: 1.0516129 | G14: 0.96323529 | H14: 1.053206 | I14: - | J14: 1.0607843 | K14: 1 | L14: 1.009434 | M14: 1.0810811 | N14: - | O14: 1.2 | P14: 5.2 | Q14: 皆増 | R14: 1.1034483 | S14: 1.0769231 | T14: 1.097561 | U14: 0.89285714 | V14: 1 | W14: - | X14: - | Y14: 1.125 | Z14: - | AA14: 1.0740741 | AB14: 0.90322581 | AC14: 1.0606061 | AD14: 0.60869565 | AE14: 1.6469478
B15: 今年度 構成比 | C15: 1 | D15: 0.33956492 | E15: 0.04577385 | F15: 0.073872649 | G15: 0.029685022 | H15: 0.087468842 | I15: 0 | J15: 0.06129617 | K15: 0.0045320644 | L15: 0.012123272 | M15: 0.0045320644 | N15: 0 | O15: 0.0027192386 | P15: 0.0029458418 | Q15: 0.00011330161 | R15: 0.0036256515 | S15: 0.0047586676 | T15: 0.0050985724 | U15: 0.0056650804 | V15: 0.0036256515 | W15: 0 | X15: 0 | Y15: 0.0040788579 | Z15: 0 | AA15: 0.0032857467 | AB15: 0.003172445 | AC15: 0.0039655563 | AD15: 0.0015862225 | AE15: 0.29651031
A16: 暦年 | B16: 今年 | C16: 3360000 | D16: 1209800 | E16: 163500 | F16: 254200 | G16: 105500 | H16: 313500 | I16: 100 | J16: 223100 | K16: 16400 | L16: 45400 | M16: 21200 | N16: 100 | O16: 10200 | P16: 11000 | Q16: 200 | R16: 12600 | S16: 15000 | T16: 20700 | U16: 17000 | V16: 12900 | W16: 200 | X16: 100 | Y16: 15000 | Z16: 0 | AA16: 12900 | AB16: 13300 | AC16: 12900 | AD16: 3500 | AE16: 849700
A17: 1月～4月 累計 | B17: 前年 | C17: 2945800 | D17: 1132300 | E17: 155700 | F17: 234100 | G17: 106600 | H17: 302800 | I17: 0 | J17: 206400 | K17: 16200 | L17: 41400 | M17: 18800 | N17: 100 | O17: 8800 | P17: 4000 | Q17: 0 | R17: 12300 | S17: 14600 | T17: 16300 | U17: 17000 | V17: 12600 | W17: 200 | X17: 0 | Y17: 13600 | Z17: 0 | AA17: 11800 | AB17: 13300 | AC17: 12100 | AD17: 6600 | AE17: 588200
B18: 増減数 | C18: 414200 | D18: 77500 | E18: 7800 | F18: 20100 | G18: -1100 | H18: 10700 | I18: 100 | J18: 16700 | K18: 200 | L18: 4000 | M18: 2400 | N18: 0 | O18: 1400 | P18: 7000 | Q18: 200 | R18: 300 | S18: 400 | T18: 4400 | U18: 0 | V18: 300 | W18: 0 | X18: 100 | Y18: 1400 | Z18: 0 | AA18: 1100 | AB18: 0 | AC18: 800 | AD18: -3100 | AE18: 261500
B19: 前年 同期比 | C19: 1.140607 | D19: 1.0684448 | E19: 1.0500963 | F19: 1.0858607 | G19: 0.98968105 | H19: 1.0353369 | I19: 皆増 | J19: 1.0809109 | K19: 1.0123457 | L19: 1.0966184 | M19: 1.1276596 | N19: 1 | O19: 1.1590909 | P19: 2.75 | Q19: 皆増 | R19: 1.0243902 | S19: 1.0273973 | T19: 1.2699387 | U19: 1 | V19: 1.0238095 | W19: 1 | X19: 皆増 | Y19: 1.1029412 | Z19: - | AA19: 1.0932203 | AB19: 1 | AC19: 1.0661157 | AD19: 0.53030303 | AE19: 1.4445767
B20: 今年 構成比 | C20: 1 | D20: 0.36005952 | E20: 0.048660714 | F20: 0.075654762 | G20: 0.03139881 | H20: 0.093303571 | I20: 2.9761905e-05 | J20: 0.06639881 | K20: 0.0048809524 | L20: 0.013511905 | M20: 0.0063095238 | N20: 2.9761905e-05 | O20: 0.0030357143 | P20: 0.0032738095 | Q20: 5.952381e-05 | R20: 0.00375 | S20: 0.0044642857 | T20: 0.0061607143 | U20: 0.0050595238 | V20: 0.0038392857 | W20: 5.952381e-05 | X20: 2.9761905e-05 | Y20: 0.0044642857 | Z20: 0 | AA20: 0.0038392857 | AB20: 0.0039583333 | AC20: 0.0038392857 | AD20: 0.0010416667 | AE20: 0.2528869
A21: 注 | B21: １ 国内客には、沖縄県居住者は含まない。本土経由で来県する外国客は含む。
B22: 2 推計方法は、国内航路については、本土と沖縄県間に航路を有する航空及び船舶各社の航路別旅客輸送実績に同航路における入域観光客の混在率 (サンプリング調査）をデフレーターとして算出した。
B23: また、外国人については法務省出入国在留管理庁の公表資料及び船社代理店の資料に基づき沖縄県が推計。乗務員等を含む。
D25: 参考値 東京空港内訳 | H25: 参考値 FSC・LCC内訳
E26: 羽田 | F26: 成田 | I26: FSC | J26: LCC
D27: 令和7年4月 | E27: 265500 | F27: 34200 | H27: 令和7年4月 | I27: 517300 | J27: 100600
D28: 令和6年4月 | E28: 251300 | F28: 33900 | H28: 令和6年4月 | I28: 494400 | J28: 93700
D29: 増減数 | E29: 14200 | F29: 300 | H29: 増減数 | I29: 22900 | J29: 6900
D30: 前年 同月比 | E30: 1.0565062 | F30: 1.0088496 | H30: 前年 同月比 | I30: 1.0463188 | J30: 1.0736393 | L30: ※羽田・成田内訳、FSC・LCC観光客数は海路客を除く
D31: 当月 構成比 | E31: 0.33770033 | F31: 0.043500382 | H31: FSC・LCC 比率 | I31: 0.83719048 | J31: 0.16280952 | L31: ※観光客数算出の方法上、東京と羽田＋成田の合計値が一致しない場合、 前年の東京の値と一致しない場合があります。

Sheet ４月（３表）
A1: =令和７年度!A1 -> 令和７年度 | E1: =RIGHT(CELL("filename",$A$1),LEN(CELL("filename",$A$1))-FIND("]",CELL("filename",$A$1))) -> ４月（３表） | F1: 入 域 観 光 客 統 計 月 報
A3: 第３表 国籍別入域観光客数
B4: 区分 | D4: 1 | E4: 2 | F4: 3 | G4: 4 | H4: 5 | I4: 6 | J4: 7 | K4: 8 | L4: 9 | M4: 10 | N4: 11 | O4: 12 | P4: 13 | Q4: 14
A5: 期間 | C5: 外国人総数 | D5: 台湾 | E5: 韓国 | F5: 中国本土 | G5: 香港 | H5: アメリカ | I5: カナダ | J5: イギリス（本国） | K5: フランス | L5: タイ | M5: シンガポール | N5: マレーシア | O5: インドネシア | P5: ｵｰｽﾄﾗﾘｱ | Q5: その他
A6: 月間 | B6: 令和7年4月 | C6: 261700 | D6: 96500 | E6: 46400 | F6: 39100 | G6: 22800 | H6: 6000 | I6: 1600 | J6: 1500 | K6: 600 | L6: 2700 | M6: 2800 | N6: 1100 | O6: 800 | P6: 2500 | Q6: 37300
B7: 令和6年4月 | C7: 158900 | D7: 67700 | E7: 27400 | F7: 16000 | G7: 13700 | H7: 5100 | I7: 1200 | J7: 1900 | K7: 400 | L7: 1900 | M7: 1300 | N7: 600 | O7: 300 | P7: 1400 | Q7: 20000
B8: 増減数 | C8: 102800 | D8: 28800 | E8: 19000 | F8: 23100 | G8: 9100 | H8: 900 | I8: 400 | J8: -400 | K8: 200 | L8: 800 | M8: 1500 | N8: 500 | O8: 500 | P8: 1100 | Q8: 17300
B9: 前年 同月比 | C9: 1.6469478 | D9: 1.4254062 | E9: 1.6934307 | F9: 2.44375 | G9: 1.6642336 | H9: 1.1764706 | I9: 1.3333333 | J9: 0.78947368 | K9: 1.5 | L9: 1.4210526 | M9: 2.1538462 | N9: 1.8333333 | O9: 2.6666667 | P9: 1.7857143 | Q9: 1.865
B10: 今年度 構成比 | C10: 1 | D10: 0.36874284 | E10: 0.17730225 | F10: 0.14940772 | G10: 0.08712266 | H10: 0.022927016 | I10: 0.0061138708 | J10: 0.0057317539 | K10: 0.0022927016 | L10: 0.010317157 | M10: 0.010699274 | N10: 0.0042032862 | O10: 0.0030569354 | P10: 0.0095529232 | Q10: 0.14252961
A11: 年度 | B11: 今年度 | C11: 261700 | D11: 96500 | E11: 46400 | F11: 39100 | G11: 22800 | H11: 6000 | I11: 1600 | J11: 1500 | K11: 600 | L11: 2700 | M11: 2800 | N11: 1100 | O11: 800 | P11: 2500 | Q11: 37300
A12: ４月累計 | B12: 前年度 | C12: 158900 | D12: 67700 | E12: 27400 | F12: 16000 | G12: 13700 | H12: 5100 | I12: 1200 | J12: 1900 | K12: 400 | L12: 1900 | M12: 1300 | N12: 600 | O12: 300 | P12: 1400 | Q12: 20000
B13: 増減数 | C13: 102800 | D13: 28800 | E13: 19000 | F13: 23100 | G13: 9100 | H13: 900 | I13: 400 | J13: -400 | K13: 200 | L13: 800 | M13: 1500 | N13: 500 | O13: 500 | P13: 1100 | Q13: 17300
B14: 前年度 同期比 | C14: 1.6469478 | D14: 1.4254062 | E14: 1.6934307 | F14: 2.44375 | G14: 1.6642336 | H14: 1.1764706 | I14: 1.3333333 | J14: 0.78947368 | K14: 1.5 | L14: 1.4210526 | M14: 2.1538462 | N14: 1.8333333 | O14: 2.6666667 | P14: 1.7857143 | Q14: 1.865
B15: 今年度 構成比 | C15: 1 | D15: 0.36874284 | E15: 0.17730225 | F15: 0.14940772 | G15: 0.08712266 | H15: 0.022927016 | I15: 0.0061138708 | J15: 0.0057317539 | K15: 0.0022927016 | L15: 0.010317157 | M15: 0.010699274 | N15: 0.0042032862 | O15: 0.0030569354 | P15: 0.0095529232 | Q15: 0.14252961
A16: 暦年 | B16: 今年 | C16: 849700 | D16: 291900 | E16: 194700 | F16: 134700 | G16: 63000 | H16: 20500 | I16: 4900 | J16: 4700 | K16: 1300 | L16: 8100 | M16: 8200 | N16: 3800 | O16: 2100 | P16: 6100 | Q16: 105700
A17: 1月～4月 累計 | B17: 前年 | C17: 588200 | D17: 236800 | E17: 105700 | F17: 61800 | G17: 54200 | H17: 19700 | I17: 4700 | J17: 5900 | K17: 900 | L17: 3400 | M17: 5600 | N17: 2600 | O17: 800 | P17: 4000 | Q17: 82100
B18: 増減数 | C18: 261500 | D18: 55100 | E18: 89000 | F18: 72900 | G18: 8800 | H18: 800 | I18: 200 | J18: -1200 | K18: 400 | L18: 4700 | M18: 2600 | N18: 1200 | O18: 1300 | P18: 2100 | Q18: 23600
B19: 前年 同期比 | C19: 1.4445767 | D19: 1.2326858 | E19: 1.8420057 | F19: 2.1796117 | G19: 1.1623616 | H19: 1.0406091 | I19: 1.0425532 | J19: 0.79661017 | K19: 1.4444444 | L19: 2.3823529 | M19: 1.4642857 | N19: 1.4615385 | O19: 2.625 | P19: 1.525 | Q19: 1.2874543
B20: 今年 構成比 | C20: 1 | D20: 0.34353301 | E20: 0.2291397 | F20: 0.15852654 | G20: 0.074143815 | H20: 0.024126162 | I20: 0.0057667412 | J20: 0.005531364 | K20: 0.0015299517 | L20: 0.0095327763 | M20: 0.0096504649 | N20: 0.0044721666 | O20: 0.0024714605 | P20: 0.0071790044 | Q20: 0.12439685
A21: 注 | B21: ①外国人については法務省出入国在留管理庁及び船社代理店の資料に基づいており、乗務員等を含む。
B22: ②イギリス・フランスは、平成22年４月から表章を始めた。
B23: ③タイ、シンガポール、マレーシアは、平成23年４月から表章を始めた。
B24: ④インドネシアは、平成24年11月から表章を始めた。
B25: ⑤カナダ、オーストラリアは、平成28年４月から表章を始めた。
B26: ⑥乗務員等は、「その他」に一括計上している。

Sheet ５月（１表）
A1: =令和７年度!A1 -> 令和７年度 | D1: =RIGHT(CELL("filename",$A$1),LEN(CELL("filename",$A$1))-FIND("]",CELL("filename",$A$1))) -> ５月（１表） | E1: 入 域 観 光 客 統 計 月 報
A3: 第１表 入域観光客数 | K3: (単位:人、％)
B4: 区分 | C4: 入域観光客数（総数）
F5: 空路海路別内訳
A6: 期間 | D6: 国内 | E6: 外国 | F6: 空路計 | I6: 海路計
G7: 国内 | H7: 外国 | J7: 国内 | K7: 外国
A8: 月間 | B8: 令和7年5月 | C8: 842600 | D8: 601000 | E8: 241600 | F8: 755000 | G8: 588300 | H8: 166700 | I8: 87600 | J8: 12700 | K8: 74900
B9: 令和6年5月 | C9: 710400 | D9: 561500 | E9: 148900 | F9: 671000 | G9: 559500 | H9: 111500 | I9: 39400 | J9: 2000 | K9: 37400
B10: 増減数 | C10: 132200 | D10: 39500 | E10: 92700 | F10: 84000 | G10: 28800 | H10: 55200 | I10: 48200 | J10: 10700 | K10: 37500
B11: 前年 同月比 | C11: 1.1860923 | D11: 1.0703473 | E11: 1.6225655 | F11: 1.1251863 | G11: 1.0514745 | H11: 1.4950673 | I11: 2.2233503 | J11: 6.35 | K11: 2.0026738
A12: 年度 | B12: 今年度 | C12: 1725200 | D12: 1221900 | E12: 503300 | F12: 1541200 | G12: 1206200 | H12: 335000 | I12: 184000 | J12: 15700 | K12: 168300
A13: 4月～5月 累計 | B13: 前年度 | C13: 1462700 | D13: 1154900 | E13: 307800 | F13: 1366600 | G13: 1147600 | H13: 219000 | I13: 96100 | J13: 7300 | K13: 88800
B14: 増減数 | C14: 262500 | D14: 67000 | E14: 195500 | F14: 174600 | G14: 58600 | H14: 116000 | I14: 87900 | J14: 8400 | K14: 79500
B15: 前年度 同期比 | C15: 1.1794626 | D15: 1.0580137 | E15: 1.6351527 | F15: 1.1277623 | G15: 1.0510631 | H15: 1.5296804 | I15: 1.9146722 | J15: 2.1506849 | K15: 1.8952703
A16: 暦年 | B16: 今年 | C16: 4202600 | D16: 3111300 | E16: 1091300 | F16: 3839900 | G16: 3088200 | H16: 751700 | I16: 362700 | J16: 23100 | K16: 339600
A17: 1月～5月 累計 | B17: 前年 | C17: 3656200 | D17: 2919100 | E17: 737100 | F17: 3406300 | G17: 2903300 | H17: 503000 | I17: 249900 | J17: 15800 | K17: 234100
B18: 増減数 | C18: 546400 | D18: 192200 | E18: 354200 | F18: 433600 | G18: 184900 | H18: 248700 | I18: 112800 | J18: 7300 | K18: 105500
B19: 前年 同期比 | C19: 1.1494448 | D19: 1.0658422 | E19: 1.4805318 | F19: 1.1272935 | G19: 1.0636862 | H19: 1.4944334 | I19: 1.4513806 | J19: 1.4620253 | K19: 1.4506621
D21: 【参考】外国客のうち、乗務員等の人数： | E21: 25800 | F21: （海路） | K21: 5

Sheet ５月（２表）
A1: =令和７年度!A1 -> 令和７年度 | E1: =RIGHT(CELL("filename",$A$1),LEN(CELL("filename",$A$1))-FIND("]",CELL("filename",$A$1))) -> ５月（２表） | F1: 入 域 観 光 客 統 計 月 報
A3: 第２表 航路別入域観光客数
B4: 区分 | D4: 1 | E4: 2 | F4: 3 | G4: 4 | H4: 5 | I4: 6 | J4: 7 | K4: 8 | L4: 9 | M4: 10 | N4: 11 | O4: 12 | P4: 13 | Q4: 14 | R4: 15 | S4: 16 | T4: 17 | U4: 18 | V4: 19 | W4: 20 | X4: 21 | Y4: 22 | Z4: 23 | AA4: 24 | AB4: 25 | AC4: 26 | AD4: 27 | AE4: 28
A5: 期間 | C5: 総数 | D5: 東京 | E5: 伊丹 | F5: 関西 | G5: 神戸 | H5: 福岡 | I5: 北九州 | J5: 名古屋 | K5: 札幌 | L5: 鹿児島 | M5: 仙台 | N5: 福島 | O5: 新潟 | P5: 静岡 | Q5: 富山 | R5: 小松 | S5: 岡山 | T5: 広島 | U5: 高松 | V5: 松山 | W5: 高知 | X5: 長崎 | Y5: 熊本 | Z5: 大分 | AA5: 宮崎 | AB5: 茨城 | AC5: 岩国 | AD5: その他 | AE5: 外国
A6: 月間 | B6: 令和7年5月 | C6: 842600 | D6: 281100 | E6: 42400 | F6: 69100 | G6: 25800 | H6: 73500 | I6: 0 | J6: 49200 | K6: 4000 | L6: 12100 | M6: 4100 | N6: 0 | O6: 2300 | P6: 2400 | Q6: 0 | R6: 3100 | S6: 4700 | T6: 4200 | U6: 4700 | V6: 3100 | W6: 0 | X6: 0 | Y6: 3200 | Z6: 0 | AA6: 2800 | AB6: 2700 | AC6: 3000 | AD6: 3500 | AE6: 241600
B7: 令和6年5月 | C7: 710400 | D7: 263400 | E7: 40900 | F7: 62200 | G7: 27400 | H7: 70600 | I7: 0 | J7: 45400 | K7: 4000 | L7: 10900 | M7: 3500 | N7: 0 | O7: 1900 | P7: 400 | Q7: 0 | R7: 2500 | S7: 4500 | T7: 4000 | U7: 6100 | V7: 2400 | W7: 0 | X7: 0 | Y7: 3100 | Z7: 0 | AA7: 2800 | AB7: 3200 | AC7: 2300 | AD7: 0 | AE7: 148900
B8: 増減数 | C8: 132200 | D8: 17700 | E8: 1500 | F8: 6900 | G8: -1600 | H8: 2900 | I8: 0 | J8: 3800 | K8: 0 | L8: 1200 | M8: 600 | N8: 0 | O8: 400 | P8: 2000 | Q8: 0 | R8: 600 | S8: 200 | T8: 200 | U8: -1400 | V8: 700 | W8: 0 | X8: 0 | Y8: 100 | Z8: 0 | AA8: 0 | AB8: -500 | AC8: 700 | AD8: 3500 | AE8: 92700
B9: 前年 同月比 | C9: 1.1860923 | D9: 1.0671982 | E9: 1.0366748 | F9: 1.1109325 | G9: 0.94160584 | H9: 1.0410765 | I9: - | J9: 1.0837004 | K9: 1 | L9: 1.1100917 | M9: 1.1714286 | N9: - | O9: 1.2105263 | P9: 6 | Q9: - | R9: 1.24 | S9: 1.0444444 | T9: 1.05 | U9: 0.7704918 | V9: 1.2916667 | W9: - | X9: - | Y9: 1.0322581 | Z9: - | AA9: 1 | AB9: 0.84375 | AC9: 1.3043478 | AD9: 皆増 | AE9: 1.6225655
B10: 当月 構成比 | C10: 1 | D10: 0.33361025 | E10: 0.050320437 | F10: 0.08200807 | G10: 0.030619511 | H10: 0.087230002 | I10: 0 | J10: 0.058390695 | K10: 0.004747211 | L10: 0.014360313 | M10: 0.0048658913 | N10: 0 | O10: 0.0027296463 | P10: 0.0028483266 | Q10: 0 | R10: 0.0036790885 | S10: 0.0055779729 | T10: 0.0049845716 | U10: 0.0055779729 | V10: 0.0036790885 | W10: 0 | X10: 0 | Y10: 0.0037977688 | Z10: 0 | AA10: 0.0033230477 | AB10: 0.0032043674 | AC10: 0.0035604083 | AD10: 0.0041538096 | AE10: 0.28673155
A11: 年度 | B11: 今年度 | C11: 1725200 | D11: 580800 | E11: 82800 | F11: 134300 | G11: 52000 | H11: 150700 | I11: 0 | J11: 103300 | K11: 8000 | L11: 22800 | M11: 8100 | N11: 0 | O11: 4700 | P11: 5000 | Q11: 100 | R11: 6300 | S11: 8900 | T11: 8700 | U11: 9700 | V11: 6300 | W11: 0 | X11: 0 | Y11: 6800 | Z11: 0 | AA11: 5700 | AB11: 5500 | AC11: 6500 | AD11: 4900 | AE11: 503300
A12: 4月～5月 累計 | B12: 前年度 | C12: 1462700 | D12: 549600 | E12: 79500 | F12: 124200 | G12: 54600 | H12: 143900 | I12: 0 | J12: 96400 | K12: 8000 | L12: 21500 | M12: 7200 | N12: 0 | O12: 3900 | P12: 900 | Q12: 0 | R12: 5400 | S12: 8400 | T12: 8100 | U12: 11700 | V12: 5600 | W12: 0 | X12: 0 | Y12: 6300 | Z12: 0 | AA12: 5500 | AB12: 6300 | AC12: 5600 | AD12: 2300 | AE12: 307800
B13: 増減数 | C13: 262500 | D13: 31200 | E13: 3300 | F13: 10100 | G13: -2600 | H13: 6800 | I13: 0 | J13: 6900 | K13: 0 | L13: 1300 | M13: 900 | N13: 0 | O13: 800 | P13: 4100 | Q13: 100 | R13: 900 | S13: 500 | T13: 600 | U13: -2000 | V13: 700 | W13: 0 | X13: 0 | Y13: 500 | Z13: 0 | AA13: 200 | AB13: -800 | AC13: 900 | AD13: 2600 | AE13: 195500
B14: 前年度 同期比 | C14: 1.1794626 | D14: 1.0567686 | E14: 1.0415094 | F14: 1.0813205 | G14: 0.95238095 | H14: 1.047255 | I14: - | J14: 1.0715768 | K14: 1 | L14: 1.0604651 | M14: 1.125 | N14: - | O14: 1.2051282 | P14: 5.5555556 | Q14: 皆増 | R14: 1.1666667 | S14: 1.0595238 | T14: 1.0740741 | U14: 0.82905983 | V14: 1.125 | W14: - | X14: - | Y14: 1.0793651 | Z14: - | AA14: 1.0363636 | AB14: 0.87301587 | AC14: 1.1607143 | AD14: 2.1304348 | AE14: 1.6351527
B15: 今年度 構成比 | C15: 1 | D15: 0.33665662 | E15: 0.047994435 | F15: 0.077846047 | G15: 0.030141433 | H15: 0.087352191 | I15: 0 | J15: 0.059877116 | K15: 0.0046371435 | L15: 0.013215859 | M15: 0.0046951078 | N15: 0 | O15: 0.0027243218 | P15: 0.0028982147 | Q15: 5.7964294e-05 | R15: 0.0036517505 | S15: 0.0051588222 | T15: 0.0050428936 | U15: 0.0056225365 | V15: 0.0036517505 | W15: 0 | X15: 0 | Y15: 0.003941572 | Z15: 0 | AA15: 0.0033039648 | AB15: 0.0031880362 | AC15: 0.0037676791 | AD15: 0.0028402504 | AE15: 0.29173429
A16: 暦年 | B16: 今年 | C16: 4202600 | D16: 1490900 | E16: 205900 | F16: 323300 | G16: 131300 | H16: 387000 | I16: 100 | J16: 272300 | K16: 20400 | L16: 57500 | M16: 25300 | N16: 100 | O16: 12500 | P16: 13400 | Q16: 200 | R16: 15700 | S16: 19700 | T16: 24900 | U16: 21700 | V16: 16000 | W16: 200 | X16: 100 | Y16: 18200 | Z16: 0 | AA16: 15700 | AB16: 16000 | AC16: 15900 | AD16: 7000 | AE16: 1091300
A17: 1月～5月 累計 | B17: 前年 | C17: 3656200 | D17: 1395700 | E17: 196600 | F17: 296300 | G17: 134000 | H17: 373400 | I17: 0 | J17: 251800 | K17: 20200 | L17: 52300 | M17: 22300 | N17: 100 | O17: 10700 | P17: 4400 | Q17: 0 | R17: 14800 | S17: 19100 | T17: 20300 | U17: 23100 | V17: 15000 | W17: 200 | X17: 0 | Y17: 16700 | Z17: 0 | AA17: 14600 | AB17: 16500 | AC17: 14400 | AD17: 6600 | AE17: 737100
B18: 増減数 | C18: 546400 | D18: 95200 | E18: 9300 | F18: 27000 | G18: -2700 | H18: 13600 | I18: 100 | J18: 20500 | K18: 200 | L18: 5200 | M18: 3000 | N18: 0 | O18: 1800 | P18: 9000 | Q18: 200 | R18: 900 | S18: 600 | T18: 4600 | U18: -1400 | V18: 1000 | W18: 0 | X18: 100 | Y18: 1500 | Z18: 0 | AA18: 1100 | AB18: -500 | AC18: 1500 | AD18: 400 | AE18: 354200
B19: 前年 同期比 | C19: 1.1494448 | D19: 1.0682095 | E19: 1.0473042 | F19: 1.0911239 | G19: 0.97985075 | H19: 1.0364221 | I19: 皆増 | J19: 1.0814138 | K19: 1.009901 | L19: 1.0994264 | M19: 1.1345291 | N19: 1 | O19: 1.1682243 | P19: 3.0454545 | Q19: 皆増 | R19: 1.0608108 | S19: 1.0314136 | T19: 1.226601 | U19: 0.93939394 | V19: 1.0666667 | W19: 1 | X19: 皆増 | Y19: 1.0898204 | Z19: - | AA19: 1.0753425 | AB19: 0.96969697 | AC19: 1.1041667 | AD19: 1.0606061 | AE19: 1.4805318
B20: 今年 構成比 | C20: 1 | D20: 0.35475658 | E20: 0.04899348 | F20: 0.076928568 | G20: 0.031242564 | H20: 0.092085852 | I20: 2.3794794e-05 | J20: 0.064793223 | K20: 0.0048541379 | L20: 0.013682006 | M20: 0.0060200828 | N20: 2.3794794e-05 | O20: 0.0029743492 | P20: 0.0031885024 | Q20: 4.7589587e-05 | R20: 0.0037357826 | S20: 0.0046875744 | T20: 0.0059249036 | U20: 0.0051634702 | V20: 0.003807167 | W20: 4.7589587e-05 | X20: 2.3794794e-05 | Y20: 0.0043306525 | Z20: 0 | AA20: 0.0037357826 | AB20: 0.003807167 | AC20: 0.0037833722 | AD20: 0.0016656356 | AE20: 0.25967258
A21: 注 | B21: １ 国内客には、沖縄県居住者は含まない。本土経由で来県する外国客は含む。
B22: 2 推計方法は、国内航路については、本土と沖縄県間に航路を有する航空及び船舶各社の航路別旅客輸送実績に同航路における入域観光客の混在率 (サンプリング調査）をデフレーターとして算出した。
B23: また、外国人については法務省出入国在留管理庁の公表資料及び船社代理店の資料に基づき沖縄県が推計。乗務員等を含む。
D25: 参考値 東京空港内訳 | H25: 参考値 FSC・LCC内訳
E26: 羽田 | F26: 成田 | I26: FSC | J26: LCC
D27: 令和7年5月 | E27: 241600 | F27: 32900 | H27: 令和7年5月 | I27: 485500 | J27: 102800
D28: 令和6年5月 | E28: 230800 | F28: 32700 | H28: 令和6年5月 | I28: 464500 | J28: 95000
D29: 増減数 | E29: 10800 | F29: 200 | H29: 増減数 | I29: 21000 | J29: 7800
D30: 前年 同月比 | E30: 1.0467938 | F30: 1.0061162 | H30: 前年 同月比 | I30: 1.0452099 | J30: 1.0821053 | L30: ※羽田・成田内訳、FSC・LCC観光客数は海路客を除く
D31: 当月 構成比 | E31: 0.32 | F31: 0.043576159 | H31: FSC・LCC 比率 | I31: 0.82525922 | J31: 0.17474078 | L31: ※観光客数算出の方法上、東京と羽田＋成田の合計値が一致しない場合、 前年の東京の値と一致しない場合があります。

Sheet ５月（３表）
A1: =令和７年度!A1 -> 令和７年度 | E1: =RIGHT(CELL("filename",$A$1),LEN(CELL("filename",$A$1))-FIND("]",CELL("filename",$A$1))) -> ５月（３表） | F1: 入 域 観 光 客 統 計 月 報
A3: 第３表 国籍別入域観光客数
B4: 区分 | D4: 1 | E4: 2 | F4: 3 | G4: 4 | H4: 5 | I4: 6 | J4: 7 | K4: 8 | L4: 9 | M4: 10 | N4: 11 | O4: 12 | P4: 13 | Q4: 14
A5: 期間 | C5: 外国人総数 | D5: 台湾 | E5: 韓国 | F5: 中国本土 | G5: 香港 | H5: アメリカ | I5: カナダ | J5: イギリス（本国） | K5: フランス | L5: タイ | M5: シンガポール | N5: マレーシア | O5: インドネシア | P5: ｵｰｽﾄﾗﾘｱ | Q5: その他
A6: 月間 | B6: 令和7年5月 | C6: 241600 | D6: 88500 | E6: 55200 | F6: 40300 | G6: 13900 | H6: 4100 | I6: 900 | J6: 800 | K6: 500 | L6: 2000 | M6: 2400 | N6: 900 | O6: 200 | P6: 800 | Q6: 31100
B7: 令和6年5月 | C7: 148900 | D7: 52000 | E7: 35200 | F7: 24700 | G7: 17300 | H7: 1800 | I7: 500 | J7: 500 | K7: 300 | L7: 1600 | M7: 1400 | N7: 400 | O7: 200 | P7: 300 | Q7: 12700
B8: 増減数 | C8: 92700 | D8: 36500 | E8: 20000 | F8: 15600 | G8: -3400 | H8: 2300 | I8: 400 | J8: 300 | K8: 200 | L8: 400 | M8: 1000 | N8: 500 | O8: 0 | P8: 500 | Q8: 18400
B9: 前年 同月比 | C9: 1.6225655 | D9: 1.7019231 | E9: 1.5681818 | F9: 1.6315789 | G9: 0.80346821 | H9: 2.2777778 | I9: 1.8 | J9: 1.6 | K9: 1.6666667 | L9: 1.25 | M9: 1.7142857 | N9: 2.25 | O9: 1 | P9: 2.6666667 | Q9: 2.4488189
B10: 今年度 構成比 | C10: 1 | D10: 0.36630795 | E10: 0.22847682 | F10: 0.16680464 | G10: 0.057533113 | H10: 0.016970199 | I10: 0.0037251656 | J10: 0.0033112583 | K10: 0.0020695364 | L10: 0.0082781457 | M10: 0.0099337748 | N10: 0.0037251656 | O10: 0.00082781457 | P10: 0.0033112583 | Q10: 0.12872517
A11: 年度 | B11: 今年度 | C11: 503300 | D11: 185000 | E11: 101600 | F11: 79400 | G11: 36700 | H11: 10100 | I11: 2500 | J11: 2300 | K11: 1100 | L11: 4700 | M11: 5200 | N11: 2000 | O11: 1000 | P11: 3300 | Q11: 68400
A12: 4月～5月 累計 | B12: 前年度 | C12: 307800 | D12: 119700 | E12: 62600 | F12: 40700 | G12: 31000 | H12: 6900 | I12: 1700 | J12: 2400 | K12: 700 | L12: 3500 | M12: 2700 | N12: 1000 | O12: 500 | P12: 1700 | Q12: 32700
B13: 増減数 | C13: 195500 | D13: 65300 | E13: 39000 | F13: 38700 | G13: 5700 | H13: 3200 | I13: 800 | J13: -100 | K13: 400 | L13: 1200 | M13: 2500 | N13: 1000 | O13: 500 | P13: 1600 | Q13: 35700
B14: 前年度 同期比 | C14: 1.6351527 | D14: 1.5455305 | E14: 1.6230032 | F14: 1.95086 | G14: 1.183871 | H14: 1.4637681 | I14: 1.4705882 | J14: 0.95833333 | K14: 1.5714286 | L14: 1.3428571 | M14: 1.9259259 | N14: 2 | O14: 2 | P14: 1.9411765 | Q14: 2.0917431
B15: 今年度 構成比 | C15: 1 | D15: 0.36757401 | E15: 0.20186767 | F15: 0.15775879 | G15: 0.072918736 | H15: 0.020067554 | I15: 0.0049672164 | J15: 0.0045698391 | K15: 0.0021855752 | L15: 0.0093383668 | M15: 0.01033181 | N15: 0.0039737731 | O15: 0.0019868865 | P15: 0.0065567256 | Q15: 0.13590304
A16: 暦年 | B16: 今年 | C16: 1091300 | D16: 380400 | E16: 249900 | F16: 175000 | G16: 76900 | H16: 24600 | I16: 5800 | J16: 5500 | K16: 1800 | L16: 10100 | M16: 10600 | N16: 4700 | O16: 2300 | P16: 6900 | Q16: 136800
A17: 1月～5月 累計 | B17: 前年 | C17: 737100 | D17: 288800 | E17: 140900 | F17: 86500 | G17: 71500 | H17: 21500 | I17: 5200 | J17: 6400 | K17: 1200 | L17: 5000 | M17: 7000 | N17: 3000 | O17: 1000 | P17: 4300 | Q17: 94800
B18: 増減数 | C18: 354200 | D18: 91600 | E18: 109000 | F18: 88500 | G18: 5400 | H18: 3100 | I18: 600 | J18: -900 | K18: 600 | L18: 5100 | M18: 3600 | N18: 1700 | O18: 1300 | P18: 2600 | Q18: 42000
B19: 前年 同期比 | C19: 1.4805318 | D19: 1.3171745 | E19: 1.7735983 | F19: 2.0231214 | G19: 1.0755245 | H19: 1.144186 | I19: 1.1153846 | J19: 0.859375 | K19: 1.5 | L19: 2.02 | M19: 1.5142857 | N19: 1.5666667 | O19: 2.3 | P19: 1.6046512 | Q19: 1.443038
B20: 今年 構成比 | C20: 1 | D20: 0.34857509 | E20: 0.22899294 | F20: 0.1603592 | G20: 0.070466416 | H20: 0.022541922 | I20: 0.0053147622 | J20: 0.0050398607 | K20: 0.001649409 | L20: 0.009255017 | M20: 0.0097131861 | N20: 0.0043067901 | O20: 0.0021075781 | P20: 0.0063227344 | Q20: 0.12535508
A21: 注 | B21: ①外国人については法務省出入国在留管理庁及び船社代理店の資料に基づいており、乗務員等を含む。
B22: ②イギリス・フランスは、平成22年４月から表章を始めた。
B23: ③タイ、シンガポール、マレーシアは、平成23年４月から表章を始めた。
B24: ④インドネシアは、平成24年11月から表章を始めた。
B25: ⑤カナダ、オーストラリアは、平成28年４月から表章を始めた。
B26: ⑥乗務員等は、「その他」に一括計上している。

Sheet ６月（１表）
A1: =令和７年度!A1 -> 令和７年度 | D1: =RIGHT(CELL("filename",$A$1),LEN(CELL("filename",$A$1))-FIND("]",CELL("filename",$A$1))) -> ６月（１表） | E1: 入 域 観 光 客 統 計 月 報
A3: 第１表 入域観光客数 | K3: (単位:人、％)
B4: 区分 | C4: 入域観光客数（総数）
F5: 空路海路別内訳
A6: 期間 | D6: 国内 | E6: 外国 | F6: 空路計 | I6: 海路計
G7: 国内 | H7: 外国 | J7: 国内 | K7: 外国
A8: 月間 | B8: 令和7年6月 | C8: 838900 | D8: 599700 | E8: 239200 | F8: 765600 | G8: 595800 | H8: 169800 | I8: 73300 | J8: 3900 | K8: 69400
B9: 令和6年6月 | C9: 748000 | D9: 577600 | E9: 170400 | F9: 693200 | G9: 572300 | H9: 120900 | I9: 54800 | J9: 5300 | K9: 49500
B10: 増減数 | C10: 90900 | D10: 22100 | E10: 68800 | F10: 72400 | G10: 23500 | H10: 48900 | I10: 18500 | J10: -1400 | K10: 19900
B11: 前年 同月比 | C11: 1.1215241 | D11: 1.0382618 | E11: 1.4037559 | F11: 1.1044432 | G11: 1.0410624 | H11: 1.4044665 | I11: 1.3375912 | J11: 0.73584906 | K11: 1.4020202
A12: 年度 | B12: 今年度 | C12: 2564100 | D12: 1821600 | E12: 742500 | F12: 2306800 | G12: 1802000 | H12: 504800 | I12: 257300 | J12: 19600 | K12: 237700
A13: 4月～6月 累計 | B13: 前年度 | C13: 2210700 | D13: 1732500 | E13: 478200 | F13: 2059800 | G13: 1719900 | H13: 339900 | I13: 150900 | J13: 12600 | K13: 138300
B14: 増減数 | C14: 353400 | D14: 89100 | E14: 264300 | F14: 247000 | G14: 82100 | H14: 164900 | I14: 106400 | J14: 7000 | K14: 99400
B15: 前年度 同期比 | C15: 1.1598589 | D15: 1.0514286 | E15: 1.5526976 | F15: 1.1199146 | G15: 1.0477353 | H15: 1.4851427 | I15: 1.7051027 | J15: 1.5555556 | K15: 1.7187274
A16: 暦年 | B16: 今年 | C16: 5041500 | D16: 3711000 | E16: 1330500 | F16: 4605500 | G16: 3684000 | H16: 921500 | I16: 436000 | J16: 27000 | K16: 409000
A17: 1月～6月 累計 | B17: 前年 | C17: 4404200 | D17: 3496700 | E17: 907500 | F17: 4099500 | G17: 3475600 | H17: 623900 | I17: 304700 | J17: 21100 | K17: 283600
B18: 増減数 | C18: 637300 | D18: 214300 | E18: 423000 | F18: 506000 | G18: 208400 | H18: 297600 | I18: 131300 | J18: 5900 | K18: 125400
B19: 前年 同期比 | C19: 1.1447028 | D19: 1.0612864 | E19: 1.4661157 | F19: 1.1234297 | G19: 1.0599609 | H19: 1.4769995 | I19: 1.4309157 | J19: 1.2796209 | K19: 1.4421721
D21: 【参考】外国客のうち、乗務員等の人数： | E21: 20300 | F21: （海路） | K21: 6

Sheet ６月（２表）
A1: =令和７年度!A1 -> 令和７年度 | E1: =RIGHT(CELL("filename",$A$1),LEN(CELL("filename",$A$1))-FIND("]",CELL("filename",$A$1))) -> ６月（２表） | F1: 入 域 観 光 客 統 計 月 報
A3: 第２表 航路別入域観光客数
B4: 区分 | D4: 1 | E4: 2 | F4: 3 | G4: 4 | H4: 5 | I4: 6 | J4: 7 | K4: 8 | L4: 9 | M4: 10 | N4: 11 | O4: 12 | P4: 13 | Q4: 14 | R4: 15 | S4: 16 | T4: 17 | U4: 18 | V4: 19 | W4: 20 | X4: 21 | Y4: 22 | Z4: 23 | AA4: 24 | AB4: 25 | AC4: 26 | AD4: 27 | AE4: 28
A5: 期間 | C5: 総数 | D5: 東京 | E5: 伊丹 | F5: 関西 | G5: 神戸 | H5: 福岡 | I5: 北九州 | J5: 名古屋 | K5: 札幌 | L5: 鹿児島 | M5: 仙台 | N5: 福島 | O5: 新潟 | P5: 静岡 | Q5: 富山 | R5: 小松 | S5: 岡山 | T5: 広島 | U5: 高松 | V5: 松山 | W5: 高知 | X5: 長崎 | Y5: 熊本 | Z5: 大分 | AA5: 宮崎 | AB5: 茨城 | AC5: 岩国 | AD5: その他 | AE5: 外国
A6: 月間 | B6: 令和7年6月 | C6: 838900 | D6: 287000 | E6: 42600 | F6: 65300 | G6: 26900 | H6: 76300 | I6: 0 | J6: 49900 | K6: 4000 | L6: 11100 | M6: 3800 | N6: 0 | O6: 0 | P6: 2400 | Q6: 0 | R6: 3000 | S6: 3300 | T6: 4000 | U6: 3700 | V6: 2900 | W6: 0 | X6: 0 | Y6: 3200 | Z6: 0 | AA6: 2800 | AB6: 2900 | AC6: 2800 | AD6: 1800 | AE6: 239200
B7: 令和6年6月 | C7: 748000 | D7: 278900 | E7: 40300 | F7: 61000 | G7: 27400 | H7: 71800 | I7: 0 | J7: 47200 | K7: 3900 | L7: 10100 | M7: 3800 | N7: 0 | O7: 0 | P7: 0 | Q7: 0 | R7: 2700 | S7: 3400 | T7: 4800 | U7: 4500 | V7: 2700 | W7: 0 | X7: 0 | Y7: 3100 | Z7: 0 | AA7: 2700 | AB7: 3300 | AC7: 2600 | AD7: 3400 | AE7: 170400
B8: 増減数 | C8: 90900 | D8: 8100 | E8: 2300 | F8: 4300 | G8: -500 | H8: 4500 | I8: 0 | J8: 2700 | K8: 100 | L8: 1000 | M8: 0 | N8: 0 | O8: 0 | P8: 2400 | Q8: 0 | R8: 300 | S8: -100 | T8: -800 | U8: -800 | V8: 200 | W8: 0 | X8: 0 | Y8: 100 | Z8: 0 | AA8: 100 | AB8: -400 | AC8: 200 | AD8: -1600 | AE8: 68800
B9: 前年 同月比 | C9: 1.1215241 | D9: 1.0290427 | E9: 1.057072 | F9: 1.0704918 | G9: 0.98175182 | H9: 1.0626741 | I9: - | J9: 1.0572034 | K9: 1.025641 | L9: 1.0990099 | M9: 1 | N9: - | O9: - | P9: 皆増 | Q9: - | R9: 1.1111111 | S9: 0.97058824 | T9: 0.83333333 | U9: 0.82222222 | V9: 1.0740741 | W9: - | X9: - | Y9: 1.0322581 | Z9: - | AA9: 1.037037 | AB9: 0.87878788 | AC9: 1.0769231 | AD9: 0.52941176 | AE9: 1.4037559
B10: 当月 構成比 | C10: 1 | D10: 0.34211467 | E10: 0.050780784 | F10: 0.077840029 | G10: 0.0320658 | H10: 0.090952438 | I10: 0 | J10: 0.059482656 | K10: 0.0047681488 | L10: 0.013231613 | M10: 0.0045297413 | N10: 0 | O10: 0 | P10: 0.0028608893 | Q10: 0 | R10: 0.0035761116 | S10: 0.0039337227 | T10: 0.0047681488 | U10: 0.0044105376 | V10: 0.0034569079 | W10: 0 | X10: 0 | Y10: 0.003814519 | Z10: 0 | AA10: 0.0033377041 | AB10: 0.0034569079 | AC10: 0.0033377041 | AD10: 0.0021456669 | AE10: 0.2851353
A11: 年度 | B11: 今年度 | C11: 2564100 | D11: 867800 | E11: 125400 | F11: 199600 | G11: 78900 | H11: 227000 | I11: 0 | J11: 153200 | K11: 12000 | L11: 33900 | M11: 11900 | N11: 0 | O11: 4700 | P11: 7400 | Q11: 100 | R11: 9300 | S11: 12200 | T11: 12700 | U11: 13400 | V11: 9200 | W11: 0 | X11: 0 | Y11: 10000 | Z11: 0 | AA11: 8500 | AB11: 8400 | AC11: 9300 | AD11: 6700 | AE11: 742500
A12: 4月～6月 累計 | B12: 前年度 | C12: 2210700 | D12: 828500 | E12: 119800 | F12: 185200 | G12: 82000 | H12: 215700 | I12: 0 | J12: 143600 | K12: 11900 | L12: 31600 | M12: 11000 | N12: 0 | O12: 3900 | P12: 900 | Q12: 0 | R12: 8100 | S12: 11800 | T12: 12900 | U12: 16200 | V12: 8300 | W12: 0 | X12: 0 | Y12: 9400 | Z12: 0 | AA12: 8200 | AB12: 9600 | AC12: 8200 | AD12: 5700 | AE12: 478200
B13: 増減数 | C13: 353400 | D13: 39300 | E13: 5600 | F13: 14400 | G13: -3100 | H13: 11300 | I13: 0 | J13: 9600 | K13: 100 | L13: 2300 | M13: 900 | N13: 0 | O13: 800 | P13: 6500 | Q13: 100 | R13: 1200 | S13: 400 | T13: -200 | U13: -2800 | V13: 900 | W13: 0 | X13: 0 | Y13: 600 | Z13: 0 | AA13: 300 | AB13: -1200 | AC13: 1100 | AD13: 1000 | AE13: 264300
B14: 前年度 同期比 | C14: 1.1598589 | D14: 1.0474351 | E14: 1.0467446 | F14: 1.0777538 | G14: 0.96219512 | H14: 1.0523876 | I14: - | J14: 1.0668524 | K14: 1.0084034 | L14: 1.0727848 | M14: 1.0818182 | N14: - | O14: 1.2051282 | P14: 8.2222222 | Q14: 皆増 | R14: 1.1481481 | S14: 1.0338983 | T14: 0.98449612 | U14: 0.82716049 | V14: 1.1084337 | W14: - | X14: - | Y14: 1.0638298 | Z14: - | AA14: 1.0365854 | AB14: 0.875 | AC14: 1.1341463 | AD14: 1.1754386 | AE14: 1.5526976
B15: 今年度 構成比 | C15: 1 | D15: 0.33844234 | E15: 0.048906049 | F15: 0.077844078 | G15: 0.030771031 | H15: 0.088530089 | I15: 0 | J15: 0.05974806 | K15: 0.0046800047 | L15: 0.013221013 | M15: 0.0046410046 | N15: 0 | O15: 0.0018330018 | P15: 0.0028860029 | Q15: 3.9000039e-05 | R15: 0.0036270036 | S15: 0.0047580048 | T15: 0.004953005 | U15: 0.0052260052 | V15: 0.0035880036 | W15: 0 | X15: 0 | Y15: 0.0039000039 | Z15: 0 | AA15: 0.0033150033 | AB15: 0.0032760033 | AC15: 0.0036270036 | AD15: 0.0026130026 | AE15: 0.28957529
A16: 暦年 | B16: 今年 | C16: 5041500 | D16: 1777900 | E16: 248500 | F16: 388600 | G16: 158200 | H16: 463300 | I16: 100 | J16: 322200 | K16: 24400 | L16: 68600 | M16: 29100 | N16: 100 | O16: 12500 | P16: 15800 | Q16: 200 | R16: 18700 | S16: 23000 | T16: 28900 | U16: 25400 | V16: 18900 | W16: 200 | X16: 100 | Y16: 21400 | Z16: 0 | AA16: 18500 | AB16: 18900 | AC16: 18700 | AD16: 8800 | AE16: 1330500
A17: 1月～6月 累計 | B17: 前年 | C17: 4404200 | D17: 1674600 | E17: 236900 | F17: 357300 | G17: 161400 | H17: 445200 | I17: 0 | J17: 299000 | K17: 24100 | L17: 62400 | M17: 26100 | N17: 100 | O17: 10700 | P17: 4400 | Q17: 0 | R17: 17500 | S17: 22500 | T17: 25100 | U17: 27600 | V17: 17700 | W17: 200 | X17: 0 | Y17: 19800 | Z17: 0 | AA17: 17300 | AB17: 19800 | AC17: 17000 | AD17: 10000 | AE17: 907500
B18: 増減数 | C18: 637300 | D18: 103300 | E18: 11600 | F18: 31300 | G18: -3200 | H18: 18100 | I18: 100 | J18: 23200 | K18: 300 | L18: 6200 | M18: 3000 | N18: 0 | O18: 1800 | P18: 11400 | Q18: 200 | R18: 1200 | S18: 500 | T18: 3800 | U18: -2200 | V18: 1200 | W18: 0 | X18: 100 | Y18: 1600 | Z18: 0 | AA18: 1200 | AB18: -900 | AC18: 1700 | AD18: -1200 | AE18: 423000
B19: 前年 同期比 | C19: 1.1447028 | D19: 1.0616864 | E19: 1.0489658 | F19: 1.0876015 | G19: 0.98017348 | H19: 1.0406559 | I19: 皆増 | J19: 1.077592 | K19: 1.0124481 | L19: 1.099359 | M19: 1.1149425 | N19: 1 | O19: 1.1682243 | P19: 3.5909091 | Q19: 皆増 | R19: 1.0685714 | S19: 1.0222222 | T19: 1.1513944 | U19: 0.92028986 | V19: 1.0677966 | W19: 1 | X19: 皆増 | Y19: 1.0808081 | Z19: - | AA19: 1.0693642 | AB19: 0.95454545 | AC19: 1.1 | AD19: 0.88 | AE19: 1.4661157
B20: 今年 構成比 | C20: 1 | D20: 0.35265298 | E20: 0.049290886 | F20: 0.077080234 | G20: 0.03137955 | H20: 0.091897253 | I20: 1.9835366e-05 | J20: 0.063909551 | K20: 0.0048398294 | L20: 0.013607061 | M20: 0.0057720916 | N20: 1.9835366e-05 | O20: 0.0024794208 | P20: 0.0031339879 | Q20: 3.9670733e-05 | R20: 0.0037092135 | S20: 0.0045621343 | T20: 0.0057324209 | U20: 0.0050381831 | V20: 0.0037488843 | W20: 3.9670733e-05 | X20: 1.9835366e-05 | Y20: 0.0042447684 | Z20: 0 | AA20: 0.0036695428 | AB20: 0.0037488843 | AC20: 0.0037092135 | AD20: 0.0017455122 | AE20: 0.26390955
A21: 注 | B21: １ 国内客には、沖縄県居住者は含まない。本土経由で来県する外国客は含む。
B22: 2 推計方法は、国内航路については、本土と沖縄県間に航路を有する航空及び船舶各社の航路別旅客輸送実績に同航路における入域観光客の混在率 (サンプリング調査）をデフレーターとして算出した。
B23: また、外国人については法務省出入国在留管理庁の公表資料及び船社代理店の資料に基づき沖縄県が推計。乗務員等を含む。
D25: 参考値 東京空港内訳 | H25: 参考値 FSC・LCC内訳
E26: 羽田 | F26: 成田 | I26: FSC | J26: LCC
D27: 令和7年6月 | E27: 253200 | F27: 33800 | H27: 令和7年6月 | I27: 497800 | J27: 98000
D28: 令和6年6月 | E28: 247400 | F28: 31500 | H28: 令和6年6月 | I28: 481600 | J28: 90700
D29: 増減数 | E29: 5800 | F29: 2300 | H29: 増減数 | I29: 16200 | J29: 7300
D30: 前年 同月比 | E30: 1.0234438 | F30: 1.0730159 | H30: 前年 同月比 | I30: 1.0336379 | J30: 1.0804851 | L30: ※羽田・成田内訳、FSC・LCC観光客数は海路客を除く
D31: 当月 構成比 | E31: 0.330721 | F31: 0.04414838 | H31: FSC・LCC 比率 | I31: 0.83551527 | J31: 0.16448473 | L31: ※観光客数算出の方法上、東京と羽田＋成田の合計値が一致しない場合、 前年の東京の値と一致しない場合があります。

Sheet ６月（３表）
A1: =令和７年度!A1 -> 令和７年度 | E1: =RIGHT(CELL("filename",$A$1),LEN(CELL("filename",$A$1))-FIND("]",CELL("filename",$A$1))) -> ６月（３表） | F1: 入 域 観 光 客 統 計 月 報
A3: 第３表 国籍別入域観光客数
B4: 区分 | D4: 1 | E4: 2 | F4: 3 | G4: 4 | H4: 5 | I4: 6 | J4: 7 | K4: 8 | L4: 9 | M4: 10 | N4: 11 | O4: 12 | P4: 13 | Q4: 14
A5: 期間 | C5: 外国人総数 | D5: 台湾 | E5: 韓国 | F5: 中国本土 | G5: 香港 | H5: アメリカ | I5: カナダ | J5: イギリス（本国） | K5: フランス | L5: タイ | M5: シンガポール | N5: マレーシア | O5: インドネシア | P5: ｵｰｽﾄﾗﾘｱ | Q5: その他
A6: 月間 | B6: 令和7年6月 | C6: 239200 | D6: 114900 | E6: 45000 | F6: 26700 | G6: 16800 | H6: 4200 | I6: 500 | J6: 600 | K6: 400 | L6: 1300 | M6: 3000 | N6: 700 | O6: 300 | P6: 700 | Q6: 24100
B7: 令和6年6月 | C7: 170400 | D7: 81800 | E7: 30900 | F7: 16400 | G7: 13700 | H7: 4200 | I7: 700 | J7: 500 | K7: 200 | L7: 1500 | M7: 1600 | N7: 500 | O7: 300 | P7: 800 | Q7: 17300
B8: 増減数 | C8: 68800 | D8: 33100 | E8: 14100 | F8: 10300 | G8: 3100 | H8: 0 | I8: -200 | J8: 100 | K8: 200 | L8: -200 | M8: 1400 | N8: 200 | O8: 0 | P8: -100 | Q8: 6800
B9: 前年 同月比 | C9: 1.4037559 | D9: 1.4046455 | E9: 1.4563107 | F9: 1.6280488 | G9: 1.2262774 | H9: 1 | I9: 0.71428571 | J9: 1.2 | K9: 2 | L9: 0.86666667 | M9: 1.875 | N9: 1.4 | O9: 1 | P9: 0.875 | Q9: 1.3930636
B10: 今年度 構成比 | C10: 1 | D10: 0.48035117 | E10: 0.18812709 | F10: 0.11162207 | G10: 0.070234114 | H10: 0.017558528 | I10: 0.002090301 | J10: 0.0025083612 | K10: 0.0016722408 | L10: 0.0054347826 | M10: 0.012541806 | N10: 0.0029264214 | O10: 0.0012541806 | P10: 0.0029264214 | Q10: 0.10075251
A11: 年度 | B11: 今年度 | C11: 742500 | D11: 299900 | E11: 146600 | F11: 106100 | G11: 53500 | H11: 14300 | I11: 3000 | J11: 2900 | K11: 1500 | L11: 6000 | M11: 8200 | N11: 2700 | O11: 1300 | P11: 4000 | Q11: 92500
A12: 4月～6月 累計 | B12: 前年度 | C12: 478200 | D12: 201500 | E12: 93500 | F12: 57100 | G12: 44700 | H12: 11100 | I12: 2400 | J12: 2900 | K12: 900 | L12: 5000 | M12: 4300 | N12: 1500 | O12: 800 | P12: 2500 | Q12: 50000
B13: 増減数 | C13: 264300 | D13: 98400 | E13: 53100 | F13: 49000 | G13: 8800 | H13: 3200 | I13: 600 | J13: 0 | K13: 600 | L13: 1000 | M13: 3900 | N13: 1200 | O13: 500 | P13: 1500 | Q13: 42500
B14: 前年度 同期比 | C14: 1.5526976 | D14: 1.4883375 | E14: 1.5679144 | F14: 1.8581436 | G14: 1.196868 | H14: 1.2882883 | I14: 1.25 | J14: 1 | K14: 1.6666667 | L14: 1.2 | M14: 1.9069767 | N14: 1.8 | O14: 1.625 | P14: 1.6 | Q14: 1.85
B15: 今年度 構成比 | C15: 1 | D15: 0.40390572 | E15: 0.19744108 | F15: 0.14289562 | G15: 0.072053872 | H15: 0.019259259 | I15: 0.004040404 | J15: 0.0039057239 | K15: 0.002020202 | L15: 0.0080808081 | M15: 0.011043771 | N15: 0.0036363636 | O15: 0.0017508418 | P15: 0.0053872054 | Q15: 0.12457912
A16: 暦年 | B16: 今年 | C16: 1330500 | D16: 495300 | E16: 294900 | F16: 201700 | G16: 93700 | H16: 28800 | I16: 6300 | J16: 6100 | K16: 2200 | L16: 11400 | M16: 13600 | N16: 5400 | O16: 2600 | P16: 7600 | Q16: 160900
A17: 1月～6月 累計 | B17: 前年 | C17: 907500 | D17: 370600 | E17: 171800 | F17: 102900 | G17: 85200 | H17: 25700 | I17: 5900 | J17: 6900 | K17: 1400 | L17: 6500 | M17: 8600 | N17: 3500 | O17: 1300 | P17: 5100 | Q17: 112100
B18: 増減数 | C18: 423000 | D18: 124700 | E18: 123100 | F18: 98800 | G18: 8500 | H18: 3100 | I18: 400 | J18: -800 | K18: 800 | L18: 4900 | M18: 5000 | N18: 1900 | O18: 1300 | P18: 2500 | Q18: 48800
B19: 前年 同期比 | C19: 1.4661157 | D19: 1.3364814 | E19: 1.7165308 | F19: 1.9601555 | G19: 1.0997653 | H19: 1.1206226 | I19: 1.0677966 | J19: 0.88405797 | K19: 1.5714286 | L19: 1.7538462 | M19: 1.5813953 | N19: 1.5428571 | O19: 2 | P19: 1.4901961 | Q19: 1.4353256
B20: 今年 構成比 | C20: 1 | D20: 0.37226607 | E20: 0.221646 | F20: 0.15159714 | G20: 0.070424652 | H20: 0.021645998 | I20: 0.004735062 | J20: 0.0045847426 | K20: 0.0016535137 | L20: 0.0085682074 | M20: 0.010221721 | N20: 0.0040586246 | O20: 0.0019541526 | P20: 0.0057121383 | Q20: 0.12093198
A21: 注 | B21: ①外国人については法務省出入国在留管理庁及び船社代理店の資料に基づいており、乗務員等を含む。
B22: ②イギリス・フランスは、平成22年４月から表章を始めた。
B23: ③タイ、シンガポール、マレーシアは、平成23年４月から表章を始めた。
B24: ④インドネシアは、平成24年11月から表章を始めた。
B25: ⑤カナダ、オーストラリアは、平成28年４月から表章を始めた。
B26: ⑥乗務員等は、「その他」に一括計上している。

Sheet ７月（１表）
A1: =令和７年度!A1 -> 令和７年度 | D1: =RIGHT(CELL("filename",$A$1),LEN(CELL("filename",$A$1))-FIND("]",CELL("filename",$A$1))) -> ７月（１表） | E1: 入 域 観 光 客 統 計 月 報
A3: 第１表 入域観光客数 | K3: (単位:人、％)
B4: 区分 | C4: 入域観光客数（総数）
F5: 空路海路別内訳
A6: 期間 | D6: 国内 | E6: 外国 | F6: 空路計 | I6: 海路計
G7: 国内 | H7: 外国 | J7: 国内 | K7: 外国
A8: 月間 | B8: 令和7年7月 | C8: 947600 | D8: 704200 | E8: 243400 | F8: 879500 | G8: 701900 | H8: 177600 | I8: 68100 | J8: 2300 | K8: 65800
B9: 令和6年7月 | C9: 915400 | D9: 692300 | E9: 223100 | F9: 823800 | G9: 689700 | H9: 134100 | I9: 91600 | J9: 2600 | K9: 89000
B10: 増減数 | C10: 32200 | D10: 11900 | E10: 20300 | F10: 55700 | G10: 12200 | H10: 43500 | I10: -23500 | J10: -300 | K10: -23200
B11: 前年 同月比 | C11: 1.0351759 | D11: 1.0171891 | E11: 1.0909906 | F11: 1.0676135 | G11: 1.0176889 | H11: 1.3243848 | I11: 0.74344978 | J11: 0.88461538 | K11: 0.73932584
A12: 年度 | B12: 今年度 | C12: 3511700 | D12: 2525800 | E12: 985900 | F12: 3186300 | G12: 2503900 | H12: 682400 | I12: 325400 | J12: 21900 | K12: 303500
A13: 4月～7月 累計 | B13: 前年度 | C13: 3126100 | D13: 2424800 | E13: 701300 | F13: 2883600 | G13: 2409600 | H13: 474000 | I13: 242500 | J13: 15200 | K13: 227300
B14: 増減数 | C14: 385600 | D14: 101000 | E14: 284600 | F14: 302700 | G14: 94300 | H14: 208400 | I14: 82900 | J14: 6700 | K14: 76200
B15: 前年度 同期比 | C15: 1.1233486 | D15: 1.0416529 | E15: 1.4058178 | F15: 1.104973 | G15: 1.0391351 | H15: 1.4396624 | I15: 1.3418557 | J15: 1.4407895 | K15: 1.3352398
A16: 暦年 | B16: 今年 | C16: 5989100 | D16: 4415200 | E16: 1573900 | F16: 5485000 | G16: 4385900 | H16: 1099100 | I16: 504100 | J16: 29300 | K16: 474800
A17: 1月～7月 累計 | B17: 前年 | C17: 5319600 | D17: 4189000 | E17: 1130600 | F17: 4923300 | G17: 4165300 | H17: 758000 | I17: 396300 | J17: 23700 | K17: 372600
B18: 増減数 | C18: 669500 | D18: 226200 | E18: 443300 | F18: 561700 | G18: 220600 | H18: 341100 | I18: 107800 | J18: 5600 | K18: 102200
B19: 前年 同期比 | C19: 1.1258553 | D19: 1.0539986 | E19: 1.3920927 | F19: 1.1140901 | G19: 1.0529614 | H19: 1.45 | I19: 1.2720161 | J19: 1.2362869 | K19: 1.2742888
D21: 【参考】外国客のうち、乗務員等の人数： | E21: 18800 | F21: （海路） | K21: 7

Sheet ７月（２表）
A1: =令和７年度!A1 -> 令和７年度 | E1: =RIGHT(CELL("filename",$A$1),LEN(CELL("filename",$A$1))-FIND("]",CELL("filename",$A$1))) -> ７月（２表） | F1: 入 域 観 光 客 統 計 月 報
A3: 第２表 航路別入域観光客数
B4: 区分 | D4: 1 | E4: 2 | F4: 3 | G4: 4 | H4: 5 | I4: 6 | J4: 7 | K4: 8 | L4: 9 | M4: 10 | N4: 11 | O4: 12 | P4: 13 | Q4: 14 | R4: 15 | S4: 16 | T4: 17 | U4: 18 | V4: 19 | W4: 20 | X4: 21 | Y4: 22 | Z4: 23 | AA4: 24 | AB4: 25 | AC4: 26 | AD4: 27 | AE4: 28
A5: 期間 | C5: 総数 | D5: 東京 | E5: 伊丹 | F5: 関西 | G5: 神戸 | H5: 福岡 | I5: 北九州 | J5: 名古屋 | K5: 札幌 | L5: 鹿児島 | M5: 仙台 | N5: 福島 | O5: 新潟 | P5: 静岡 | Q5: 富山 | R5: 小松 | S5: 岡山 | T5: 広島 | U5: 高松 | V5: 松山 | W5: 高知 | X5: 長崎 | Y5: 熊本 | Z5: 大分 | AA5: 宮崎 | AB5: 茨城 | AC5: 岩国 | AD5: その他 | AE5: 外国
A6: 月間 | B6: 令和7年7月 | C6: 947600 | D6: 353400 | E6: 50900 | F6: 67300 | G6: 29200 | H6: 84400 | I6: 0 | J6: 63600 | K6: 4200 | L6: 12300 | M6: 4600 | N6: 0 | O6: 0 | P6: 3100 | Q6: 0 | R6: 3200 | S6: 3700 | T6: 4200 | U6: 3400 | V6: 3200 | W6: 0 | X6: 0 | Y6: 3600 | Z6: 0 | AA6: 3200 | AB6: 3300 | AC6: 3400 | AD6: 0 | AE6: 243400
B7: 令和6年7月 | C7: 915400 | D7: 347800 | E7: 48000 | F7: 71600 | G7: 29100 | H7: 81800 | I7: 0 | J7: 56700 | K7: 4100 | L7: 12900 | M7: 5200 | N7: 0 | O7: 0 | P7: 2900 | Q7: 0 | R7: 3000 | S7: 3600 | T7: 4700 | U7: 4200 | V7: 3100 | W7: 0 | X7: 0 | Y7: 3700 | Z7: 0 | AA7: 3000 | AB7: 3700 | AC7: 3200 | AD7: 0 | AE7: 223100
B8: 増減数 | C8: 32200 | D8: 5600 | E8: 2900 | F8: -4300 | G8: 100 | H8: 2600 | I8: 0 | J8: 6900 | K8: 100 | L8: -600 | M8: -600 | N8: 0 | O8: 0 | P8: 200 | Q8: 0 | R8: 200 | S8: 100 | T8: -500 | U8: -800 | V8: 100 | W8: 0 | X8: 0 | Y8: -100 | Z8: 0 | AA8: 200 | AB8: -400 | AC8: 200 | AD8: 0 | AE8: 20300
B9: 前年 同月比 | C9: 1.0351759 | D9: 1.0161012 | E9: 1.0604167 | F9: 0.93994413 | G9: 1.0034364 | H9: 1.0317848 | I9: - | J9: 1.1216931 | K9: 1.0243902 | L9: 0.95348837 | M9: 0.88461538 | N9: - | O9: - | P9: 1.0689655 | Q9: - | R9: 1.0666667 | S9: 1.0277778 | T9: 0.89361702 | U9: 0.80952381 | V9: 1.0322581 | W9: - | X9: - | Y9: 0.97297297 | Z9: - | AA9: 1.0666667 | AB9: 0.89189189 | AC9: 1.0625 | AD9: - | AE9: 1.0909906
B10: 当月 構成比 | C10: 1 | D10: 0.37294217 | E10: 0.053714648 | F10: 0.071021528 | G10: 0.03081469 | H10: 0.089067117 | I10: 0 | J10: 0.067116927 | K10: 0.0044322499 | L10: 0.01298016 | M10: 0.0048543689 | N10: 0 | O10: 0 | P10: 0.0032714225 | Q10: 0 | R10: 0.0033769523 | S10: 0.0039046011 | T10: 0.0044322499 | U10: 0.0035880118 | V10: 0.0033769523 | W10: 0 | X10: 0 | Y10: 0.0037990713 | Z10: 0 | AA10: 0.0033769523 | AB10: 0.0034824821 | AC10: 0.0035880118 | AD10: 0 | AE10: 0.25685943
A11: 年度 | B11: 今年度 | C11: 3511700 | D11: 1221200 | E11: 176300 | F11: 266900 | G11: 108100 | H11: 311400 | I11: 0 | J11: 216800 | K11: 16200 | L11: 46200 | M11: 16500 | N11: 0 | O11: 4700 | P11: 10500 | Q11: 100 | R11: 12500 | S11: 15900 | T11: 16900 | U11: 16800 | V11: 12400 | W11: 0 | X11: 0 | Y11: 13600 | Z11: 0 | AA11: 11700 | AB11: 11700 | AC11: 12700 | AD11: 6700 | AE11: 985900
A12: 4月～7月 累計 | B12: 前年度 | C12: 3126100 | D12: 1176300 | E12: 167800 | F12: 256800 | G12: 111100 | H12: 297500 | I12: 0 | J12: 200300 | K12: 16000 | L12: 44500 | M12: 16200 | N12: 0 | O12: 3900 | P12: 3800 | Q12: 0 | R12: 11100 | S12: 15400 | T12: 17600 | U12: 20400 | V12: 11400 | W12: 0 | X12: 0 | Y12: 13100 | Z12: 0 | AA12: 11200 | AB12: 13300 | AC12: 11400 | AD12: 5700 | AE12: 701300
B13: 増減数 | C13: 385600 | D13: 44900 | E13: 8500 | F13: 10100 | G13: -3000 | H13: 13900 | I13: 0 | J13: 16500 | K13: 200 | L13: 1700 | M13: 300 | N13: 0 | O13: 800 | P13: 6700 | Q13: 100 | R13: 1400 | S13: 500 | T13: -700 | U13: -3600 | V13: 1000 | W13: 0 | X13: 0 | Y13: 500 | Z13: 0 | AA13: 500 | AB13: -1600 | AC13: 1300 | AD13: 1000 | AE13: 284600
B14: 前年度 同期比 | C14: 1.1233486 | D14: 1.0381705 | E14: 1.0506555 | F14: 1.0393302 | G14: 0.9729973 | H14: 1.0467227 | I14: - | J14: 1.0823764 | K14: 1.0125 | L14: 1.0382022 | M14: 1.0185185 | N14: - | O14: 1.2051282 | P14: 2.7631579 | Q14: 皆増 | R14: 1.1261261 | S14: 1.0324675 | T14: 0.96022727 | U14: 0.82352941 | V14: 1.0877193 | W14: - | X14: - | Y14: 1.0381679 | Z14: - | AA14: 1.0446429 | AB14: 0.87969925 | AC14: 1.1140351 | AD14: 1.1754386 | AE14: 1.4058178
B15: 今年度 構成比 | C15: 1 | D15: 0.3477518 | E15: 0.050203605 | F15: 0.076003075 | G15: 0.030782812 | H15: 0.088675001 | I15: 0 | J15: 0.061736481 | K15: 0.0046131503 | L15: 0.013156021 | M15: 0.004698579 | N15: 0 | O15: 0.0013383831 | P15: 0.0029900048 | Q15: 2.8476237e-05 | R15: 0.0035595296 | S15: 0.0045277216 | T15: 0.004812484 | U15: 0.0047840077 | V15: 0.0035310533 | W15: 0 | X15: 0 | Y15: 0.0038727682 | Z15: 0 | AA15: 0.0033317197 | AB15: 0.0033317197 | AC15: 0.003616482 | AD15: 0.0019079079 | AE15: 0.28074722
A16: 暦年 | B16: 今年 | C16: 5989100 | D16: 2131300 | E16: 299400 | F16: 455900 | G16: 187400 | H16: 547700 | I16: 100 | J16: 385800 | K16: 28600 | L16: 80900 | M16: 33700 | N16: 100 | O16: 12500 | P16: 18900 | Q16: 200 | R16: 21900 | S16: 26700 | T16: 33100 | U16: 28800 | V16: 22100 | W16: 200 | X16: 100 | Y16: 25000 | Z16: 0 | AA16: 21700 | AB16: 22200 | AC16: 22100 | AD16: 8800 | AE16: 1573900
A17: 1月～7月 累計 | B17: 前年 | C17: 5319600 | D17: 2022400 | E17: 284900 | F17: 428900 | G17: 190500 | H17: 527000 | I17: 0 | J17: 355700 | K17: 28200 | L17: 75300 | M17: 31300 | N17: 100 | O17: 10700 | P17: 7300 | Q17: 0 | R17: 20500 | S17: 26100 | T17: 29800 | U17: 31800 | V17: 20800 | W17: 200 | X17: 0 | Y17: 23500 | Z17: 0 | AA17: 20300 | AB17: 23500 | AC17: 20200 | AD17: 10000 | AE17: 1130600
B18: 増減数 | C18: 669500 | D18: 108900 | E18: 14500 | F18: 27000 | G18: -3100 | H18: 20700 | I18: 100 | J18: 30100 | K18: 400 | L18: 5600 | M18: 2400 | N18: 0 | O18: 1800 | P18: 11600 | Q18: 200 | R18: 1400 | S18: 600 | T18: 3300 | U18: -3000 | V18: 1300 | W18: 0 | X18: 100 | Y18: 1500 | Z18: 0 | AA18: 1400 | AB18: -1300 | AC18: 1900 | AD18: -1200 | AE18: 443300
