Workbook

Sheet R７まとめ
A1: 第１表 入域観光客数 | K1: (単位:人、％)
B2: 区分 | C2: 入域観光客数（総数）
F3: 空路海路別内訳
A4: 期間 | D4: 国内 | E4: 外国 | F4: 空路計 | I4: 海路計
G5: 国内 | H5: 外国 | J5: 国内 | K5: 外国
A6: 年度 | B6: 今年度 | C6: 10935300 | D6: 7994400 | E6: 2940900 | F6: 10029800 | G6: 7950700 | H6: 2079100 | I6: 905500 | J6: 43700 | K6: 861800
B7: 前年度 | C7: 9952700 | D7: 7661200 | E7: 2291500 | F7: 9145300 | G7: 7622200 | H7: 1523100 | I7: 807400 | J7: 39000 | K7: 768400
B8: 増減数 | C8: 982600 | D8: 333200 | E8: 649400 | F8: 884500 | G8: 328500 | H8: 556000 | I8: 98100 | J8: 4700 | K8: 93400
B9: 前年度比 | C9: 1.098727 | D9: 1.0434919 | E9: 1.2833952 | F9: 1.0967163 | G9: 1.0430978 | H9: 1.365045 | I9: 1.1215011 | J9: 1.1205128 | K9: 1.1215513
A11: 第２表 航路別入域観光客数
B12: 区分 | D12: 1 | E12: 2 | F12: 3 | G12: 4 | H12: 5 | I12: 6 | J12: 7 | K12: 8 | L12: 9 | M12: 10 | N12: 11 | O12: 12 | P12: 13 | Q12: 14 | R12: 15 | S12: 16 | T12: 17 | U12: 18 | V12: 19 | W12: 20 | X12: 21 | Y12: 22 | Z12: 23 | AA12: 24 | AB12: 25 | AC12: 26 | AD12: 27 | AE12: 28
A13: 期間 | C13: 総数 | D13: 東京 | E13: 伊丹 | F13: 関西 | G13: 神戸 | H13: 福岡 | I13: 北九州 | J13: 名古屋 | K13: 札幌 | L13: 鹿児島 | M13: 仙台 | N13: 福島 | O13: 新潟 | P13: 静岡 | Q13: 富山 | R13: 小松 | S13: 岡山 | T13: 広島 | U13: 高松 | V13: 松山 | W13: 高知 | X13: 長崎 | Y13: 熊本 | Z13: 大分 | AA13: 宮崎 | AB13: 茨城 | AC13: 岩国 | AD13: その他 | AE13: 外国
A14: 年度 | B14: 今年度 | C14: 10935300 | D14: 3901200 | E14: 550400 | F14: 779300 | G14: 340700 | H14: 1015600 | I14: 200 | J14: 699200 | K14: 49400 | L14: 144800 | M14: 56100 | N14: 800 | O14: 16600 | P14: 37900 | Q14: 500 | R14: 39400 | S14: 45300 | T14: 54600 | U14: 46300 | V14: 40500 | W14: 600 | X14: 100 | Y14: 43500 | Z14: 100 | AA14: 39400 | AB14: 40100 | AC14: 40800 | AD14: 11000 | AE14: 2940900
B15: 前年度 | C15: 9952700 | D15: 3740500 | E15: 512200 | F15: 781100 | G15: 334900 | H15: 951800 | I15: 100 | J15: 647900 | K15: 49300 | L15: 140700 | M15: 60300 | N15: 500 | O15: 17100 | P15: 26600 | Q15: 200 | R15: 37000 | S15: 43800 | T15: 57900 | U15: 53500 | V15: 37600 | W15: 500 | X15: 100 | Y15: 42500 | Z15: 0 | AA15: 37400 | AB15: 42100 | AC15: 37200 | AD15: 8400 | AE15: 2291500
B16: 増減数 | C16: 982600 | D16: 160700 | E16: 38200 | F16: -1800 | G16: 5800 | H16: 63800 | I16: 100 | J16: 51300 | K16: 100 | L16: 4100 | M16: -4200 | N16: 300 | O16: -500 | P16: 11300 | Q16: 300 | R16: 2400 | S16: 1500 | T16: -3300 | U16: -7200 | V16: 2900 | W16: 100 | X16: 0 | Y16: 1000 | Z16: 100 | AA16: 2000 | AB16: -2000 | AC16: 3600 | AD16: 2600 | AE16: 649400
B17: 前年度比 | C17: 1.098727 | D17: 1.0429622 | E17: 1.0745802 | F17: 0.99769556 | G17: 1.0173186 | H17: 1.0670309 | I17: 2 | J17: 1.0791789 | K17: 1.0020284 | L17: 1.02914 | M17: 0.93034826 | N17: 1.6 | O17: 0.97076023 | P17: 1.424812 | Q17: 2.5 | R17: 1.0648649 | S17: 1.0342466 | T17: 0.94300518 | U17: 0.86542056 | V17: 1.0771277 | W17: 1.2 | X17: 1 | Y17: 1.0235294 | Z17: 皆増 | AA17: 1.0534759 | AB17: 0.95249406 | AC17: 1.0967742 | AD17: 1.3095238 | AE17: 1.2833952
B18: 今年度 構成比 | C18: 1 | D18: 0.3567529 | E18: 0.05033241 | F18: 0.07126462 | G18: 0.031155981 | H18: 0.092873538 | I18: 1.8289393e-05 | J18: 0.063939718 | K18: 0.0045174801 | L18: 0.013241521 | M18: 0.0051301748 | N18: 7.3157572e-05 | O18: 0.0015180196 | P18: 0.00346584 | Q18: 4.5723483e-05 | R18: 0.0036030104 | S18: 0.0041425475 | T18: 0.0049930043 | U18: 0.0042339945 | V18: 0.0037036021 | W18: 5.4868179e-05 | X18: 9.1446965e-06 | Y18: 0.003977943 | Z18: 9.1446965e-06 | AA18: 0.0036030104 | AB18: 0.0036670233 | AC18: 0.0037310362 | AD18: 0.0010059166 | AE18: 0.26893638
A20: 第３表 国籍別入域観光客数
B21: 区分 | D21: 1 | E21: 2 | F21: 3 | G21: 4 | H21: 5 | I21: 6 | J21: 7 | K21: 8 | L21: 9 | M21: 10 | N21: 11 | O21: 12 | P21: 13 | Q21: 14
A22: 期間 | C22: 外国人総数 | D22: 台湾 | E22: 韓国 | F22: 中国本土 | G22: 香港 | H22: アメリカ | I22: カナダ | J22: イギリス（本国） | K22: フランス | L22: タイ | M22: シンガポール | N22: マレーシア | O22: インドネシア | P22: ｵｰｽﾄﾗﾘｱ | Q22: その他
A23: 年度 | B23: 今年度 | C23: 2940900 | D23: 1232600 | E23: 606600 | F23: 363500 | G23: 227100 | H23: 48700 | I23: 13100 | J23: 11500 | K23: 7800 | L23: 23600 | M23: 23600 | N23: 11000 | O23: 5400 | P23: 12600 | Q23: 353800
B24: 前年度 | C24: 2291500 | D24: 882800 | E24: 470900 | F24: 337300 | G24: 181200 | H24: 51100 | I24: 12100 | J24: 10800 | K24: 3600 | L24: 20600 | M24: 21400 | N24: 9100 | O24: 4200 | P24: 10700 | Q24: 275700
B25: 増減数 | C25: 649400 | D25: 349800 | E25: 135700 | F25: 26200 | G25: 45900 | H25: -2400 | I25: 1000 | J25: 700 | K25: 4200 | L25: 3000 | M25: 2200 | N25: 1900 | O25: 1200 | P25: 1900 | Q25: 78100
B26: 前年度比 | C26: 1.2833952 | D26: 1.3962392 | E26: 1.2881716 | F26: 1.0776757 | G26: 1.2533113 | H26: 0.95303327 | I26: 1.0826446 | J26: 1.0648148 | K26: 2.1666667 | L26: 1.1456311 | M26: 1.1028037 | N26: 1.2087912 | O26: 1.2857143 | P26: 1.1775701 | Q26: 1.2832789
B27: 今年度 構成比 | C27: 1 | D27: 0.4191234 | E27: 0.20626339 | F27: 0.12360162 | G27: 0.077221259 | H27: 0.016559557 | I27: 0.0044544187 | J27: 0.0039103676 | K27: 0.0026522493 | L27: 0.0080247543 | M27: 0.0080247543 | N27: 0.0037403516 | O27: 0.0018361726 | P27: 0.0042844027 | Q27: 0.12030331
A29: 外国客航路別入域者数
B30: 台湾 | C30: 韓国 | D30: 中国本土 | E30: 香港 | F30: アメリカ | G30: カナダ | H30: イギリス （本国） | I30: フランス | J30: ドイツ | K30: イタリア | L30: ロシア | M30: インドネシア | N30: タイ | O30: フィリピン | P30: ベトナム | Q30: シンガポール | R30: マレーシア | S30: インド | T30: オーストラリア | U30: その他 計 | V30: その他 （乗客） | W30: その他 （乗務員） | X30: 合計
A31: 空路
A32: 那覇空港 | B32: 948800 | C32: 522700 | D32: 162000 | E32: 176300 | F32: 29300 | G32: 8000 | H32: 7500 | I32: 5000 | J32: 6600 | K32: 2700 | L32: 4300 | M32: 3300 | N32: 21500 | O32: 4000 | P32: 2500 | Q32: 20200 | R32: 8000 | S32: 1300 | T32: 6900 | U32: 22200 | V32: 22200 | W32: 0 | X32: 1963100
A33: 石垣空港 | B33: 13600 | C33: 33100 | D33: 2500 | E33: 12300 | F33: 600 | G33: 300 | H33: 700 | I33: 400 | J33: 0 | K33: 100 | L33: 0 | M33: 0 | N33: 0 | O33: 0 | P33: 0 | Q33: 0 | R33: 0 | S33: 0 | T33: 0 | U33: 800 | V33: 800 | W33: 0 | X33: 64400
A34: 下地島空港 | B34: 6300 | C34: 39200 | D34: 1400 | E34: 2400 | F34: 100 | G34: 0 | H34: 0 | I34: 0 | J34: 0 | K34: 0 | L34: 0 | M34: 0 | N34: 0 | O34: 0 | P34: 0 | Q34: 0 | R34: 0 | S34: 0 | T34: 0 | U34: 0 | V34: 0 | X34: 49400
A35: 嘉手納出張所分（空） | B35: 0 | C35: 0 | D35: 0 | E35: 0 | F35: 2200 | G35: 0 | H35: 0 | I35: 0 | J35: 0 | K35: 0 | L35: 0 | M35: 0 | N35: 0 | O35: 0 | P35: 0 | Q35: 0 | R35: 0 | S35: 0 | T35: 0 | U35: 0 | V35: 0 | W35: 0 | X35: 2200
A36: 空路 計 | B36: 968700 | C36: 595000 | D36: 165900 | E36: 191000 | F36: 32200 | G36: 8300 | H36: 8200 | I36: 5400 | J36: 6600 | K36: 2800 | L36: 4300 | M36: 3300 | N36: 21500 | O36: 4000 | P36: 2500 | Q36: 20200 | R36: 8000 | S36: 1300 | T36: 6900 | U36: 23000 | V36: 23000 | W36: 0 | X36: 2079100
A37: 海路
A38: 那覇港 | B38: 186400 | C38: 6200 | D38: 125200 | E38: 20500 | F38: 9900 | G38: 2800 | H38: 1900 | I38: 1800 | J38: 5600 | K38: 2700 | L38: 2700 | M38: 1800 | N38: 1600 | O38: 9700 | P38: 300 | Q38: 2900 | R38: 2600 | S38: 500 | T38: 3300 | U38: 172500 | V38: 7500 | W38: 0 | X38: 560900
A39: 石垣港 | B39: 46000 | C39: 500 | D39: 42300 | E39: 12400 | F39: 6200 | G39: 1900 | H39: 1200 | I39: 600 | J39: 600 | K39: 200 | L39: 600 | M39: 300 | N39: 500 | O39: 6100 | P39: 0 | Q39: 500 | R39: 400 | S39: 200 | T39: 2100 | U39: 62700 | V39: 2900 | W39: 165000 | X39: 185300
A40: 平良港 | B40: 31500 | C40: 4900 | D40: 30100 | E40: 3200 | F40: 400 | G40: 100 | H40: 200 | I40: 0 | J40: 0 | K40: 0 | L40: 0 | M40: 0 | N40: 0 | O40: 2500 | P40: 0 | Q40: 0 | R40: 0 | S40: 0 | T40: 300 | U40: 42400 | V40: 4700 | W40: 59800 | X40: 115600
A41: 与那国港 | B41: 0 | C41: 0 | D41: 0 | E41: 0 | F41: 0 | G41: 0 | H41: 0 | I41: 0 | J41: 0 | K41: 0 | L41: 0 | M41: 0 | N41: 0 | O41: 0 | P41: 0 | Q41: 0 | R41: 0 | S41: 0 | T41: 0 | U41: 0 | V41: 0 | W41: 37700 | X41: 0
A42: 海路 計 | B42: 263900 | C42: 11600 | D42: 197600 | E42: 36100 | F42: 16500 | G42: 4800 | H42: 3300 | I42: 2400 | J42: 6200 | K42: 2900 | L42: 3300 | M42: 2100 | N42: 2100 | O42: 18300 | P42: 300 | Q42: 3400 | R42: 3000 | S42: 700 | T42: 5700 | U42: 277600 | V42: 15100 | W42: 0 | X42: 861800
A43: 合計 入域観光客数（外国） | B43: 1232600 | C43: 606600 | D43: 363500 | E43: 227100 | F43: 48700 | G43: 13100 | H43: 11500 | I43: 7800 | J43: 12800 | K43: 5700 | L43: 7600 | M43: 5400 | N43: 23600 | O43: 22300 | P43: 2800 | Q43: 23600 | R43: 11000 | S43: 2000 | T43: 12600 | U43: 300600 | V43: 38100 | W43: 262500 | X43: 2940900
A44: 構成比 | B44: 0.4191234 | C44: 0.20626339 | D44: 0.12360162 | E44: 0.077221259 | F44: 0.016559557 | G44: 0.0044544187 | H44: 0.0039103676 | I44: 0.0026522493 | J44: 0.0043524091 | K44: 0.0019381822 | L44: 0.0025842429 | M44: 0.0018361726 | N44: 0.0080247543 | O44: 0.0075827128 | P44: 0.0009520895 | Q44: 0.0080247543 | R44: 0.0037403516 | S44: 0.00068006393 | T44: 0.0042844027 | U44: 0.10221361

Sheet 令和７年度
A1: 令和７年度 | B1: 入域観光客数
A2: 月 | B2: 実績 | E2: リンク（月ごと）
B3: 総数 | C3: 国内客数 | D3: 外国客数 | E3: 月間
A4: ４月 | B4: =C4+D4 -> 882600 | C4: ='４月（１表）'!$D$8 -> 620900 | D4: ='４月（１表）'!$E$8 -> 261700 | E4: ４月（１表） | F4: ４月（２表） | G4: ４月（３表）
A5: ５月 | B5: =C5+D5 -> 842600 | C5: ='５月（１表）'!$D$8 -> 601000 | D5: ='５月（１表）'!$E$8 -> 241600 | E5: ５月（１表） | F5: ５月（２表） | G5: ５月（３表）
A6: ６月 | B6: =C6+D6 -> 838900 | C6: ='６月（１表）'!$D$8 -> 599700 | D6: ='６月（１表）'!$E$8 -> 239200 | E6: ６月（１表） | F6: ６月（２表） | G6: ６月（３表）
A7: ７月 | B7: =C7+D7 -> 947600 | C7: ='７月（１表）'!$D$8 -> 704200 | D7: ='７月（１表）'!$E$8 -> 243400 | E7: ７月（１表） | F7: ７月（２表） | G7: ７月（３表）
A8: ８月 | B8: =C8+D8 -> 1074900 | C8: ='８月（１表）'!$D$8 -> 783500 | D8: ='８月（１表）'!$E$8 -> 291400 | E8: ８月（１表） | F8: ８月（２表） | G8: ８月（３表）
A9: ９月 | B9: =C9+D9 -> 948600 | C9: ='９月（１表）'!$D$8 -> 685700 | D9: ='９月（１表）'!$E$8 -> 262900 | E9: ９月（１表） | F9: ９月（２表） | G9: ９月（３表）
A10: １０月 | B10: =C10+D10 -> 986100 | C10: ='10月（１表）'!$D$8 -> 725200 | D10: ='10月（１表）'!$E$8 -> 260900 | E10: 10月（１表） | F10: 10月（２表） | G10: 10月（３表）
A11: １１月 | B11: =C11+D11 -> 894500 | C11: ='11月（１表）'!$D$8 -> 662800 | D11: ='11月（１表）'!$E$8 -> 231700 | E11: 11月（１表） | F11: 11月（２表） | G11: 11月（３表）
A12: １２月 | B12: =C12+D12 -> 862800 | C12: ='12月（１表）'!$D$8 -> 648200 | D12: ='12月（１表）'!$E$8 -> 214600 | E12: 12月（１表） | F12: 12月（２表） | G12: 12月（３表）
A13: １月 | B13: =C13+D13 -> 836000 | C13: ='１月（１表）'!$D$8 -> 601400 | D13: ='１月（１表）'!$E$8 -> 234600 | E13: １月（１表） | F13: １月（２表） | G13: １月（３表）
A14: ２月 | B14: =C14+D14 -> 842800 | C14: ='２月（１表）'!$D$8 -> 623500 | D14: ='２月（１表）'!$E$8 -> 219300 | E14: ２月（１表） | F14: ２月（２表） | G14: ２月（３表）
A15: ３月 | B15: =C15+D15 -> 977900 | C15: ='３月（１表）'!$D$8 -> 738300 | D15: ='３月（１表）'!$E$8 -> 239600 | E15: ３月（１表） | F15: ３月（２表） | G15: ３月（３表）
A16: 合計 | B16: =SUM(B4:B15) -> 10935300 | C16: =SUM(C4:C15) -> 7994400 | D16: =SUM(D4:D15) -> 2940900 | E16: 月別入域観光客数の推移 | F16: （グラフ） | G16: （国内客グラフ）
E17: （外国客グラフ）
E18: ※上記の各セルをクリックすると、各月ごとのデータや、年度の集計・グラフのシートに移動します。
E19: ※移動後の各シートでは、シート左上の年度の表記をクリックすると、このシートに戻ります。

Sheet ４月（１表）
A1: =令和７年度!A1 -> 令和７年度 | D1: =RIGHT(CELL("filename",$A$1),LEN(CELL("filename",$A$1))-FIND("]",CELL("filename",$A$1))) -> ４月（１表） | E1: 入 域 観 光 客 統 計 月 報
A3: 第１表 入域観光客数 | K3: (単位:人、％)
B4: 区分 | C4: 入域観光客数（総数）
F5: 空路海路別内訳
A6: 期間 | D6: 国内 | E6: 外国 | F6: 空路計 | I6: 海路計
G7: 国内 | H7: 外国 | J7: 国内 | K7: 外国
A8: 月間 | B8: 令和7年4月 | C8: 882600 | D8: 620900 | E8: 261700 | F8: 786200 | G8: 617900 | H8: 168300 | I8: 96400 | J8: 3000 | K8: 93400
B9: 令和6年4月 | C9: 752300 | D9: 593400 | E9: 158900 | F9: 695600 | G9: 588100 | H9: 107500 | I9: 56700 | J9: 5300 | K9: 51400
B10: 増減数 | C10: 130300 | D10: 27500 | E10: 102800 | F10: 90600 | G10: 29800 | H10: 60800 | I10: 39700 | J10: -2300 | K10: 42000
B11: 前年 同月比 | C11: 1.1732022 | D11: 1.0463431 | E11: 1.6469478 | F11: 1.1302473 | G11: 1.0506717 | H11: 1.5655814 | I11: 1.7001764 | J11: 0.56603774 | K11: 1.8171206
A12: 年度 | B12: 今年度 | C12: 882600 | D12: 620900 | E12: 261700 | F12: 786200 | G12: 617900 | H12: 168300 | I12: 96400 | J12: 3000 | K12: 93400
A13: ４月累計 | B13: 前年度 | C13: 752300 | D13: 593400 | E13: 158900 | F13: 695600 | G13: 588100 | H13: 107500 | I13: 56700 | J13: 5300 | K13: 51400
B14: 増減数 | C14: 130300 | D14: 27500 | E14: 102800 | F14: 90600 | G14: 29800 | H14: 60800 | I14: 39700 | J14: -2300 | K14: 42000
B15: 前年度 同期比 | C15: 1.1732022 | D15: 1.0463431 | E15: 1.6469478 | F15: 1.1302473 | G15: 1.0506717 | H15: 1.5655814 | I15: 1.7001764 | J15: 0.56603774 | K15: 1.8171206
A16: 暦年 | B16: 今年 | C16: 3360000 | D16: 2510300 | E16: 849700 | F16: 3084900 | G16: 2499900 | H16: 585000 | I16: 275100 | J16: 10400 | K16: 264700
A17: 1月～4月 累計 | B17: 前年 | C17: 2945800 | D17: 2357600 | E17: 588200 | F17: 2735300 | G17: 2343800 | H17: 391500 | I17: 210500 | J17: 13800 | K17: 196700
B18: 増減数 | C18: 414200 | D18: 152700 | E18: 261500 | F18: 349600 | G18: 156100 | H18: 193500 | I18: 64600 | J18: -3400 | K18: 68000
B19: 前年 同期比 | C19: 1.140607 | D19: 1.0647693 | E19: 1.4445767 | F19: 1.1278105 | G19: 1.0666012 | H19: 1.4942529 | I19: 1.3068884 | J19: 0.75362319 | K19: 1.3457041
D21: 【参考】外国客のうち、乗務員等の人数： | E21: 27700 | F21: （海路） | K21: 4

Sheet ４月（２表）
A1: =令和７年度!A1 -> 令和７年度 | E1: =RIGHT(CELL("filename",$A$1),LEN(CELL("filename",$A$1))-FIND("]",CELL("filename",$A$1))) -> ４月（２表） | F1: 入 域 観 光 客 統 計 月 報
A3: 第２表 航路別入域観光客数
B4: 区分 | D4: 1 | E4: 2 | F4: 3 | G4: 4 | H4: 5 | I4: 6 | J4: 7 | K4: 8 | L4: 9 | M4: 10 | N4: 11 | O4: 12 | P4: 13 | Q4: 14 | R4: 15 | S4: 16 | T4: 17 | U4: 18 | V4: 19 | W4: 20 | X4: 21 | Y4: 22 | Z4: 23 | AA4: 24 | AB4: 25 | AC4: 26 | AD4: 27 | AE4: 28
A5: 期間 | C5: 総数 | D5: 東京 | E5: 伊丹 | F5: 関西 | G5: 神戸 | H5: 福岡 | I5: 北九州 | J5: 名古屋 | K5: 札幌 | L5: 鹿児島 | M5: 仙台 | N5: 福島 | O5: 新潟 | P5: 静岡 | Q5: 富山 | R5: 小松 | S5: 岡山 | T5: 広島 | U5: 高松 | V5: 松山 | W5: 高知 | X5: 長崎 | Y5: 熊本 | Z5: 大分 | AA5: 宮崎 | AB5: 茨城 | AC5: 岩国 | AD5: その他 | AE5: 外国
A6: 月間 | B6: 令和7年4月 | C6: 882600 | D6: 299700 | E6: 40400 | F6: 65200 | G6: 26200 | H6: 77200 | I6: 0 | J6: 54100 | K6: 4000 | L6: 10700 | M6: 4000 | N6: 0 | O6: 2400 | P6: 2600 | Q6: 100 | R6: 3200 | S6: 4200 | T6: 4500 | U6: 5000 | V6: 3200 | W6: 0 | X6: 0 | Y6: 3600 | Z6: 0 | AA6: 2900 | AB6: 2800 | AC6: 3500 | AD6: 1400 | AE6: 261700
B7: 令和6年4月 | C7: 752300 | D7: 286200 | E7: 38600 | F7: 62000 | G7: 27200 | H7: 73300 | I7: 0 | J7: 51000 | K7: 4000 | L7: 10600 | M7: 3700 | N7: 0 | O7: 2000 | P7: 500 | Q7: 0 | R7: 2900 | S7: 3900 | T7: 4100 | U7: 5600 | V7: 3200 | W7: 0 | X7: 0 | Y7: 3200 | Z7: 0 | AA7: 2700 | AB7: 3100 | AC7: 3300 | AD7: 2300 | AE7: 158900
B8: 増減数 | C8: 130300 | D8: 13500 | E8: 1800 | F8: 3200 | G8: -1000 | H8: 3900 | I8: 0 | J8: 3100 | K8: 0 | L8: 100 | M8: 300 | N8: 0 | O8: 400 | P8: 2100 | Q8: 100 | R8: 300 | S8: 300 | T8: 400 | U8: -600 | V8: 0 | W8: 0 | X8: 0 | Y8: 400 | Z8: 0 | AA8: 200 | AB8: -300 | AC8: 200 | AD8: -900 | AE8: 102800
B9: 前年 同月比 | C9: 1.1732022 | D9: 1.0471698 | E9: 1.0466321 | F9: 1.0516129 | G9: 0.96323529 | H9: 1.053206 | I9: - | J9: 1.0607843 | K9: 1 | L9: 1.009434 | M9: 1.0810811 | N9: - | O9: 1.2 | P9: 5.2 | Q9: 皆増 | R9: 1.1034483 | S9: 1.0769231 | T9: 1.097561 | U9: 0.89285714 | V9: 1 | W9: - | X9: - | Y9: 1.125 | Z9: - | AA9: 1.0740741 | AB9: 0.90322581 | AC9: 1.0606061 | AD9: 0.60869565 | AE9: 1.6469478
B10: 当月 構成比 | C10: 1 | D10: 0.33956492 | E10: 0.04577385 | F10: 0.073872649 | G10: 0.029685022 | H10: 0.087468842 | I10: 0 | J10: 0.06129617 | K10: 0.0045320644 | L10: 0.012123272 | M10: 0.0045320644 | N10: 0 | O10: 0.0027192386 | P10: 0.0029458418 | Q10: 0.00011330161 | R10: 0.0036256515 | S10: 0.0047586676 | T10: 0.0050985724 | U10: 0.0056650804 | V10: 0.0036256515 | W10: 0 | X10: 0 | Y10: 0.0040788579 | Z10: 0 | AA10: 0.0032857467 | AB10: 0.003172445 | AC10: 0.0039655563 | AD10: 0.0015862225 | AE10: 0.29651031
A11: 年度 | B11: 今年度 | C11: 882600 | D11: 299700 | E11: 40400 | F11: 65200 | G11: 26200 | H11: 77200 | I11: 0 | J11: 54100 | K11: 4000 | L11: 10700 | M11: 4000 | N11: 0 | O11: 2400 | P11: 2600 | Q11: 100 | R11: 3200 | S11: 4200 | T11: 4500 | U11: 5000 | V11: 3200 | W11: 0 | X11: 0 | Y11: 3600 | Z11: 0 | AA11: 2900 | AB11: 2800 | AC11: 3500 | AD11: 1400 | AE11: 261700
A12: ４月累計 | B12: 前年度 | C12: 752300 | D12: 286200 | E12: 38600 | F12: 62000 | G12: 27200 | H12: 73300 | I12: 0 | J12: 51000 | K12: 4000 | L12: 10600 | M12: 3700 | N12: 0 | O12: 2000 | P12: 500 | Q12: 0 | R12: 2900 | S12: 3900 | T12: 4100 | U12: 5600 | V12: 3200 | W12: 0 | X12: 0 | Y12: 3200 | Z12: 0 | AA12: 2700 | AB12: 3100 | AC12: 3300 | AD12: 2300 | AE12: 158900
B13: 増減数 | C13: 130300 | D13: 13500 | E13: 1800 | F13: 3200 | G13: -1000 | H13: 3900 | I13: 0 | J13: 3100 | K13: 0 | L13: 100 | M13: 300 | N13: 0 | O13: 400 | P13: 2100 | Q13: 100 | R13: 300 | S13: 300 | T13: 400 | U13: -600 | V13: 0 | W13: 0 | X13: 0 | Y13: 400 | Z13: 0 | AA13: 200 | AB13: -300 | AC13: 200 | AD13: -900 | AE13: 102800
B14: 前年度 同期比 | C14: 1.1732022 | D14: 1.0471698 | E14: 1.0466321 | F14: 1.0516129 | G14: 0.96323529 | H14: 1.053206 | I14: - | J14: 1.0607843 | K14: 1 | L14: 1.009434 | M14: 1.0810811 | N14: - | O14: 1.2 | P14: 5.2 | Q14: 皆増 | R14: 1.1034483 | S14: 1.0769231 | T14: 1.097561 | U14: 0.89285714 | V14: 1 | W14: - | X14: - | Y14: 1.125 | Z14: - | AA14: 1.0740741 | AB14: 0.90322581 | AC14: 1.0606061 | AD14: 0.60869565 | AE14: 1.6469478
B15: 今年度 構成比 | C15: 1 | D15: 0.33956492 | E15: 0.04577385 | F15: 0.073872649 | G15: 0.029685022 | H15: 0.087468842 | I15: 0 | J15: 0.06129617 | K15: 0.0045320644 | L15: 0.012123272 | M15: 0.0045320644 | N15: 0 | O15: 0.0027192386 | P15: 0.0029458418 | Q15: 0.00011330161 | R15: 0.0036256515 | S15: 0.0047586676 | T15: 0.0050985724 | U15: 0.0056650804 | V15: 0.0036256515 | W15: 0 | X15: 0 | Y15: 0.0040788579 | Z15: 0 | AA15: 0.0032857467 | AB15: 0.003172445 | AC15: 0.0039655563 | AD15: 0.0015862225 | AE15: 0.29651031
A16: 暦年 | B16: 今年 | C16: 3360000 | D16: 1209800 | E16: 163500 | F16: 254200 | G16: 105500 | H16: 313500 | I16: 100 | J16: 223100 | K16: 16400 | L16: 45400 | M16: 21200 | N16: 100 | O16: 10200 | P16: 11000 | Q16: 200 | R16: 12600 | S16: 15000 | T16: 20700 | U16: 17000 | V16: 12900 | W16: 200 | X16: 100 | Y16: 15000 | Z16: 0 | AA16: 12900 | AB16: 13300 | AC16: 12900 | AD16: 3500 | AE16: 849700
A17: 1月～4月 累計 | B17: 前年 | C17: 2945800 | D17: 1132300 | E17: 155700 | F17: 234100 | G17: 106600 | H17: 302800 | I17: 0 | J17: 206400 | K17: 16200 | L17: 41400 | M17: 18800 | N17: 100 | O17: 8800 | P17: 4000 | Q17: 0 | R17: 12300 | S17: 14600 | T17: 16300 | U17: 17000 | V17: 12600 | W17: 200 | X17: 0 | Y17: 13600 | Z17: 0 | AA17: 11800 | AB17: 13300 | AC17: 12100 | AD17: 6600 | AE17: 588200
B18: 増減数 | C18: 414200 | D18: 77500 | E18: 7800 | F18: 20100 | G18: -1100 | H18: 10700 | I18: 100 | J18: 16700 | K18: 200 | L18: 4000 | M18: 2400 | N18: 0 | O18: 1400 | P18: 7000 | Q18: 200 | R18: 300 | S18: 400 | T18: 4400 | U18: 0 | V18: 300 | W18: 0 | X18: 100 | Y18: 1400 | Z18: 0 | AA18: 1100 | AB18: 0 | AC18: 800 | AD18: -3100 | AE18: 261500
B19: 前年 同期比 | C19: 1.140607 | D19: 1.0684448 | E19: 1.0500963 | F19: 1.0858607 | G19: 0.98968105 | H19: 1.0353369 | I19: 皆増 | J19: 1.0809109 | K19: 1.0123457 | L19: 1.0966184 | M19: 1.1276596 | N19: 1 | O19: 1.1590909 | P19: 2.75 | Q19: 皆増 | R19: 1.0243902 | S19: 1.0273973 | T19: 1.2699387 | U19: 1 | V19: 1.0238095 | W19: 1 | X19: 皆増 | Y19: 1.1029412 | Z19: - | AA19: 1.0932203 | AB19: 1 | AC19: 1.0661157 | AD19: 0.53030303 | AE19: 1.4445767
B20: 今年 構成比 | C20: 1 | D20: 0.36005952 | E20: 0.048660714 | F20: 0.075654762 | G20: 0.03139881 | H20: 0.093303571 | I20: 2.9761905e-05 | J20: 0.06639881 | K20: 0.0048809524 | L20: 0.013511905 | M20: 0.0063095238 | N20: 2.9761905e-05 | O20: 0.0030357143 | P20: 0.0032738095 | Q20: 5.952381e-05 | R20: 0.00375 | S20: 0.0044642857 | T20: 0.0061607143 | U20: 0.0050595238 | V20: 0.0038392857 | W20: 5.952381e-05 | X20: 2.9761905e-05 | Y20: 0.0044642857 | Z20: 0 | AA20: 0.0038392857 | AB20: 0.0039583333 | AC20: 0.0038392857 | AD20: 0.0010416667 | AE20: 0.2528869
A21: 注 | B21: １ 国内客には、沖縄県居住者は含まない。本土経由で来県する外国客は含む。
B22: 2 推計方法は、国内航路については、本土と沖縄県間に航路を有する航空及び船舶各社の航路別旅客輸送実績に同航路における入域観光客の混在率 (サンプリング調査）をデフレーターとして算出した。
B23: また、外国人については法務省出入国在留管理庁の公表資料及び船社代理店の資料に基づき沖縄県が推計。乗務員等を含む。
D25: 参考値 東京空港内訳 | H25: 参考値 FSC・LCC内訳
E26: 羽田 | F26: 成田 | I26: FSC | J26: LCC
D27: 令和7年4月 | E27: 265500 | F27: 34200 | H27: 令和7年4月 | I27: 517300 | J27: 100600
D28: 令和6年4月 | E28: 251300 | F28: 33900 | H28: 令和6年4月 | I28: 494400 | J28: 93700
D29: 増減数 | E29: 14200 | F29: 300 | H29: 増減数 | I29: 22900 | J29: 6900
D30: 前年 同月比 | E30: 1.0565062 | F30: 1.0088496 | H30: 前年 同月比 | I30: 1.0463188 | J30: 1.0736393 | L30: ※羽田・成田内訳、FSC・LCC観光客数は海路客を除く
D31: 当月 構成比 | E31: 0.33770033 | F31: 0.043500382 | H31: FSC・LCC 比率 | I31: 0.83719048 | J31: 0.16280952 | L31: ※観光客数算出の方法上、東京と羽田＋成田の合計値が一致しない場合、 前年の東京の値と一致しない場合があります。

Sheet ４月（３表）
A1: =令和７年度!A1 -> 令和７年度 | E1: =RIGHT(CELL("filename",$A$1),LEN(CELL("filename",$A$1))-FIND("]",CELL("filename",$A$1))) -> ４月（３表） | F1: 入 域 観 光 客 統 計 月 報
A3: 第３表 国籍別入域観光客数
B4: 区分 | D4: 1 | E4: 2 | F4: 3 | G4: 4 | H4: 5 | I4: 6 | J4: 7 | K4: 8 | L4: 9 | M4: 10 | N4: 11 | O4: 12 | P4: 13 | Q4: 14
A5: 期間 | C5: 外国人総数 | D5: 台湾 | E5: 韓国 | F5: 中国本土 | G5: 香港 | H5: アメリカ | I5: カナダ | J5: イギリス（本国） | K5: フランス | L5: タイ | M5: シンガポール | N5: マレーシア | O5: インドネシア | P5: ｵｰｽﾄﾗﾘｱ | Q5: その他
A6: 月間 | B6: 令和7年4月 | C6: 261700 | D6: 96500 | E6: 46400 | F6: 39100 | G6: 22800 | H6: 6000 | I6: 1600 | J6: 1500 | K6: 600 | L6: 2700 | M6: 2800 | N6: 1100 | O6: 800 | P6: 2500 | Q6: 37300
B7: 令和6年4月 | C7: 158900 | D7: 67700 | E7: 27400 | F7: 16000 | G7: 13700 | H7: 5100 | I7: 1200 | J7: 1900 | K7: 400 | L7: 1900 | M7: 1300 | N7: 600 | O7: 300 | P7: 1400 | Q7: 20000
B8: 増減数 | C8: 102800 | D8: 28800 | E8: 19000 | F8: 23100 | G8: 9100 | H8: 900 | I8: 400 | J8: -400 | K8: 200 | L8: 800 | M8: 1500 | N8: 500 | O8: 500 | P8: 1100 | Q8: 17300
B9: 前年 同月比 | C9: 1.6469478 | D9: 1.4254062 | E9: 1.6934307 | F9: 2.44375 | G9: 1.6642336 | H9: 1.1764706 | I9: 1.3333333 | J9: 0.78947368 | K9: 1.5 | L9: 1.4210526 | M9: 2.1538462 | N9: 1.8333333 | O9: 2.6666667 | P9: 1.7857143 | Q9: 1.865
B10: 今年度 構成比 | C10: 1 | D10: 0.36874284 | E10: 0.17730225 | F10: 0.14940772 | G10: 0.08712266 | H10: 0.022927016 | I10: 0.0061138708 | J10: 0.0057317539 | K10: 0.0022927016 | L10: 0.010317157 | M10: 0.010699274 | N10: 0.0042032862 | O10: 0.0030569354 | P10: 0.0095529232 | Q10: 0.14252961
A11: 年度 | B11: 今年度 | C11: 261700 | D11: 96500 | E11: 46400 | F11: 39100 | G11: 22800 | H11: 6000 | I11: 1600 | J11: 1500 | K11: 600 | L11: 2700 | M11: 2800 | N11: 1100 | O11: 800 | P11: 2500 | Q11: 37300
A12: ４月累計 | B12: 前年度 | C12: 158900 | D12: 67700 | E12: 27400 | F12: 16000 | G12: 13700 | H12: 5100 | I12: 1200 | J12: 1900 | K12: 400 | L12: 1900 | M12: 1300 | N12: 600 | O12: 300 | P12: 1400 | Q12: 20000
B13: 増減数 | C13: 102800 | D13: 28800 | E13: 19000 | F13: 23100 | G13: 9100 | H13: 900 | I13: 400 | J13: -400 | K13: 200 | L13: 800 | M13: 1500 | N13: 500 | O13: 500 | P13: 1100 | Q13: 17300
B14: 前年度 同期比 | C14: 1.6469478 | D14: 1.4254062 | E14: 1.6934307 | F14: 2.44375 | G14: 1.6642336 | H14: 1.1764706 | I14: 1.3333333 | J14: 0.78947368 | K14: 1.5 | L14: 1.4210526 | M14: 2.1538462 | N14: 1.8333333 | O14: 2.6666667 | P14: 1.7857143 | Q14: 1.865
B15: 今年度 構成比 | C15: 1 | D15: 0.36874284 | E15: 0.17730225 | F15: 0.14940772 | G15: 0.08712266 | H15: 0.022927016 | I15: 0.0061138708 | J15: 0.0057317539 | K15: 0.0022927016 | L15: 0.010317157 | M15: 0.010699274 | N15: 0.0042032862 | O15: 0.0030569354 | P15: 0.0095529232 | Q15: 0.14252961
A16: 暦年 | B16: 今年 | C16: 849700 | D16: 291900 | E16: 194700 | F16: 134700 | G16: 63000 | H16: 20500 | I16: 4900 | J16: 4700 | K16: 1300 | L16: 8100 | M16: 8200 | N16: 3800 | O16: 2100 | P16: 6100 | Q16: 105700
A17: 1月～4月 累計 | B17: 前年 | C17: 588200 | D17: 236800 | E17: 105700 | F17: 61800 | G17: 54200 | H17: 19700 | I17: 4700 | J17: 5900 | K17: 900 | L17: 3400 | M17: 5600 | N17: 2600 | O17: 800 | P17: 4000 | Q17: 82100
B18: 増減数 | C18: 261500 | D18: 55100 | E18: 89000 | F18: 72900 | G18: 8800 | H18: 800 | I18: 200 | J18: -1200 | K18: 400 | L18: 4700 | M18: 2600 | N18: 1200 | O18: 1300 | P18: 2100 | Q18: 23600
B19: 前年 同期比 | C19: 1.4445767 | D19: 1.2326858 | E19: 1.8420057 | F19: 2.1796117 | G19: 1.1623616 | H19: 1.0406091 | I19: 1.0425532 | J19: 0.79661017 | K19: 1.4444444 | L19: 2.3823529 | M19: 1.4642857 | N19: 1.4615385 | O19: 2.625 | P19: 1.525 | Q19: 1.2874543
B20: 今年 構成比 | C20: 1 | D20: 0.34353301 | E20: 0.2291397 | F20: 0.15852654 | G20: 0.074143815 | H20: 0.024126162 | I20: 0.0057667412 | J20: 0.005531364 | K20: 0.0015299517 | L20: 0.0095327763 | M20: 0.0096504649 | N20: 0.0044721666 | O20: 0.0024714605 | P20: 0.0071790044 | Q20: 0.12439685
A21: 注 | B21: ①外国人については法務省出入国在留管理庁及び船社代理店の資料に基づいており、乗務員等を含む。
B22: ②イギリス・フランスは、平成22年４月から表章を始めた。
B23: ③タイ、シンガポール、マレーシアは、平成23年４月から表章を始めた。
B24: ④インドネシアは、平成24年11月から表章を始めた。
B25: ⑤カナダ、オーストラリアは、平成28年４月から表章を始めた。
B26: ⑥乗務員等は、「その他」に一括計上している。

Sheet ５月（１表）
A1: =令和７年度!A1 -> 令和７年度 | D1: =RIGHT(CELL("filename",$A$1),LEN(CELL("filename",$A$1))-FIND("]",CELL("filename",$A$1))) -> ５月（１表） | E1: 入 域 観 光 客 統 計 月 報
A3: 第１表 入域観光客数 | K3: (単位:人、％)
B4: 区分 | C4: 入域観光客数（総数）
F5: 空路海路別内訳
A6: 期間 | D6: 国内 | E6: 外国 | F6: 空路計 | I6: 海路計
G7: 国内 | H7: 外国 | J7: 国内 | K7: 外国
A8: 月間 | B8: 令和7年5月 | C8: 842600 | D8: 601000 | E8: 241600 | F8: 755000 | G8: 588300 | H8: 166700 | I8: 87600 | J8: 12700 | K8: 74900
B9: 令和6年5月 | C9: 710400 | D9: 561500 | E9: 148900 | F9: 671000 | G9: 559500 | H9: 111500 | I9: 39400 | J9: 2000 | K9: 37400
B10: 増減数 | C10: 132200 | D10: 39500 | E10: 92700 | F10: 84000 | G10: 28800 | H10: 55200 | I10: 48200 | J10: 10700 | K10: 37500
B11: 前年 同月比 | C11: 1.1860923 | D11: 1.0703473 | E11: 1.6225655 | F11: 1.1251863 | G11: 1.0514745 | H11: 1.4950673 | I11: 2.2233503 | J11: 6.35 | K11: 2.0026738
A12: 年度 | B12: 今年度 | C12: 1725200 | D12: 1221900 | E12: 503300 | F12: 1541200 | G12: 1206200 | H12: 335000 | I12: 184000 | J12: 15700 | K12: 168300
A13: 4月～5月 累計 | B13: 前年度 | C13: 1462700 | D13: 1154900 | E13: 307800 | F13: 1366600 | G13: 1147600 | H13: 219000 | I13: 96100 | J13: 7300 | K13: 88800
B14: 増減数 | C14: 262500 | D14: 67000 | E14: 195500 | F14: 174600 | G14: 58600 | H14: 116000 | I14: 87900 | J14: 8400 | K14: 79500
B15: 前年度 同期比 | C15: 1.1794626 | D15: 1.0580137 | E15: 1.6351527 | F15: 1.1277623 | G15: 1.0510631 | H15: 1.5296804 | I15: 1.9146722 | J15: 2.1506849 | K15: 1.8952703
A16: 暦年 | B16: 今年 | C16: 4202600 | D16: 3111300 | E16: 1091300 | F16: 3839900 | G16: 3088200 | H16: 751700 | I16: 362700 | J16: 23100 | K16: 339600
A17: 1月～5月 累計 | B17: 前年 | C17: 3656200 | D17: 2919100 | E17: 737100 | F17: 3406300 | G17: 2903300 | H17: 503000 | I17: 249900 | J17: 15800 | K17: 234100
B18: 増減数 | C18: 546400 | D18: 192200 | E18: 354200 | F18: 433600 | G18: 184900 | H18: 248700 | I18: 112800 | J18: 7300 | K18: 105500
B19: 前年 同期比 | C19: 1.1494448 | D19: 1.0658422 | E19: 1.4805318 | F19: 1.1272935 | G19: 1.0636862 | H19: 1.4944334 | I19: 1.4513806 | J19: 1.4620253 | K19: 1.4506621
D21: 【参考】外国客のうち、乗務員等の人数： | E21: 25800 | F21: （海路） | K21: 5

Sheet ５月（２表）
A1: =令和７年度!A1 -> 令和７年度 | E1: =RIGHT(CELL("filename",$A$1),LEN(CELL("filename",$A$1))-FIND("]",CELL("filename",$A$1))) -> ５月（２表） | F1: 入 域 観 光 客 統 計 月 報
A3: 第２表 航路別入域観光客数
B4: 区分 | D4: 1 | E4: 2 | F4: 3 | G4: 4 | H4: 5 | I4: 6 | J4: 7 | K4: 8 | L4: 9 | M4: 10 | N4: 11 | O4: 12 | P4: 13 | Q4: 14 | R4: 15 | S4: 16 | T4: 17 | U4: 18 | V4: 19 | W4: 20 | X4: 21 | Y4: 22 | Z4: 23 | AA4: 24 | AB4: 25 | AC4: 26 | AD4: 27 | AE4: 28
A5: 期間 | C5: 総数 | D5: 東京 | E5: 伊丹 | F5: 関西 | G5: 神戸 | H5: 福岡 | I5: 北九州 | J5: 名古屋 | K5: 札幌 | L5: 鹿児島 | M5: 仙台 | N5: 福島 | O5: 新潟 | P5: 静岡 | Q5: 富山 | R5: 小松 | S5: 岡山 | T5: 広島 | U5: 高松 | V5: 松山 | W5: 高知 | X5: 長崎 | Y5: 熊本 | Z5: 大分 | AA5: 宮崎 | AB5: 茨城 | AC5: 岩国 | AD5: その他 | AE5: 外国
A6: 月間 | B6: 令和7年5月 | C6: 842600 | D6: 281100 | E6: 42400 | F6: 69100 | G6: 25800 | H6: 73500 | I6: 0 | J6: 49200 | K6: 4000 | L6: 12100 | M6: 4100 | N6: 0 | O6: 2300 | P6: 2400 | Q6: 0 | R6: 3100 | S6: 4700 | T6: 4200 | U6: 4700 | V6: 3100 | W6: 0 | X6: 0 | Y6: 3200 | Z6: 0 | AA6: 2800 | AB6: 2700 | AC6: 3000 | AD6: 3500 | AE6: 241600
B7: 令和6年5月 | C7: 710400 | D7: 263400 | E7: 40900 | F7: 62200 | G7: 27400 | H7: 70600 | I7: 0 | J7: 45400 | K7: 4000 | L7: 10900 | M7: 3500 | N7: 0 | O7: 1900 | P7: 400 | Q7: 0 | R7: 2500 | S7: 4500 | T7: 4000 | U7: 6100 | V7: 2400 | W7: 0 | X7: 0 | Y7: 3100 | Z7: 0 | AA7: 2800 | AB7: 3200 | AC7: 2300 | AD7: 0 | AE7: 148900
B8: 増減数 | C8: 132200 | D8: 17700 | E8: 1500 | F8: 6900 | G8: -1600 | H8: 2900 | I8: 0 | J8: 3800 | K8: 0 | L8: 1200 | M8: 600 | N8: 0 | O8: 400 | P8: 2000 | Q8: 0 | R8: 600 | S8: 200 | T8: 200 | U8: -1400 | V8: 700 | W8: 0 | X8: 0 | Y8: 100 | Z8: 0 | AA8: 0 | AB8: -500 | AC8: 700 | AD8: 3500 | AE8: 92700
B9: 前年 同月比 | C9: 1.1860923 | D9: 1.0671982 | E9: 1.0366748 | F9: 1.1109325 | G9: 0.94160584 | H9: 1.0410765 | I9: - | J9: 1.0837004 | K9: 1 | L9: 1.1100917 | M9: 1.1714286 | N9: - | O9: 1.2105263 | P9: 6 | Q9: - | R9: 1.24 | S9: 1.0444444 | T9: 1.05 | U9: 0.7704918 | V9: 1.2916667 | W9: - | X9: - | Y9: 1.0322581 | Z9: - | AA9: 1 | AB9: 0.84375 | AC9: 1.3043478 | AD9: 皆増 | AE9: 1.6225655
B10: 当月 構成比 | C10: 1 | D10: 0.33361025 | E10: 0.050320437 | F10: 0.08200807 | G10: 0.030619511 | H10: 0.087230002 | I10: 0 | J10: 0.058390695 | K10: 0.004747211 | L10: 0.014360313 | M10: 0.0048658913 | N10: 0 | O10: 0.0027296463 | P10: 0.0028483266 | Q10: 0 | R10: 0.0036790885 | S10: 0.0055779729 | T10: 0.0049845716 | U10: 0.0055779729 | V10: 0.0036790885 | W10: 0 | X10: 0 | Y10: 0.0037977688 | Z10: 0 | AA10: 0.0033230477 | AB10: 0.0032043674 | AC10: 0.0035604083 | AD10: 0.0041538096 | AE10: 0.28673155
A11: 年度 | B11: 今年度 | C11: 1725200 | D11: 580800 | E11: 82800 | F11: 134300 | G11: 52000 | H11: 150700 | I11: 0 | J11: 103300 | K11: 8000 | L11: 22800 | M11: 8100 | N11: 0 | O11: 4700 | P11: 5000 | Q11: 100 | R11: 6300 | S11: 8900 | T11: 8700 | U11: 9700 | V11: 6300 | W11: 0 | X11: 0 | Y11: 6800 | Z11: 0 | AA11: 5700 | AB11: 5500 | AC11: 6500 | AD11: 4900 | AE11: 503300
A12: 4月～5月 累計 | B12: 前年度 | C12: 1462700 | D12: 549600 | E12: 79500 | F12: 124200 | G12: 54600 | H12: 143900 | I12: 0 | J12: 96400 | K12: 8000 | L12: 21500 | M12: 7200 | N12: 0 | O12: 3900 | P12: 900 | Q12: 0 | R12: 5400 | S12: 8400 | T12: 8100 | U12: 11700 | V12: 5600 | W12: 0 | X12: 0 | Y12: 6300 | Z12: 0 | AA12: 5500 | AB12: 6300 | AC12: 5600 | AD12: 2300 | AE12: 307800
B13: 増減数 | C13: 262500 | D13: 31200 | E13: 3300 | F13: 10100 | G13: -2600 | H13: 6800 | I13: 0 | J13: 6900 | K13: 0 | L13: 1300 | M13: 900 | N13: 0 | O13: 800 | P13: 4100 | Q13: 100 | R13: 900 | S13: 500 | T13: 600 | U13: -2000 | V13: 700 | W13: 0 | X13: 0 | Y13: 500 | Z13: 0 | AA13: 200 | AB13: -800 | AC13: 900 | AD13: 2600 | AE13: 195500
B14: 前年度 同期比 | C14: 1.1794626 | D14: 1.0567686 | E14: 1.0415094 | F14: 1.0813205 | G14: 0.95238095 | H14: 1.047255 | I14: - | J14: 1.0715768 | K14: 1 | L14: 1.0604651 | M14: 1.125 | N14: - | O14: 1.2051282 | P14: 5.5555556 | Q14: 皆増 | R14: 1.1666667 | S14: 1.0595238 | T14: 1.0740741 | U14: 0.82905983 | V14: 1.125 | W14: - | X14: - | Y14: 1.0793651 | Z14: - | AA14: 1.0363636 | AB14: 0.87301587 | AC14: 1.1607143 | AD14: 2.1304348 | AE14: 1.6351527
B15: 今年度 構成比 | C15: 1 | D15: 0.33665662 | E15: 0.047994435 | F15: 0.077846047 | G15: 0.030141433 | H15: 0.087352191 | I15: 0 | J15: 0.059877116 | K15: 0.0046371435 | L15: 0.013215859 | M15: 0.0046951078 | N15: 0 | O15: 0.0027243218 | P15: 0.0028982147 | Q15: 5.7964294e-05 | R15: 0.0036517505 | S15: 0.0051588222 | T15: 0.0050428936 | U15: 0.0056225365 | V15: 0.0036517505 | W15: 0 | X15: 0 | Y15: 0.003941572 | Z15: 0 | AA15: 0.0033039648 | AB15: 0.0031880362 | AC15: 0.0037676791 | AD15: 0.0028402504 | AE15: 0.29173429
A16: 暦年 | B16: 今年 | C16: 4202600 | D16: 1490900 | E16: 205900 | F16: 323300 | G16: 131300 | H16: 387000 | I16: 100 | J16: 272300 | K16: 20400 | L16: 57500 | M16: 25300 | N16: 100 | O16: 12500 | P16: 13400 | Q16: 200 | R16: 15700 | S16: 19700 | T16: 24900 | U16: 21700 | V16: 16000 | W16: 200 | X16: 100 | Y16: 18200 | Z16: 0 | AA16: 15700 | AB16: 16000 | AC16: 15900 | AD16: 7000 | AE16: 1091300
A17: 1月～5月 累計 | B17: 前年 | C17: 3656200 | D17: 1395700 | E17: 196600 | F17: 296300 | G17: 134000 | H17: 373400 | I17: 0 | J17: 251800 | K17: 20200 | L17: 52300 | M17: 22300 | N17: 100 | O17: 10700 | P17: 4400 | Q17: 0 | R17: 14800 | S17: 19100 | T17: 20300 | U17: 23100 | V17: 15000 | W17: 200 | X17: 0 | Y17: 16700 | Z17: 0 | AA17: 14600 | AB17: 16500 | AC17: 14400 | AD17: 6600 | AE17: 737100
B18: 増減数 | C18: 546400 | D18: 95200 | E18: 9300 | F18: 27000 | G18: -2700 | H18: 13600 | I18: 100 | J18: 20500 | K18: 200 | L18: 5200 | M18: 3000 | N18: 0 | O18: 1800 | P18: 9000 | Q18: 200 | R18: 900 | S18: 600 | T18: 4600 | U18: -1400 | V18: 1000 | W18: 0 | X18: 100 | Y18: 1500 | Z18: 0 | AA18: 1100 | AB18: -500 | AC18: 1500 | AD18: 400 | AE18: 354200
B19: 前年 同期比 | C19: 1.1494448 | D19: 1.0682095 | E19: 1.0473042 | F19: 1.0911239 | G19: 0.97985075 | H19: 1.0364221 | I19: 皆増 | J19: 1.0814138 | K19: 1.009901 | L19: 1.0994264 | M19: 1.1345291 | N19: 1 | O19: 1.1682243 | P19: 3.0454545 | Q19: 皆増 | R19: 1.0608108 | S19: 1.0314136 | T19: 1.226601 | U19: 0.93939394 | V19: 1.0666667 | W19: 1 | X19: 皆増 | Y19: 1.0898204 | Z19: - | AA19: 1.0753425 | AB19: 0.96969697 | AC19: 1.1041667 | AD19: 1.0606061 | AE19: 1.4805318
B20: 今年 構成比 | C20: 1 | D20: 0.35475658 | E20: 0.04899348 | F20: 0.076928568 | G20: 0.031242564 | H20: 0.092085852 | I20: 2.3794794e-05 | J20: 0.064793223 | K20: 0.0048541379 | L20: 0.013682006 | M20: 0.0060200828 | N20: 2.3794794e-05 | O20: 0.0029743492 | P20: 0.0031885024 | Q20: 4.7589587e-05 | R20: 0.0037357826 | S20: 0.0046875744 | T20: 0.0059249036 | U20: 0.0051634702 | V20: 0.003807167 | W20: 4.7589587e-05 | X20: 2.3794794e-05 | Y20: 0.0043306525 | Z20: 0 | AA20: 0.0037357826 | AB20: 0.003807167 | AC20: 0.0037833722 | AD20: 0.0016656356 | AE20: 0.25967258
A21: 注 | B21: １ 国内客には、沖縄県居住者は含まない。本土経由で来県する外国客は含む。
B22: 2 推計方法は、国内航路については、本土と沖縄県間に航路を有する航空及び船舶各社の航路別旅客輸送実績に同航路における入域観光客の混在率 (サンプリング調査）をデフレーターとして算出した。
B23: また、外国人については法務省出入国在留管理庁の公表資料及び船社代理店の資料に基づき沖縄県が推計。乗務員等を含む。
D25: 参考値 東京空港内訳 | H25: 参考値 FSC・LCC内訳
E26: 羽田 | F26: 成田 | I26: FSC | J26: LCC
D27: 令和7年5月 | E27: 241600 | F27: 32900 | H27: 令和7年5月 | I27: 485500 | J27: 102800
D28: 令和6年5月 | E28: 230800 | F28: 32700 | H28: 令和6年5月 | I28: 464500 | J28: 95000
D29: 増減数 | E29: 10800 | F29: 200 | H29: 増減数 | I29: 21000 | J29: 7800
D30: 前年 同月比 | E30: 1.0467938 | F30: 1.0061162 | H30: 前年 同月比 | I30: 1.0452099 | J30: 1.0821053 | L30: ※羽田・成田内訳、FSC・LCC観光客数は海路客を除く
D31: 当月 構成比 | E31: 0.32 | F31: 0.043576159 | H31: FSC・LCC 比率 | I31: 0.82525922 | J31: 0.17474078 | L31: ※観光客数算出の方法上、東京と羽田＋成田の合計値が一致しない場合、 前年の東京の値と一致しない場合があります。

Sheet ５月（３表）
A1: =令和７年度!A1 -> 令和７年度 | E1: =RIGHT(CELL("filename",$A$1),LEN(CELL("filename",$A$1))-FIND("]",CELL("filename",$A$1))) -> ５月（３表） | F1: 入 域 観 光 客 統 計 月 報
A3: 第３表 国籍別入域観光客数
B4: 区分 | D4: 1 | E4: 2 | F4: 3 | G4: 4 | H4: 5 | I4: 6 | J4: 7 | K4: 8 | L4: 9 | M4: 10 | N4: 11 | O4: 12 | P4: 13 | Q4: 14
A5: 期間 | C5: 外国人総数 | D5: 台湾 | E5: 韓国 | F5: 中国本土 | G5: 香港 | H5: アメリカ | I5: カナダ | J5: イギリス（本国） | K5: フランス | L5: タイ | M5: シンガポール | N5: マレーシア | O5: インドネシア | P5: ｵｰｽﾄﾗﾘｱ | Q5: その他
A6: 月間 | B6: 令和7年5月 | C6: 241600 | D6: 88500 | E6: 55200 | F6: 40300 | G6: 13900 | H6: 4100 | I6: 900 | J6: 800 | K6: 500 | L6: 2000 | M6: 2400 | N6: 900 | O6: 200 | P6: 800 | Q6: 31100
B7: 令和6年5月 | C7: 148900 | D7: 52000 | E7: 35200 | F7: 24700 | G7: 17300 | H7: 1800 | I7: 500 | J7: 500 | K7: 300 | L7: 1600 | M7: 1400 | N7: 400 | O7: 200 | P7: 300 | Q7: 12700
B8: 増減数 | C8: 92700 | D8: 36500 | E8: 20000 | F8: 15600 | G8: -3400 | H8: 2300 | I8: 400 | J8: 300 | K8: 200 | L8: 400 | M8: 1000 | N8: 500 | O8: 0 | P8: 500 | Q8: 18400
B9: 前年 同月比 | C9: 1.6225655 | D9: 1.7019231 | E9: 1.5681818 | F9: 1.6315789 | G9: 0.80346821 | H9: 2.2777778 | I9: 1.8 | J9: 1.6 | K9: 1.6666667 | L9: 1.25 | M9: 1.7142857 | N9: 2.25 | O9: 1 | P9: 2.6666667 | Q9: 2.4488189
B10: 今年度 構成比 | C10: 1 | D10: 0.36630795 | E10: 0.22847682 | F10: 0.16680464 | G10: 0.057533113 | H10: 0.016970199 | I10: 0.0037251656 | J10: 0.0033112583 | K10: 0.0020695364 | L10: 0.0082781457 | M10: 0.0099337748 | N10: 0.0037251656 | O10: 0.00082781457 | P10: 0.0033112583 | Q10: 0.12872517
A11: 年度 | B11: 今年度 | C11: 503300 | D11: 185000 | E11: 101600 | F11: 79400 | G11: 36700 | H11: 10100 | I11: 2500 | J11: 2300 | K11: 1100 | L11: 4700 | M11: 5200 | N11: 2000 | O11: 1000 | P11: 3300 | Q11: 68400
A12: 4月～5月 累計 | B12: 前年度 | C12: 307800 | D12: 119700 | E12: 62600 | F12: 40700 | G12: 31000 | H12: 6900 | I12: 1700 | J12: 2400 | K12: 700 | L12: 3500 | M12: 2700 | N12: 1000 | O12: 500 | P12: 1700 | Q12: 32700
B13: 増減数 | C13: 195500 | D13: 65300 | E13: 39000 | F13: 38700 | G13: 5700 | H13: 3200 | I13: 800 | J13: -100 | K13: 400 | L13: 1200 | M13: 2500 | N13: 1000 | O13: 500 | P13: 1600 | Q13: 35700
B14: 前年度 同期比 | C14: 1.6351527 | D14: 1.5455305 | E14: 1.6230032 | F14: 1.95086 | G14: 1.183871 | H14: 1.4637681 | I14: 1.4705882 | J14: 0.95833333 | K14: 1.5714286 | L14: 1.3428571 | M14: 1.9259259 | N14: 2 | O14: 2 | P14: 1.9411765 | Q14: 2.0917431
B15: 今年度 構成比 | C15: 1 | D15: 0.36757401 | E15: 0.20186767 | F15: 0.15775879 | G15: 0.072918736 | H15: 0.020067554 | I15: 0.0049672164 | J15: 0.0045698391 | K15: 0.0021855752 | L15: 0.0093383668 | M15: 0.01033181 | N15: 0.0039737731 | O15: 0.0019868865 | P15: 0.0065567256 | Q15: 0.13590304
A16: 暦年 | B16: 今年 | C16: 1091300 | D16: 380400 | E16: 249900 | F16: 175000 | G16: 76900 | H16: 24600 | I16: 5800 | J16: 5500 | K16: 1800 | L16: 10100 | M16: 10600 | N16: 4700 | O16: 2300 | P16: 6900 | Q16: 136800
A17: 1月～5月 累計 | B17: 前年 | C17: 737100 | D17: 288800 | E17: 140900 | F17: 86500 | G17: 71500 | H17: 21500 | I17: 5200 | J17: 6400 | K17: 1200 | L17: 5000 | M17: 7000 | N17: 3000 | O17: 1000 | P17: 4300 | Q17: 94800
B18: 増減数 | C18: 354200 | D18: 91600 | E18: 109000 | F18: 88500 | G18: 5400 | H18: 3100 | I18: 600 | J18: -900 | K18: 600 | L18: 5100 | M18: 3600 | N18: 1700 | O18: 1300 | P18: 2600 | Q18: 42000
B19: 前年 同期比 | C19: 1.4805318 | D19: 1.3171745 | E19: 1.7735983 | F19: 2.0231214 | G19: 1.0755245 | H19: 1.144186 | I19: 1.1153846 | J19: 0.859375 | K19: 1.5 | L19: 2.02 | M19: 1.5142857 | N19: 1.5666667 | O19: 2.3 | P19: 1.6046512 | Q19: 1.443038
B20: 今年 構成比 | C20: 1 | D20: 0.34857509 | E20: 0.22899294 | F20: 0.1603592 | G20: 0.070466416 | H20: 0.022541922 | I20: 0.0053147622 | J20: 0.0050398607 | K20: 0.001649409 | L20: 0.009255017 | M20: 0.0097131861 | N20: 0.0043067901 | O20: 0.0021075781 | P20: 0.0063227344 | Q20: 0.12535508
A21: 注 | B21: ①外国人については法務省出入国在留管理庁及び船社代理店の資料に基づいており、乗務員等を含む。
B22: ②イギリス・フランスは、平成22年４月から表章を始めた。
B23: ③タイ、シンガポール、マレーシアは、平成23年４月から表章を始めた。
B24: ④インドネシアは、平成24年11月から表章を始めた。
B25: ⑤カナダ、オーストラリアは、平成28年４月から表章を始めた。
B26: ⑥乗務員等は、「その他」に一括計上している。

Sheet ６月（１表）
A1: =令和７年度!A1 -> 令和７年度 | D1: =RIGHT(CELL("filename",$A$1),LEN(CELL("filename",$A$1))-FIND("]",CELL("filename",$A$1))) -> ６月（１表） | E1: 入 域 観 光 客 統 計 月 報
A3: 第１表 入域観光客数 | K3: (単位:人、％)
B4: 区分 | C4: 入域観光客数（総数）
F5: 空路海路別内訳
A6: 期間 | D6: 国内 | E6: 外国 | F6: 空路計 | I6: 海路計
G7: 国内 | H7: 外国 | J7: 国内 | K7: 外国
A8: 月間 | B8: 令和7年6月 | C8: 838900 | D8: 599700 | E8: 239200 | F8: 765600 | G8: 595800 | H8: 169800 | I8: 73300 | J8: 3900 | K8: 69400
B9: 令和6年6月 | C9: 748000 | D9: 577600 | E9: 170400 | F9: 693200 | G9: 572300 | H9: 120900 | I9: 54800 | J9: 5300 | K9: 49500
B10: 増減数 | C10: 90900 | D10: 22100 | E10: 68800 | F10: 72400 | G10: 23500 | H10: 48900 | I10: 18500 | J10: -1400 | K10: 19900
B11: 前年 同月比 | C11: 1.1215241 | D11: 1.0382618 | E11: 1.4037559 | F11: 1.1044432 | G11: 1.0410624 | H11: 1.4044665 | I11: 1.3375912 | J11: 0.73584906 | K11: 1.4020202
A12: 年度 | B12: 今年度 | C12: 2564100 | D12: 1821600 | E12: 742500 | F12: 2306800 | G12: 1802000 | H12: 504800 | I12: 257300 | J12: 19600 | K12: 237700
A13: 4月～6月 累計 | B13: 前年度 | C13: 2210700 | D13: 1732500 | E13: 478200 | F13: 2059800 | G13: 1719900 | H13: 339900 | I13: 150900 | J13: 12600 | K13: 138300
B14: 増減数 | C14: 353400 | D14: 89100 | E14: 264300 | F14: 247000 | G14: 82100 | H14: 164900 | I14: 106400 | J14: 7000 | K14: 99400
B15: 前年度 同期比 | C15: 1.1598589 | D15: 1.0514286 | E15: 1.5526976 | F15: 1.1199146 | G15: 1.0477353 | H15: 1.4851427 | I15: 1.7051027 | J15: 1.5555556 | K15: 1.7187274
A16: 暦年 | B16: 今年 | C16: 5041500 | D16: 3711000 | E16: 1330500 | F16: 4605500 | G16: 3684000 | H16: 921500 | I16: 436000 | J16: 27000 | K16: 409000
A17: 1月～6月 累計 | B17: 前年 | C17: 4404200 | D17: 3496700 | E17: 907500 | F17: 4099500 | G17: 3475600 | H17: 623900 | I17: 304700 | J17: 21100 | K17: 283600
B18: 増減数 | C18: 637300 | D18: 214300 | E18: 423000 | F18: 506000 | G18: 208400 | H18: 297600 | I18: 131300 | J18: 5900 | K18: 125400
B19: 前年 同期比 | C19: 1.1447028 | D19: 1.0612864 | E19: 1.4661157 | F19: 1.1234297 | G19: 1.0599609 | H19: 1.4769995 | I19: 1.4309157 | J19: 1.2796209 | K19: 1.4421721
D21: 【参考】外国客のうち、乗務員等の人数： | E21: 20300 | F21: （海路） | K21: 6

Sheet ６月（２表）
A1: =令和７年度!A1 -> 令和７年度 | E1: =RIGHT(CELL("filename",$A$1),LEN(CELL("filename",$A$1))-FIND("]",CELL("filename",$A$1))) -> ６月（２表） | F1: 入 域 観 光 客 統 計 月 報
A3: 第２表 航路別入域観光客数
B4: 区分 | D4: 1 | E4: 2 | F4: 3 | G4: 4 | H4: 5 | I4: 6 | J4: 7 | K4: 8 | L4: 9 | M4: 10 | N4: 11 | O4: 12 | P4: 13 | Q4: 14 | R4: 15 | S4: 16 | T4: 17 | U4: 18 | V4: 19 | W4: 20 | X4: 21 | Y4: 22 | Z4: 23 | AA4: 24 | AB4: 25 | AC4: 26 | AD4: 27 | AE4: 28
A5: 期間 | C5: 総数 | D5: 東京 | E5: 伊丹 | F5: 関西 | G5: 神戸 | H5: 福岡 | I5: 北九州 | J5: 名古屋 | K5: 札幌 | L5: 鹿児島 | M5: 仙台 | N5: 福島 | O5: 新潟 | P5: 静岡 | Q5: 富山 | R5: 小松 | S5: 岡山 | T5: 広島 | U5: 高松 | V5: 松山 | W5: 高知 | X5: 長崎 | Y5: 熊本 | Z5: 大分 | AA5: 宮崎 | AB5: 茨城 | AC5: 岩国 | AD5: その他 | AE5: 外国
A6: 月間 | B6: 令和7年6月 | C6: 838900 | D6: 287000 | E6: 42600 | F6: 65300 | G6: 26900 | H6: 76300 | I6: 0 | J6: 49900 | K6: 4000 | L6: 11100 | M6: 3800 | N6: 0 | O6: 0 | P6: 2400 | Q6: 0 | R6: 3000 | S6: 3300 | T6: 4000 | U6: 3700 | V6: 2900 | W6: 0 | X6: 0 | Y6: 3200 | Z6: 0 | AA6: 2800 | AB6: 2900 | AC6: 2800 | AD6: 1800 | AE6: 239200
B7: 令和6年6月 | C7: 748000 | D7: 278900 | E7: 40300 | F7: 61000 | G7: 27400 | H7: 71800 | I7: 0 | J7: 47200 | K7: 3900 | L7: 10100 | M7: 3800 | N7: 0 | O7: 0 | P7: 0 | Q7: 0 | R7: 2700 | S7: 3400 | T7: 4800 | U7: 4500 | V7: 2700 | W7: 0 | X7: 0 | Y7: 3100 | Z7: 0 | AA7: 2700 | AB7: 3300 | AC7: 2600 | AD7: 3400 | AE7: 170400
B8: 増減数 | C8: 90900 | D8: 8100 | E8: 2300 | F8: 4300 | G8: -500 | H8: 4500 | I8: 0 | J8: 2700 | K8: 100 | L8: 1000 | M8: 0 | N8: 0 | O8: 0 | P8: 2400 | Q8: 0 | R8: 300 | S8: -100 | T8: -800 | U8: -800 | V8: 200 | W8: 0 | X8: 0 | Y8: 100 | Z8: 0 | AA8: 100 | AB8: -400 | AC8: 200 | AD8: -1600 | AE8: 68800
B9: 前年 同月比 | C9: 1.1215241 | D9: 1.0290427 | E9: 1.057072 | F9: 1.0704918 | G9: 0.98175182 | H9: 1.0626741 | I9: - | J9: 1.0572034 | K9: 1.025641 | L9: 1.0990099 | M9: 1 | N9: - | O9: - | P9: 皆増 | Q9: - | R9: 1.1111111 | S9: 0.97058824 | T9: 0.83333333 | U9: 0.82222222 | V9: 1.0740741 | W9: - | X9: - | Y9: 1.0322581 | Z9: - | AA9: 1.037037 | AB9: 0.87878788 | AC9: 1.0769231 | AD9: 0.52941176 | AE9: 1.4037559
B10: 当月 構成比 | C10: 1 | D10: 0.34211467 | E10: 0.050780784 | F10: 0.077840029 | G10: 0.0320658 | H10: 0.090952438 | I10: 0 | J10: 0.059482656 | K10: 0.0047681488 | L10: 0.013231613 | M10: 0.0045297413 | N10: 0 | O10: 0 | P10: 0.0028608893 | Q10: 0 | R10: 0.0035761116 | S10: 0.0039337227 | T10: 0.0047681488 | U10: 0.0044105376 | V10: 0.0034569079 | W10: 0 | X10: 0 | Y10: 0.003814519 | Z10: 0 | AA10: 0.0033377041 | AB10: 0.0034569079 | AC10: 0.0033377041 | AD10: 0.0021456669 | AE10: 0.2851353
A11: 年度 | B11: 今年度 | C11: 2564100 | D11: 867800 | E11: 125400 | F11: 199600 | G11: 78900 | H11: 227000 | I11: 0 | J11: 153200 | K11: 12000 | L11: 33900 | M11: 11900 | N11: 0 | O11: 4700 | P11: 7400 | Q11: 100 | R11: 9300 | S11: 12200 | T11: 12700 | U11: 13400 | V11: 9200 | W11: 0 | X11: 0 | Y11: 10000 | Z11: 0 | AA11: 8500 | AB11: 8400 | AC11: 9300 | AD11: 6700 | AE11: 742500
A12: 4月～6月 累計 | B12: 前年度 | C12: 2210700 | D12: 828500 | E12: 119800 | F12: 185200 | G12: 82000 | H12: 215700 | I12: 0 | J12: 143600 | K12: 11900 | L12: 31600 | M12: 11000 | N12: 0 | O12: 3900 | P12: 900 | Q12: 0 | R12: 8100 | S12: 11800 | T12: 12900 | U12: 16200 | V12: 8300 | W12: 0 | X12: 0 | Y12: 9400 | Z12: 0 | AA12: 8200 | AB12: 9600 | AC12: 8200 | AD12: 5700 | AE12: 478200
B13: 増減数 | C13: 353400 | D13: 39300 | E13: 5600 | F13: 14400 | G13: -3100 | H13: 11300 | I13: 0 | J13: 9600 | K13: 100 | L13: 2300 | M13: 900 | N13: 0 | O13: 800 | P13: 6500 | Q13: 100 | R13: 1200 | S13: 400 | T13: -200 | U13: -2800 | V13: 900 | W13: 0 | X13: 0 | Y13: 600 | Z13: 0 | AA13: 300 | AB13: -1200 | AC13: 1100 | AD13: 1000 | AE13: 264300
B14: 前年度 同期比 | C14: 1.1598589 | D14: 1.0474351 | E14: 1.0467446 | F14: 1.0777538 | G14: 0.96219512 | H14: 1.0523876 | I14: - | J14: 1.0668524 | K14: 1.0084034 | L14: 1.0727848 | M14: 1.0818182 | N14: - | O14: 1.2051282 | P14: 8.2222222 | Q14: 皆増 | R14: 1.1481481 | S14: 1.0338983 | T14: 0.98449612 | U14: 0.82716049 | V14: 1.1084337 | W14: - | X14: - | Y14: 1.0638298 | Z14: - | AA14: 1.0365854 | AB14: 0.875 | AC14: 1.1341463 | AD14: 1.1754386 | AE14: 1.5526976
B15: 今年度 構成比 | C15: 1 | D15: 0.33844234 | E15: 0.048906049 | F15: 0.077844078 | G15: 0.030771031 | H15: 0.088530089 | I15: 0 | J15: 0.05974806 | K15: 0.0046800047 | L15: 0.013221013 | M15: 0.0046410046 | N15: 0 | O15: 0.0018330018 | P15: 0.0028860029 | Q15: 3.9000039e-05 | R15: 0.0036270036 | S15: 0.0047580048 | T15: 0.004953005 | U15: 0.0052260052 | V15: 0.0035880036 | W15: 0 | X15: 0 | Y15: 0.0039000039 | Z15: 0 | AA15: 0.0033150033 | AB15: 0.0032760033 | AC15: 0.0036270036 | AD15: 0.0026130026 | AE15: 0.28957529
A16: 暦年 | B16: 今年 | C16: 5041500 | D16: 1777900 | E16: 248500 | F16: 388600 | G16: 158200 | H16: 463300 | I16: 100 | J16: 322200 | K16: 24400 | L16: 68600 | M16: 29100 | N16: 100 | O16: 12500 | P16: 15800 | Q16: 200 | R16: 18700 | S16: 23000 | T16: 28900 | U16: 25400 | V16: 18900 | W16: 200 | X16: 100 | Y16: 21400 | Z16: 0 | AA16: 18500 | AB16: 18900 | AC16: 18700 | AD16: 8800 | AE16: 1330500
A17: 1月～6月 累計 | B17: 前年 | C17: 4404200 | D17: 1674600 | E17: 236900 | F17: 357300 | G17: 161400 | H17: 445200 | I17: 0 | J17: 299000 | K17: 24100 | L17: 62400 | M17: 26100 | N17: 100 | O17: 10700 | P17: 4400 | Q17: 0 | R17: 17500 | S17: 22500 | T17: 25100 | U17: 27600 | V17: 17700 | W17: 200 | X17: 0 | Y17: 19800 | Z17: 0 | AA17: 17300 | AB17: 19800 | AC17: 17000 | AD17: 10000 | AE17: 907500
B18: 増減数 | C18: 637300 | D18: 103300 | E18: 11600 | F18: 31300 | G18: -3200 | H18: 18100 | I18: 100 | J18: 23200 | K18: 300 | L18: 6200 | M18: 3000 | N18: 0 | O18: 1800 | P18: 11400 | Q18: 200 | R18: 1200 | S18: 500 | T18: 3800 | U18: -2200 | V18: 1200 | W18: 0 | X18: 100 | Y18: 1600 | Z18: 0 | AA18: 1200 | AB18: -900 | AC18: 1700 | AD18: -1200 | AE18: 423000
B19: 前年 同期比 | C19: 1.1447028 | D19: 1.0616864 | E19: 1.0489658 | F19: 1.0876015 | G19: 0.98017348 | H19: 1.0406559 | I19: 皆増 | J19: 1.077592 | K19: 1.0124481 | L19: 1.099359 | M19: 1.1149425 | N19: 1 | O19: 1.1682243 | P19: 3.5909091 | Q19: 皆増 | R19: 1.0685714 | S19: 1.0222222 | T19: 1.1513944 | U19: 0.92028986 | V19: 1.0677966 | W19: 1 | X19: 皆増 | Y19: 1.0808081 | Z19: - | AA19: 1.0693642 | AB19: 0.95454545 | AC19: 1.1 | AD19: 0.88 | AE19: 1.4661157
B20: 今年 構成比 | C20: 1 | D20: 0.35265298 | E20: 0.049290886 | F20: 0.077080234 | G20: 0.03137955 | H20: 0.091897253 | I20: 1.9835366e-05 | J20: 0.063909551 | K20: 0.0048398294 | L20: 0.013607061 | M20: 0.0057720916 | N20: 1.9835366e-05 | O20: 0.0024794208 | P20: 0.0031339879 | Q20: 3.9670733e-05 | R20: 0.0037092135 | S20: 0.0045621343 | T20: 0.0057324209 | U20: 0.0050381831 | V20: 0.0037488843 | W20: 3.9670733e-05 | X20: 1.9835366e-05 | Y20: 0.0042447684 | Z20: 0 | AA20: 0.0036695428 | AB20: 0.0037488843 | AC20: 0.0037092135 | AD20: 0.0017455122 | AE20: 0.26390955
A21: 注 | B21: １ 国内客には、沖縄県居住者は含まない。本土経由で来県する外国客は含む。
B22: 2 推計方法は、国内航路については、本土と沖縄県間に航路を有する航空及び船舶各社の航路別旅客輸送実績に同航路における入域観光客の混在率 (サンプリング調査）をデフレーターとして算出した。
B23: また、外国人については法務省出入国在留管理庁の公表資料及び船社代理店の資料に基づき沖縄県が推計。乗務員等を含む。
D25: 参考値 東京空港内訳 | H25: 参考値 FSC・LCC内訳
E26: 羽田 | F26: 成田 | I26: FSC | J26: LCC
D27: 令和7年6月 | E27: 253200 | F27: 33800 | H27: 令和7年6月 | I27: 497800 | J27: 98000
D28: 令和6年6月 | E28: 247400 | F28: 31500 | H28: 令和6年6月 | I28: 481600 | J28: 90700
D29: 増減数 | E29: 5800 | F29: 2300 | H29: 増減数 | I29: 16200 | J29: 7300
D30: 前年 同月比 | E30: 1.0234438 | F30: 1.0730159 | H30: 前年 同月比 | I30: 1.0336379 | J30: 1.0804851 | L30: ※羽田・成田内訳、FSC・LCC観光客数は海路客を除く
D31: 当月 構成比 | E31: 0.330721 | F31: 0.04414838 | H31: FSC・LCC 比率 | I31: 0.83551527 | J31: 0.16448473 | L31: ※観光客数算出の方法上、東京と羽田＋成田の合計値が一致しない場合、 前年の東京の値と一致しない場合があります。

Sheet ６月（３表）
A1: =令和７年度!A1 -> 令和７年度 | E1: =RIGHT(CELL("filename",$A$1),LEN(CELL("filename",$A$1))-FIND("]",CELL("filename",$A$1))) -> ６月（３表） | F1: 入 域 観 光 客 統 計 月 報
A3: 第３表 国籍別入域観光客数
B4: 区分 | D4: 1 | E4: 2 | F4: 3 | G4: 4 | H4: 5 | I4: 6 | J4: 7 | K4: 8 | L4: 9 | M4: 10 | N4: 11 | O4: 12 | P4: 13 | Q4: 14
A5: 期間 | C5: 外国人総数 | D5: 台湾 | E5: 韓国 | F5: 中国本土 | G5: 香港 | H5: アメリカ | I5: カナダ | J5: イギリス（本国） | K5: フランス | L5: タイ | M5: シンガポール | N5: マレーシア | O5: インドネシア | P5: ｵｰｽﾄﾗﾘｱ | Q5: その他
A6: 月間 | B6: 令和7年6月 | C6: 239200 | D6: 114900 | E6: 45000 | F6: 26700 | G6: 16800 | H6: 4200 | I6: 500 | J6: 600 | K6: 400 | L6: 1300 | M6: 3000 | N6: 700 | O6: 300 | P6: 700 | Q6: 24100
B7: 令和6年6月 | C7: 170400 | D7: 81800 | E7: 30900 | F7: 16400 | G7: 13700 | H7: 4200 | I7: 700 | J7: 500 | K7: 200 | L7: 1500 | M7: 1600 | N7: 500 | O7: 300 | P7: 800 | Q7: 17300
B8: 増減数 | C8: 68800 | D8: 33100 | E8: 14100 | F8: 10300 | G8: 3100 | H8: 0 | I8: -200 | J8: 100 | K8: 200 | L8: -200 | M8: 1400 | N8: 200 | O8: 0 | P8: -100 | Q8: 6800
B9: 前年 同月比 | C9: 1.4037559 | D9: 1.4046455 | E9: 1.4563107 | F9: 1.6280488 | G9: 1.2262774 | H9: 1 | I9: 0.71428571 | J9: 1.2 | K9: 2 | L9: 0.86666667 | M9: 1.875 | N9: 1.4 | O9: 1 | P9: 0.875 | Q9: 1.3930636
B10: 今年度 構成比 | C10: 1 | D10: 0.48035117 | E10: 0.18812709 | F10: 0.11162207 | G10: 0.070234114 | H10: 0.017558528 | I10: 0.002090301 | J10: 0.0025083612 | K10: 0.0016722408 | L10: 0.0054347826 | M10: 0.012541806 | N10: 0.0029264214 | O10: 0.0012541806 | P10: 0.0029264214 | Q10: 0.10075251
A11: 年度 | B11: 今年度 | C11: 742500 | D11: 299900 | E11: 146600 | F11: 106100 | G11: 53500 | H11: 14300 | I11: 3000 | J11: 2900 | K11: 1500 | L11: 6000 | M11: 8200 | N11: 2700 | O11: 1300 | P11: 4000 | Q11: 92500
A12: 4月～6月 累計 | B12: 前年度 | C12: 478200 | D12: 201500 | E12: 93500 | F12: 57100 | G12: 44700 | H12: 11100 | I12: 2400 | J12: 2900 | K12: 900 | L12: 5000 | M12: 4300 | N12: 1500 | O12: 800 | P12: 2500 | Q12: 50000
B13: 増減数 | C13: 264300 | D13: 98400 | E13: 53100 | F13: 49000 | G13: 8800 | H13: 3200 | I13: 600 | J13: 0 | K13: 600 | L13: 1000 | M13: 3900 | N13: 1200 | O13: 500 | P13: 1500 | Q13: 42500
B14: 前年度 同期比 | C14: 1.5526976 | D14: 1.4883375 | E14: 1.5679144 | F14: 1.8581436 | G14: 1.196868 | H14: 1.2882883 | I14: 1.25 | J14: 1 | K14: 1.6666667 | L14: 1.2 | M14: 1.9069767 | N14: 1.8 | O14: 1.625 | P14: 1.6 | Q14: 1.85
B15: 今年度 構成比 | C15: 1 | D15: 0.40390572 | E15: 0.19744108 | F15: 0.14289562 | G15: 0.072053872 | H15: 0.019259259 | I15: 0.004040404 | J15: 0.0039057239 | K15: 0.002020202 | L15: 0.0080808081 | M15: 0.011043771 | N15: 0.0036363636 | O15: 0.0017508418 | P15: 0.0053872054 | Q15: 0.12457912
A16: 暦年 | B16: 今年 | C16: 1330500 | D16: 495300 | E16: 294900 | F16: 201700 | G16: 93700 | H16: 28800 | I16: 6300 | J16: 6100 | K16: 2200 | L16: 11400 | M16: 13600 | N16: 5400 | O16: 2600 | P16: 7600 | Q16: 160900
A17: 1月～6月 累計 | B17: 前年 | C17: 907500 | D17: 370600 | E17: 171800 | F17: 102900 | G17: 85200 | H17: 25700 | I17: 5900 | J17: 6900 | K17: 1400 | L17: 6500 | M17: 8600 | N17: 3500 | O17: 1300 | P17: 5100 | Q17: 112100
B18: 増減数 | C18: 423000 | D18: 124700 | E18: 123100 | F18: 98800 | G18: 8500 | H18: 3100 | I18: 400 | J18: -800 | K18: 800 | L18: 4900 | M18: 5000 | N18: 1900 | O18: 1300 | P18: 2500 | Q18: 48800
B19: 前年 同期比 | C19: 1.4661157 | D19: 1.3364814 | E19: 1.7165308 | F19: 1.9601555 | G19: 1.0997653 | H19: 1.1206226 | I19: 1.0677966 | J19: 0.88405797 | K19: 1.5714286 | L19: 1.7538462 | M19: 1.5813953 | N19: 1.5428571 | O19: 2 | P19: 1.4901961 | Q19: 1.4353256
B20: 今年 構成比 | C20: 1 | D20: 0.37226607 | E20: 0.221646 | F20: 0.15159714 | G20: 0.070424652 | H20: 0.021645998 | I20: 0.004735062 | J20: 0.0045847426 | K20: 0.0016535137 | L20: 0.0085682074 | M20: 0.010221721 | N20: 0.0040586246 | O20: 0.0019541526 | P20: 0.0057121383 | Q20: 0.12093198
A21: 注 | B21: ①外国人については法務省出入国在留管理庁及び船社代理店の資料に基づいており、乗務員等を含む。
B22: ②イギリス・フランスは、平成22年４月から表章を始めた。
B23: ③タイ、シンガポール、マレーシアは、平成23年４月から表章を始めた。
B24: ④インドネシアは、平成24年11月から表章を始めた。
B25: ⑤カナダ、オーストラリアは、平成28年４月から表章を始めた。
B26: ⑥乗務員等は、「その他」に一括計上している。

Sheet ７月（１表）
A1: =令和７年度!A1 -> 令和７年度 | D1: =RIGHT(CELL("filename",$A$1),LEN(CELL("filename",$A$1))-FIND("]",CELL("filename",$A$1))) -> ７月（１表） | E1: 入 域 観 光 客 統 計 月 報
A3: 第１表 入域観光客数 | K3: (単位:人、％)
B4: 区分 | C4: 入域観光客数（総数）
F5: 空路海路別内訳
A6: 期間 | D6: 国内 | E6: 外国 | F6: 空路計 | I6: 海路計
G7: 国内 | H7: 外国 | J7: 国内 | K7: 外国
A8: 月間 | B8: 令和7年7月 | C8: 947600 | D8: 704200 | E8: 243400 | F8: 879500 | G8: 701900 | H8: 177600 | I8: 68100 | J8: 2300 | K8: 65800
B9: 令和6年7月 | C9: 915400 | D9: 692300 | E9: 223100 | F9: 823800 | G9: 689700 | H9: 134100 | I9: 91600 | J9: 2600 | K9: 89000
B10: 増減数 | C10: 32200 | D10: 11900 | E10: 20300 | F10: 55700 | G10: 12200 | H10: 43500 | I10: -23500 | J10: -300 | K10: -23200
B11: 前年 同月比 | C11: 1.0351759 | D11: 1.0171891 | E11: 1.0909906 | F11: 1.0676135 | G11: 1.0176889 | H11: 1.3243848 | I11: 0.74344978 | J11: 0.88461538 | K11: 0.73932584
A12: 年度 | B12: 今年度 | C12: 3511700 | D12: 2525800 | E12: 985900 | F12: 3186300 | G12: 2503900 | H12: 682400 | I12: 325400 | J12: 21900 | K12: 303500
A13: 4月～7月 累計 | B13: 前年度 | C13: 3126100 | D13: 2424800 | E13: 701300 | F13: 2883600 | G13: 2409600 | H13: 474000 | I13: 242500 | J13: 15200 | K13: 227300
B14: 増減数 | C14: 385600 | D14: 101000 | E14: 284600 | F14: 302700 | G14: 94300 | H14: 208400 | I14: 82900 | J14: 6700 | K14: 76200
B15: 前年度 同期比 | C15: 1.1233486 | D15: 1.0416529 | E15: 1.4058178 | F15: 1.104973 | G15: 1.0391351 | H15: 1.4396624 | I15: 1.3418557 | J15: 1.4407895 | K15: 1.3352398
A16: 暦年 | B16: 今年 | C16: 5989100 | D16: 4415200 | E16: 1573900 | F16: 5485000 | G16: 4385900 | H16: 1099100 | I16: 504100 | J16: 29300 | K16: 474800
A17: 1月～7月 累計 | B17: 前年 | C17: 5319600 | D17: 4189000 | E17: 1130600 | F17: 4923300 | G17: 4165300 | H17: 758000 | I17: 396300 | J17: 23700 | K17: 372600
B18: 増減数 | C18: 669500 | D18: 226200 | E18: 443300 | F18: 561700 | G18: 220600 | H18: 341100 | I18: 107800 | J18: 5600 | K18: 102200
B19: 前年 同期比 | C19: 1.1258553 | D19: 1.0539986 | E19: 1.3920927 | F19: 1.1140901 | G19: 1.0529614 | H19: 1.45 | I19: 1.2720161 | J19: 1.2362869 | K19: 1.2742888
D21: 【参考】外国客のうち、乗務員等の人数： | E21: 18800 | F21: （海路） | K21: 7

Sheet ７月（２表）
A1: =令和７年度!A1 -> 令和７年度 | E1: =RIGHT(CELL("filename",$A$1),LEN(CELL("filename",$A$1))-FIND("]",CELL("filename",$A$1))) -> ７月（２表） | F1: 入 域 観 光 客 統 計 月 報
A3: 第２表 航路別入域観光客数
B4: 区分 | D4: 1 | E4: 2 | F4: 3 | G4: 4 | H4: 5 | I4: 6 | J4: 7 | K4: 8 | L4: 9 | M4: 10 | N4: 11 | O4: 12 | P4: 13 | Q4: 14 | R4: 15 | S4: 16 | T4: 17 | U4: 18 | V4: 19 | W4: 20 | X4: 21 | Y4: 22 | Z4: 23 | AA4: 24 | AB4: 25 | AC4: 26 | AD4: 27 | AE4: 28
A5: 期間 | C5: 総数 | D5: 東京 | E5: 伊丹 | F5: 関西 | G5: 神戸 | H5: 福岡 | I5: 北九州 | J5: 名古屋 | K5: 札幌 | L5: 鹿児島 | M5: 仙台 | N5: 福島 | O5: 新潟 | P5: 静岡 | Q5: 富山 | R5: 小松 | S5: 岡山 | T5: 広島 | U5: 高松 | V5: 松山 | W5: 高知 | X5: 長崎 | Y5: 熊本 | Z5: 大分 | AA5: 宮崎 | AB5: 茨城 | AC5: 岩国 | AD5: その他 | AE5: 外国
A6: 月間 | B6: 令和7年7月 | C6: 947600 | D6: 353400 | E6: 50900 | F6: 67300 | G6: 29200 | H6: 84400 | I6: 0 | J6: 63600 | K6: 4200 | L6: 12300 | M6: 4600 | N6: 0 | O6: 0 | P6: 3100 | Q6: 0 | R6: 3200 | S6: 3700 | T6: 4200 | U6: 3400 | V6: 3200 | W6: 0 | X6: 0 | Y6: 3600 | Z6: 0 | AA6: 3200 | AB6: 3300 | AC6: 3400 | AD6: 0 | AE6: 243400
B7: 令和6年7月 | C7: 915400 | D7: 347800 | E7: 48000 | F7: 71600 | G7: 29100 | H7: 81800 | I7: 0 | J7: 56700 | K7: 4100 | L7: 12900 | M7: 5200 | N7: 0 | O7: 0 | P7: 2900 | Q7: 0 | R7: 3000 | S7: 3600 | T7: 4700 | U7: 4200 | V7: 3100 | W7: 0 | X7: 0 | Y7: 3700 | Z7: 0 | AA7: 3000 | AB7: 3700 | AC7: 3200 | AD7: 0 | AE7: 223100
B8: 増減数 | C8: 32200 | D8: 5600 | E8: 2900 | F8: -4300 | G8: 100 | H8: 2600 | I8: 0 | J8: 6900 | K8: 100 | L8: -600 | M8: -600 | N8: 0 | O8: 0 | P8: 200 | Q8: 0 | R8: 200 | S8: 100 | T8: -500 | U8: -800 | V8: 100 | W8: 0 | X8: 0 | Y8: -100 | Z8: 0 | AA8: 200 | AB8: -400 | AC8: 200 | AD8: 0 | AE8: 20300
B9: 前年 同月比 | C9: 1.0351759 | D9: 1.0161012 | E9: 1.0604167 | F9: 0.93994413 | G9: 1.0034364 | H9: 1.0317848 | I9: - | J9: 1.1216931 | K9: 1.0243902 | L9: 0.95348837 | M9: 0.88461538 | N9: - | O9: - | P9: 1.0689655 | Q9: - | R9: 1.0666667 | S9: 1.0277778 | T9: 0.89361702 | U9: 0.80952381 | V9: 1.0322581 | W9: - | X9: - | Y9: 0.97297297 | Z9: - | AA9: 1.0666667 | AB9: 0.89189189 | AC9: 1.0625 | AD9: - | AE9: 1.0909906
B10: 当月 構成比 | C10: 1 | D10: 0.37294217 | E10: 0.053714648 | F10: 0.071021528 | G10: 0.03081469 | H10: 0.089067117 | I10: 0 | J10: 0.067116927 | K10: 0.0044322499 | L10: 0.01298016 | M10: 0.0048543689 | N10: 0 | O10: 0 | P10: 0.0032714225 | Q10: 0 | R10: 0.0033769523 | S10: 0.0039046011 | T10: 0.0044322499 | U10: 0.0035880118 | V10: 0.0033769523 | W10: 0 | X10: 0 | Y10: 0.0037990713 | Z10: 0 | AA10: 0.0033769523 | AB10: 0.0034824821 | AC10: 0.0035880118 | AD10: 0 | AE10: 0.25685943
A11: 年度 | B11: 今年度 | C11: 3511700 | D11: 1221200 | E11: 176300 | F11: 266900 | G11: 108100 | H11: 311400 | I11: 0 | J11: 216800 | K11: 16200 | L11: 46200 | M11: 16500 | N11: 0 | O11: 4700 | P11: 10500 | Q11: 100 | R11: 12500 | S11: 15900 | T11: 16900 | U11: 16800 | V11: 12400 | W11: 0 | X11: 0 | Y11: 13600 | Z11: 0 | AA11: 11700 | AB11: 11700 | AC11: 12700 | AD11: 6700 | AE11: 985900
A12: 4月～7月 累計 | B12: 前年度 | C12: 3126100 | D12: 1176300 | E12: 167800 | F12: 256800 | G12: 111100 | H12: 297500 | I12: 0 | J12: 200300 | K12: 16000 | L12: 44500 | M12: 16200 | N12: 0 | O12: 3900 | P12: 3800 | Q12: 0 | R12: 11100 | S12: 15400 | T12: 17600 | U12: 20400 | V12: 11400 | W12: 0 | X12: 0 | Y12: 13100 | Z12: 0 | AA12: 11200 | AB12: 13300 | AC12: 11400 | AD12: 5700 | AE12: 701300
B13: 増減数 | C13: 385600 | D13: 44900 | E13: 8500 | F13: 10100 | G13: -3000 | H13: 13900 | I13: 0 | J13: 16500 | K13: 200 | L13: 1700 | M13: 300 | N13: 0 | O13: 800 | P13: 6700 | Q13: 100 | R13: 1400 | S13: 500 | T13: -700 | U13: -3600 | V13: 1000 | W13: 0 | X13: 0 | Y13: 500 | Z13: 0 | AA13: 500 | AB13: -1600 | AC13: 1300 | AD13: 1000 | AE13: 284600
B14: 前年度 同期比 | C14: 1.1233486 | D14: 1.0381705 | E14: 1.0506555 | F14: 1.0393302 | G14: 0.9729973 | H14: 1.0467227 | I14: - | J14: 1.0823764 | K14: 1.0125 | L14: 1.0382022 | M14: 1.0185185 | N14: - | O14: 1.2051282 | P14: 2.7631579 | Q14: 皆増 | R14: 1.1261261 | S14: 1.0324675 | T14: 0.96022727 | U14: 0.82352941 | V14: 1.0877193 | W14: - | X14: - | Y14: 1.0381679 | Z14: - | AA14: 1.0446429 | AB14: 0.87969925 | AC14: 1.1140351 | AD14: 1.1754386 | AE14: 1.4058178
B15: 今年度 構成比 | C15: 1 | D15: 0.3477518 | E15: 0.050203605 | F15: 0.076003075 | G15: 0.030782812 | H15: 0.088675001 | I15: 0 | J15: 0.061736481 | K15: 0.0046131503 | L15: 0.013156021 | M15: 0.004698579 | N15: 0 | O15: 0.0013383831 | P15: 0.0029900048 | Q15: 2.8476237e-05 | R15: 0.0035595296 | S15: 0.0045277216 | T15: 0.004812484 | U15: 0.0047840077 | V15: 0.0035310533 | W15: 0 | X15: 0 | Y15: 0.0038727682 | Z15: 0 | AA15: 0.0033317197 | AB15: 0.0033317197 | AC15: 0.003616482 | AD15: 0.0019079079 | AE15: 0.28074722
A16: 暦年 | B16: 今年 | C16: 5989100 | D16: 2131300 | E16: 299400 | F16: 455900 | G16: 187400 | H16: 547700 | I16: 100 | J16: 385800 | K16: 28600 | L16: 80900 | M16: 33700 | N16: 100 | O16: 12500 | P16: 18900 | Q16: 200 | R16: 21900 | S16: 26700 | T16: 33100 | U16: 28800 | V16: 22100 | W16: 200 | X16: 100 | Y16: 25000 | Z16: 0 | AA16: 21700 | AB16: 22200 | AC16: 22100 | AD16: 8800 | AE16: 1573900
A17: 1月～7月 累計 | B17: 前年 | C17: 5319600 | D17: 2022400 | E17: 284900 | F17: 428900 | G17: 190500 | H17: 527000 | I17: 0 | J17: 355700 | K17: 28200 | L17: 75300 | M17: 31300 | N17: 100 | O17: 10700 | P17: 7300 | Q17: 0 | R17: 20500 | S17: 26100 | T17: 29800 | U17: 31800 | V17: 20800 | W17: 200 | X17: 0 | Y17: 23500 | Z17: 0 | AA17: 20300 | AB17: 23500 | AC17: 20200 | AD17: 10000 | AE17: 1130600
B18: 増減数 | C18: 669500 | D18: 108900 | E18: 14500 | F18: 27000 | G18: -3100 | H18: 20700 | I18: 100 | J18: 30100 | K18: 400 | L18: 5600 | M18: 2400 | N18: 0 | O18: 1800 | P18: 11600 | Q18: 200 | R18: 1400 | S18: 600 | T18: 3300 | U18: -3000 | V18: 1300 | W18: 0 | X18: 100 | Y18: 1500 | Z18: 0 | AA18: 1400 | AB18: -1300 | AC18: 1900 | AD18: -1200 | AE18: 443300
B19: 前年 同期比 | C19: 1.1258553 | D19: 1.0538469 | E19: 1.0508951 | F19: 1.0629517 | G19: 0.98372703 | H19: 1.0392789 | I19: 皆増 | J19: 1.0846219 | K19: 1.0141844 | L19: 1.0743692 | M19: 1.0766773 | N19: 1 | O19: 1.1682243 | P19: 2.5890411 | Q19: 皆増 | R19: 1.0682927 | S19: 1.0229885 | T19: 1.1107383 | U19: 0.90566038 | V19: 1.0625 | W19: 1 | X19: 皆増 | Y19: 1.0638298 | Z19: - | AA19: 1.0689655 | AB19: 0.94468085 | AC19: 1.0940594 | AD19: 0.88 | AE19: 1.3920927
B20: 今年 構成比 | C20: 1 | D20: 0.35586315 | E20: 0.049990817 | F20: 0.076121621 | G20: 0.031290177 | H20: 0.091449467 | I20: 1.6697e-05 | J20: 0.064417024 | K20: 0.0047753419 | L20: 0.013507873 | M20: 0.0056268888 | N20: 1.6697e-05 | O20: 0.0020871249 | P20: 0.0031557329 | Q20: 3.3393999e-05 | R20: 0.0036566429 | S20: 0.0044580989 | T20: 0.0055267069 | U20: 0.0048087359 | V20: 0.0036900369 | W20: 3.3393999e-05 | X20: 1.6697e-05 | Y20: 0.0041742499 | Z20: 0 | AA20: 0.0036232489 | AB20: 0.0037067339 | AC20: 0.0036900369 | AD20: 0.001469336 | AE20: 0.26279408
A21: 注 | B21: １ 国内客には、沖縄県居住者は含まない。本土経由で来県する外国客は含む。
B22: 2 推計方法は、国内航路については、本土と沖縄県間に航路を有する航空及び船舶各社の航路別旅客輸送実績に同航路における入域観光客の混在率 (サンプリング調査）をデフレーターとして算出した。
B23: また、外国人については法務省出入国在留管理庁の公表資料及び船社代理店の資料に基づき沖縄県が推計。乗務員等を含む。
D25: 参考値 東京空港内訳 | H25: 参考値 FSC・LCC内訳
E26: 羽田 | F26: 成田 | I26: FSC | J26: LCC
D27: 令和7年7月 | E27: 316900 | F27: 36400 | H27: 令和7年7月 | I27: 602100 | J27: 99800
D28: 令和6年7月 | E28: 307400 | F28: 40400 | H28: 令和6年7月 | I28: 584200 | J28: 105500
D29: 増減数 | E29: 9500 | F29: -4000 | H29: 増減数 | I29: 17900 | J29: -5700
D30: 前年 同月比 | E30: 1.0309044 | F30: 0.9009901 | H30: 前年 同月比 | I30: 1.0306402 | J30: 0.94597156 | L30: ※羽田・成田内訳、FSC・LCC観光客数は海路客を除く
D31: 当月 構成比 | E31: 0.36031836 | F31: 0.041387152 | H31: FSC・LCC 比率 | I31: 0.8578145 | J31: 0.1421855 | L31: ※観光客数算出の方法上、東京と羽田＋成田の合計値が一致しない場合、 前年の東京の値と一致しない場合があります。

Sheet ７月（３表）
A1: =令和７年度!A1 -> 令和７年度 | E1: =RIGHT(CELL("filename",$A$1),LEN(CELL("filename",$A$1))-FIND("]",CELL("filename",$A$1))) -> ７月（３表） | F1: 入 域 観 光 客 統 計 月 報
A3: 第３表 国籍別入域観光客数
B4: 区分 | D4: 1 | E4: 2 | F4: 3 | G4: 4 | H4: 5 | I4: 6 | J4: 7 | K4: 8 | L4: 9 | M4: 10 | N4: 11 | O4: 12 | P4: 13 | Q4: 14
A5: 期間 | C5: 外国人総数 | D5: 台湾 | E5: 韓国 | F5: 中国本土 | G5: 香港 | H5: アメリカ | I5: カナダ | J5: イギリス（本国） | K5: フランス | L5: タイ | M5: シンガポール | N5: マレーシア | O5: インドネシア | P5: ｵｰｽﾄﾗﾘｱ | Q5: その他
A6: 月間 | B6: 令和7年7月 | C6: 243400 | D6: 116300 | E6: 42100 | F6: 34800 | G6: 18100 | H6: 3200 | I6: 500 | J6: 700 | K6: 500 | L6: 1900 | M6: 1200 | N6: 500 | O6: 300 | P6: 500 | Q6: 22800
B7: 令和6年7月 | C7: 223100 | D7: 91300 | E7: 38000 | F7: 42000 | G7: 16800 | H7: 2100 | I7: 600 | J7: 500 | K7: 300 | L7: 1600 | M7: 900 | N7: 500 | O7: 200 | P7: 500 | Q7: 27800
B8: 増減数 | C8: 20300 | D8: 25000 | E8: 4100 | F8: -7200 | G8: 1300 | H8: 1100 | I8: -100 | J8: 200 | K8: 200 | L8: 300 | M8: 300 | N8: 0 | O8: 100 | P8: 0 | Q8: -5000
B9: 前年 同月比 | C9: 1.0909906 | D9: 1.2738226 | E9: 1.1078947 | F9: 0.82857143 | G9: 1.077381 | H9: 1.5238095 | I9: 0.83333333 | J9: 1.4 | K9: 1.6666667 | L9: 1.1875 | M9: 1.3333333 | N9: 1 | O9: 1.5 | P9: 1 | Q9: 0.82014388
B10: 今年度 構成比 | C10: 1 | D10: 0.4778143 | E10: 0.17296631 | F10: 0.14297453 | G10: 0.074363188 | H10: 0.013147083 | I10: 0.0020542317 | J10: 0.0028759244 | K10: 0.0020542317 | L10: 0.0078060805 | M10: 0.0049301561 | N10: 0.0020542317 | O10: 0.001232539 | P10: 0.0020542317 | Q10: 0.093672966
A11: 年度 | B11: 今年度 | C11: 985900 | D11: 416200 | E11: 188700 | F11: 140900 | G11: 71600 | H11: 17500 | I11: 3500 | J11: 3600 | K11: 2000 | L11: 7900 | M11: 9400 | N11: 3200 | O11: 1600 | P11: 4500 | Q11: 115300
A12: 4月～7月 累計 | B12: 前年度 | C12: 701300 | D12: 292800 | E12: 131500 | F12: 99100 | G12: 61500 | H12: 13200 | I12: 3000 | J12: 3400 | K12: 1200 | L12: 6600 | M12: 5200 | N12: 2000 | O12: 1000 | P12: 3000 | Q12: 77800
B13: 増減数 | C13: 284600 | D13: 123400 | E13: 57200 | F13: 41800 | G13: 10100 | H13: 4300 | I13: 500 | J13: 200 | K13: 800 | L13: 1300 | M13: 4200 | N13: 1200 | O13: 600 | P13: 1500 | Q13: 37500
B14: 前年度 同期比 | C14: 1.4058178 | D14: 1.4214481 | E14: 1.434981 | F14: 1.4217962 | G14: 1.1642276 | H14: 1.3257576 | I14: 1.1666667 | J14: 1.0588235 | K14: 1.6666667 | L14: 1.1969697 | M14: 1.8076923 | N14: 1.6 | O14: 1.6 | P14: 1.5 | Q14: 1.4820051
B15: 今年度 構成比 | C15: 1 | D15: 0.42215235 | E15: 0.19139872 | F15: 0.1429151 | G15: 0.072623998 | H15: 0.017750279 | I15: 0.0035500558 | J15: 0.003651486 | K15: 0.0020286033 | L15: 0.0080129831 | M15: 0.0095344355 | N15: 0.0032457653 | O15: 0.0016228826 | P15: 0.0045643574 | Q15: 0.11694898
A16: 暦年 | B16: 今年 | C16: 1573900 | D16: 611600 | E16: 337000 | F16: 236500 | G16: 111800 | H16: 32000 | I16: 6800 | J16: 6800 | K16: 2700 | L16: 13300 | M16: 14800 | N16: 5900 | O16: 2900 | P16: 8100 | Q16: 183700
A17: 1月～7月 累計 | B17: 前年 | C17: 1130600 | D17: 461900 | E17: 209800 | F17: 144900 | G17: 102000 | H17: 27800 | I17: 6500 | J17: 7400 | K17: 1700 | L17: 8100 | M17: 9500 | N17: 4000 | O17: 1500 | P17: 5600 | Q17: 139900
B18: 増減数 | C18: 443300 | D18: 149700 | E18: 127200 | F18: 91600 | G18: 9800 | H18: 4200 | I18: 300 | J18: -600 | K18: 1000 | L18: 5200 | M18: 5300 | N18: 1900 | O18: 1400 | P18: 2500 | Q18: 43800
B19: 前年 同期比 | C19: 1.3920927 | D19: 1.3240961 | E19: 1.6062917 | F19: 1.6321601 | G19: 1.0960784 | H19: 1.1510791 | I19: 1.0461538 | J19: 0.91891892 | K19: 1.5882353 | L19: 1.6419753 | M19: 1.5578947 | N19: 1.475 | O19: 1.9333333 | P19: 1.4464286 | Q19: 1.3130808
B20: 今年 構成比 | C20: 1 | D20: 0.38858886 | E20: 0.2141178 | F20: 0.15026368 | G20: 0.071033738 | H20: 0.02033166 | I20: 0.0043204778 | J20: 0.0043204778 | K20: 0.0017154838 | L20: 0.0084503463 | M20: 0.0094033928 | N20: 0.0037486499 | O20: 0.0018425567 | P20: 0.0051464515 | Q20: 0.11671644
A21: 注 | B21: ①外国人については法務省出入国在留管理庁及び船社代理店の資料に基づいており、乗務員等を含む。
B22: ②イギリス・フランスは、平成22年４月から表章を始めた。
B23: ③タイ、シンガポール、マレーシアは、平成23年４月から表章を始めた。
B24: ④インドネシアは、平成24年11月から表章を始めた。
B25: ⑤カナダ、オーストラリアは、平成28年４月から表章を始めた。
B26: ⑥乗務員等は、「その他」に一括計上している。

Sheet ８月（１表）
A1: =令和７年度!A1 -> 令和７年度 | D1: =RIGHT(CELL("filename",$A$1),LEN(CELL("filename",$A$1))-FIND("]",CELL("filename",$A$1))) -> ８月（１表） | E1: 入 域 観 光 客 統 計 月 報
A3: 第１表 入域観光客数 | K3: (単位:人、％)
B4: 区分 | C4: 入域観光客数（総数）
F5: 空路海路別内訳
A6: 期間 | D6: 国内 | E6: 外国 | F6: 空路計 | I6: 海路計
G7: 国内 | H7: 外国 | J7: 国内 | K7: 外国
A8: 月間 | B8: 令和7年8月 | C8: 1074900 | D8: 783500 | E8: 291400 | F8: 982400 | G8: 780400 | H8: 202000 | I8: 92500 | J8: 3100 | K8: 89400
B9: 令和6年8月 | C9: 1003800 | D9: 768800 | E9: 235000 | F9: 900400 | G9: 766100 | H9: 134300 | I9: 103400 | J9: 2700 | K9: 100700
B10: 増減数 | C10: 71100 | D10: 14700 | E10: 56400 | F10: 82000 | G10: 14300 | H10: 67700 | I10: -10900 | J10: 400 | K10: -11300
B11: 前年 同月比 | C11: 1.0708308 | D11: 1.0191207 | E11: 1.24 | F11: 1.0910706 | G11: 1.018666 | H11: 1.5040953 | I11: 0.89458414 | J11: 1.1481481 | K11: 0.8877855
A12: 年度 | B12: 今年度 | C12: 4586600 | D12: 3309300 | E12: 1277300 | F12: 4168700 | G12: 3284300 | H12: 884400 | I12: 417900 | J12: 25000 | K12: 392900
A13: 4月～8月 累計 | B13: 前年度 | C13: 4129900 | D13: 3193600 | E13: 936300 | F13: 3784000 | G13: 3175700 | H13: 608300 | I13: 345900 | J13: 17900 | K13: 328000
B14: 増減数 | C14: 456700 | D14: 115700 | E14: 341000 | F14: 384700 | G14: 108600 | H14: 276100 | I14: 72000 | J14: 7100 | K14: 64900
B15: 前年度 同期比 | C15: 1.1105838 | D15: 1.0362287 | E15: 1.3641995 | F15: 1.1016649 | G15: 1.0341972 | H15: 1.4538879 | I15: 1.2081526 | J15: 1.396648 | K15: 1.1978659
A16: 暦年 | B16: 今年 | C16: 7064000 | D16: 5198700 | E16: 1865300 | F16: 6467400 | G16: 5166300 | H16: 1301100 | I16: 596600 | J16: 32400 | K16: 564200
A17: 1月～8月 累計 | B17: 前年 | C17: 6323400 | D17: 4957800 | E17: 1365600 | F17: 5823700 | G17: 4931400 | H17: 892300 | I17: 499700 | J17: 26400 | K17: 473300
B18: 増減数 | C18: 740600 | D18: 240900 | E18: 499700 | F18: 643700 | G18: 234900 | H18: 408800 | I18: 96900 | J18: 6000 | K18: 90900
B19: 前年 同期比 | C19: 1.1171205 | D19: 1.0485901 | E19: 1.3659197 | F19: 1.1105311 | G19: 1.0476335 | H19: 1.4581419 | I19: 1.1939163 | J19: 1.2272727 | K19: 1.1920558
D21: 【参考】外国客のうち、乗務員等の人数： | E21: 23100 | F21: （海路） | K21: 8

Sheet ８月（２表）
A1: =令和７年度!A1 -> 令和７年度 | E1: =RIGHT(CELL("filename",$A$1),LEN(CELL("filename",$A$1))-FIND("]",CELL("filename",$A$1))) -> ８月（２表） | F1: 入 域 観 光 客 統 計 月 報
A3: 第２表 航路別入域観光客数
B4: 区分 | D4: 1 | E4: 2 | F4: 3 | G4: 4 | H4: 5 | I4: 6 | J4: 7 | K4: 8 | L4: 9 | M4: 10 | N4: 11 | O4: 12 | P4: 13 | Q4: 14 | R4: 15 | S4: 16 | T4: 17 | U4: 18 | V4: 19 | W4: 20 | X4: 21 | Y4: 22 | Z4: 23 | AA4: 24 | AB4: 25 | AC4: 26 | AD4: 27 | AE4: 28
A5: 期間 | C5: 総数 | D5: 東京 | E5: 伊丹 | F5: 関西 | G5: 神戸 | H5: 福岡 | I5: 北九州 | J5: 名古屋 | K5: 札幌 | L5: 鹿児島 | M5: 仙台 | N5: 福島 | O5: 新潟 | P5: 静岡 | Q5: 富山 | R5: 小松 | S5: 岡山 | T5: 広島 | U5: 高松 | V5: 松山 | W5: 高知 | X5: 長崎 | Y5: 熊本 | Z5: 大分 | AA5: 宮崎 | AB5: 茨城 | AC5: 岩国 | AD5: その他 | AE5: 外国
A6: 月間 | B6: 令和7年8月 | C6: 1074900 | D6: 377300 | E6: 58500 | F6: 78400 | G6: 35000 | H6: 99400 | I6: 0 | J6: 70900 | K6: 4400 | L6: 15400 | M6: 4700 | N6: 0 | O6: 0 | P6: 3800 | Q6: 0 | R6: 3500 | S6: 4000 | T6: 4800 | U6: 4100 | V6: 3600 | W6: 0 | X6: 0 | Y6: 3900 | Z6: 0 | AA6: 3900 | AB6: 3800 | AC6: 4100 | AD6: 0 | AE6: 291400
B7: 令和6年8月 | C7: 1003800 | D7: 373800 | E7: 55000 | F7: 78600 | G7: 35100 | H7: 94600 | I7: 0 | J7: 67400 | K7: 4400 | L7: 14900 | M7: 5300 | N7: 0 | O7: 0 | P7: 3600 | Q7: 0 | R7: 3400 | S7: 3800 | T7: 4600 | U7: 5400 | V7: 3800 | W7: 0 | X7: 0 | Y7: 3800 | Z7: 0 | AA7: 3500 | AB7: 4000 | AC7: 3800 | AD7: 0 | AE7: 235000
B8: 増減数 | C8: 71100 | D8: 3500 | E8: 3500 | F8: -200 | G8: -100 | H8: 4800 | I8: 0 | J8: 3500 | K8: 0 | L8: 500 | M8: -600 | N8: 0 | O8: 0 | P8: 200 | Q8: 0 | R8: 100 | S8: 200 | T8: 200 | U8: -1300 | V8: -200 | W8: 0 | X8: 0 | Y8: 100 | Z8: 0 | AA8: 400 | AB8: -200 | AC8: 300 | AD8: 0 | AE8: 56400
B9: 前年 同月比 | C9: 1.0708308 | D9: 1.0093633 | E9: 1.0636364 | F9: 0.99745547 | G9: 0.997151 | H9: 1.05074 | I9: - | J9: 1.0519288 | K9: 1 | L9: 1.033557 | M9: 0.88679245 | N9: - | O9: - | P9: 1.0555556 | Q9: - | R9: 1.0294118 | S9: 1.0526316 | T9: 1.0434783 | U9: 0.75925926 | V9: 0.94736842 | W9: - | X9: - | Y9: 1.0263158 | Z9: - | AA9: 1.1142857 | AB9: 0.95 | AC9: 1.0789474 | AD9: - | AE9: 1.24
B10: 当月 構成比 | C10: 1 | D10: 0.3510094 | E10: 0.054423667 | F10: 0.072937017 | G10: 0.032561168 | H10: 0.092473718 | I10: 0 | J10: 0.065959624 | K10: 0.004093404 | L10: 0.014326914 | M10: 0.0043724998 | N10: 0 | O10: 0 | P10: 0.0035352126 | Q10: 0 | R10: 0.0032561168 | S10: 0.0037212764 | T10: 0.0044655317 | U10: 0.0038143083 | V10: 0.0033491488 | W10: 0 | X10: 0 | Y10: 0.0036282445 | Z10: 0 | AA10: 0.0036282445 | AB10: 0.0035352126 | AC10: 0.0038143083 | AD10: 0 | AE10: 0.27109499
A11: 年度 | B11: 今年度 | C11: 4586600 | D11: 1598500 | E11: 234800 | F11: 345300 | G11: 143100 | H11: 410800 | I11: 0 | J11: 287700 | K11: 20600 | L11: 61600 | M11: 21200 | N11: 0 | O11: 4700 | P11: 14300 | Q11: 100 | R11: 16000 | S11: 19900 | T11: 21700 | U11: 20900 | V11: 16000 | W11: 0 | X11: 0 | Y11: 17500 | Z11: 0 | AA11: 15600 | AB11: 15500 | AC11: 16800 | AD11: 6700 | AE11: 1277300
A12: 4月～8月 累計 | B12: 前年度 | C12: 4129900 | D12: 1550100 | E12: 222800 | F12: 335400 | G12: 146200 | H12: 392100 | I12: 0 | J12: 267700 | K12: 20400 | L12: 59400 | M12: 21500 | N12: 0 | O12: 3900 | P12: 7400 | Q12: 0 | R12: 14500 | S12: 19200 | T12: 22200 | U12: 25800 | V12: 15200 | W12: 0 | X12: 0 | Y12: 16900 | Z12: 0 | AA12: 14700 | AB12: 17300 | AC12: 15200 | AD12: 5700 | AE12: 936300
B13: 増減数 | C13: 456700 | D13: 48400 | E13: 12000 | F13: 9900 | G13: -3100 | H13: 18700 | I13: 0 | J13: 20000 | K13: 200 | L13: 2200 | M13: -300 | N13: 0 | O13: 800 | P13: 6900 | Q13: 100 | R13: 1500 | S13: 700 | T13: -500 | U13: -4900 | V13: 800 | W13: 0 | X13: 0 | Y13: 600 | Z13: 0 | AA13: 900 | AB13: -1800 | AC13: 1600 | AD13: 1000 | AE13: 341000
B14: 前年度 同期比 | C14: 1.1105838 | D14: 1.0312238 | E14: 1.05386 | F14: 1.029517 | G14: 0.97879617 | H14: 1.0476919 | I14: - | J14: 1.0747105 | K14: 1.0098039 | L14: 1.037037 | M14: 0.98604651 | N14: - | O14: 1.2051282 | P14: 1.9324324 | Q14: 皆増 | R14: 1.1034483 | S14: 1.0364583 | T14: 0.97747748 | U14: 0.81007752 | V14: 1.0526316 | W14: - | X14: - | Y14: 1.035503 | Z14: - | AA14: 1.0612245 | AB14: 0.89595376 | AC14: 1.1052632 | AD14: 1.1754386 | AE14: 1.3641995
B15: 今年度 構成比 | C15: 1 | D15: 0.34851524 | E15: 0.051192605 | F15: 0.075284524 | G15: 0.031199581 | H15: 0.089565255 | I15: 0 | J15: 0.062726202 | K15: 0.0044913444 | L15: 0.013430428 | M15: 0.0046221602 | N15: 0 | O15: 0.0010247242 | P15: 0.0031177779 | Q15: 2.1802642e-05 | R15: 0.0034884228 | S15: 0.0043387259 | T15: 0.0047311734 | U15: 0.0045567523 | V15: 0.0034884228 | W15: 0 | X15: 0 | Y15: 0.0038154624 | Z15: 0 | AA15: 0.0034012122 | AB15: 0.0033794096 | AC15: 0.0036628439 | AD15: 0.001460777 | AE15: 0.27848515
A16: 暦年 | B16: 今年 | C16: 7064000 | D16: 2508600 | E16: 357900 | F16: 534300 | G16: 222400 | H16: 647100 | I16: 100 | J16: 456700 | K16: 33000 | L16: 96300 | M16: 38400 | N16: 100 | O16: 12500 | P16: 22700 | Q16: 200 | R16: 25400 | S16: 30700 | T16: 37900 | U16: 32900 | V16: 25700 | W16: 200 | X16: 100 | Y16: 28900 | Z16: 0 | AA16: 25600 | AB16: 26000 | AC16: 26200 | AD16: 8800 | AE16: 1865300
A17: 1月～8月 累計 | B17: 前年 | C17: 6323400 | D17: 2396200 | E17: 339900 | F17: 507500 | G17: 225600 | H17: 621600 | I17: 0 | J17: 423100 | K17: 32600 | L17: 90200 | M17: 36600 | N17: 100 | O17: 10700 | P17: 10900 | Q17: 0 | R17: 23900 | S17: 29900 | T17: 34400 | U17: 37200 | V17: 24600 | W17: 200 | X17: 0 | Y17: 27300 | Z17: 0 | AA17: 23800 | AB17: 27500 | AC17: 24000 | AD17: 10000 | AE17: 1365600
B18: 増減数 | C18: 740600 | D18: 112400 | E18: 18000 | F18: 26800 | G18: -3200 | H18: 25500 | I18: 100 | J18: 33600 | K18: 400 | L18: 6100 | M18: 1800 | N18: 0 | O18: 1800 | P18: 11800 | Q18: 200 | R18: 1500 | S18: 800 | T18: 3500 | U18: -4300 | V18: 1100 | W18: 0 | X18: 100 | Y18: 1600 | Z18: 0 | AA18: 1800 | AB18: -1500 | AC18: 2200 | AD18: -1200 | AE18: 499700
B19: 前年 同期比 | C19: 1.1171205 | D19: 1.0469076 | E19: 1.0529568 | F19: 1.0528079 | G19: 0.9858156 | H19: 1.0410232 | I19: 皆増 | J19: 1.0794139 | K19: 1.0122699 | L19: 1.0676275 | M19: 1.0491803 | N19: 1 | O19: 1.1682243 | P19: 2.0825688 | Q19: 皆増 | R19: 1.0627615 | S19: 1.0267559 | T19: 1.1017442 | U19: 0.8844086 | V19: 1.0447154 | W19: 1 | X19: 皆増 | Y19: 1.0586081 | Z19: - | AA19: 1.0756303 | AB19: 0.94545455 | AC19: 1.0916667 | AD19: 0.88 | AE19: 1.3659197
B20: 今年 構成比 | C20: 1 | D20: 0.35512458 | E20: 0.050665345 | F20: 0.075637033 | G20: 0.031483579 | H20: 0.091605323 | I20: 1.4156285e-05 | J20: 0.064651755 | K20: 0.0046715742 | L20: 0.013632503 | M20: 0.0054360136 | N20: 1.4156285e-05 | O20: 0.0017695357 | P20: 0.0032134768 | Q20: 2.8312571e-05 | R20: 0.0035956965 | S20: 0.0043459796 | T20: 0.0053652322 | U20: 0.0046574179 | V20: 0.0036381653 | W20: 2.8312571e-05 | X20: 1.4156285e-05 | Y20: 0.0040911665 | Z20: 0 | AA20: 0.0036240091 | AB20: 0.0036806342 | AC20: 0.0037089468 | AD20: 0.0012457531 | AE20: 0.26405719
A21: 注 | B21: １ 国内客には、沖縄県居住者は含まない。本土経由で来県する外国客は含む。
B22: 2 推計方法は、国内航路については、本土と沖縄県間に航路を有する航空及び船舶各社の航路別旅客輸送実績に同航路における入域観光客の混在率 (サンプリング調査）をデフレーターとして算出した。
B23: また、外国人については法務省出入国在留管理庁の公表資料及び船社代理店の資料に基づき沖縄県が推計。乗務員等を含む。
D25: 参考値 東京空港内訳 | H25: 参考値 FSC・LCC内訳
E26: 羽田 | F26: 成田 | I26: FSC | J26: LCC
D27: 令和7年8月 | E27: 336900 | F27: 40400 | H27: 令和7年8月 | I27: 667500 | J27: 112900
D28: 令和6年8月 | E28: 331100 | F28: 42600 | H28: 令和6年8月 | I28: 652800 | J28: 113300
D29: 増減数 | E29: 5800 | F29: -2200 | H29: 増減数 | I29: 14700 | J29: -400
D30: 前年 同月比 | E30: 1.0175174 | F30: 0.94835681 | H30: 前年 同月比 | I30: 1.0225184 | J30: 0.99646955 | L30: ※羽田・成田内訳、FSC・LCC観光客数は海路客を除く
D31: 当月 構成比 | E31: 0.34293567 | F31: 0.041123779 | H31: FSC・LCC 比率 | I31: 0.8553306 | J31: 0.1446694 | L31: ※観光客数算出の方法上、東京と羽田＋成田の合計値が一致しない場合、 前年の東京の値と一致しない場合があります。

Sheet ８月（３表）
A1: =令和７年度!A1 -> 令和７年度 | E1: =RIGHT(CELL("filename",$A$1),LEN(CELL("filename",$A$1))-FIND("]",CELL("filename",$A$1))) -> ８月（３表） | F1: 入 域 観 光 客 統 計 月 報
A3: 第３表 国籍別入域観光客数
B4: 区分 | D4: 1 | E4: 2 | F4: 3 | G4: 4 | H4: 5 | I4: 6 | J4: 7 | K4: 8 | L4: 9 | M4: 10 | N4: 11 | O4: 12 | P4: 13 | Q4: 14
A5: 期間 | C5: 外国人総数 | D5: 台湾 | E5: 韓国 | F5: 中国本土 | G5: 香港 | H5: アメリカ | I5: カナダ | J5: イギリス（本国） | K5: フランス | L5: タイ | M5: シンガポール | N5: マレーシア | O5: インドネシア | P5: ｵｰｽﾄﾗﾘｱ | Q5: その他
A6: 月間 | B6: 令和7年8月 | C6: 291400 | D6: 132700 | E6: 41600 | F6: 51000 | G6: 29700 | H6: 2800 | I6: 800 | J6: 900 | K6: 600 | L6: 1300 | M6: 500 | N6: 500 | O6: 300 | P6: 400 | Q6: 28300
B7: 令和6年8月 | C7: 235000 | D7: 120000 | E7: 34800 | F7: 27600 | G7: 15700 | H7: 2100 | I7: 400 | J7: 400 | K7: 300 | L7: 1100 | M7: 900 | N7: 700 | O7: 300 | P7: 300 | Q7: 30400
B8: 増減数 | C8: 56400 | D8: 12700 | E8: 6800 | F8: 23400 | G8: 14000 | H8: 700 | I8: 400 | J8: 500 | K8: 300 | L8: 200 | M8: -400 | N8: -200 | O8: 0 | P8: 100 | Q8: -2100
B9: 前年 同月比 | C9: 1.24 | D9: 1.1058333 | E9: 1.1954023 | F9: 1.8478261 | G9: 1.8917197 | H9: 1.3333333 | I9: 2 | J9: 2.25 | K9: 2 | L9: 1.1818182 | M9: 0.55555556 | N9: 0.71428571 | O9: 1 | P9: 1.3333333 | Q9: 0.93092105
B10: 今年度 構成比 | C10: 1 | D10: 0.45538778 | E10: 0.14275909 | F10: 0.17501716 | G10: 0.10192176 | H10: 0.0096087852 | I10: 0.0027453672 | J10: 0.0030885381 | K10: 0.0020590254 | L10: 0.0044612217 | M10: 0.0017158545 | N10: 0.0017158545 | O10: 0.0010295127 | P10: 0.0013726836 | Q10: 0.097117364
A11: 年度 | B11: 今年度 | C11: 1277300 | D11: 548900 | E11: 230300 | F11: 191900 | G11: 101300 | H11: 20300 | I11: 4300 | J11: 4500 | K11: 2600 | L11: 9200 | M11: 9900 | N11: 3700 | O11: 1900 | P11: 4900 | Q11: 143600
A12: 4月～8月 累計 | B12: 前年度 | C12: 936300 | D12: 412800 | E12: 166300 | F12: 126700 | G12: 77200 | H12: 15300 | I12: 3400 | J12: 3800 | K12: 1500 | L12: 7700 | M12: 6100 | N12: 2700 | O12: 1300 | P12: 3300 | Q12: 108200
B13: 増減数 | C13: 341000 | D13: 136100 | E13: 64000 | F13: 65200 | G13: 24100 | H13: 5000 | I13: 900 | J13: 700 | K13: 1100 | L13: 1500 | M13: 3800 | N13: 1000 | O13: 600 | P13: 1600 | Q13: 35400
B14: 前年度 同期比 | C14: 1.3641995 | D14: 1.3296996 | E14: 1.3848467 | F14: 1.5146014 | G14: 1.3121762 | H14: 1.3267974 | I14: 1.2647059 | J14: 1.1842105 | K14: 1.7333333 | L14: 1.1948052 | M14: 1.6229508 | N14: 1.3703704 | O14: 1.4615385 | P14: 1.4848485 | Q14: 1.3271719
B15: 今年度 構成比 | C15: 1 | D15: 0.4297346 | E15: 0.1803022 | F15: 0.15023878 | G15: 0.079307915 | H15: 0.015892899 | I15: 0.0033664762 | J15: 0.0035230564 | K15: 0.0020355437 | L15: 0.0072026932 | M15: 0.0077507242 | N15: 0.0028967353 | O15: 0.0014875127 | P15: 0.003836217 | Q15: 0.11242465
A16: 暦年 | B16: 今年 | C16: 1865300 | D16: 744300 | E16: 378600 | F16: 287500 | G16: 141500 | H16: 34800 | I16: 7600 | J16: 7700 | K16: 3300 | L16: 14600 | M16: 15300 | N16: 6400 | O16: 3200 | P16: 8500 | Q16: 212000
A17: 1月～8月 累計 | B17: 前年 | C17: 1365600 | D17: 581900 | E17: 244600 | F17: 172500 | G17: 117700 | H17: 29900 | I17: 6900 | J17: 7800 | K17: 2000 | L17: 9200 | M17: 10400 | N17: 4700 | O17: 1800 | P17: 5900 | Q17: 170300
B18: 増減数 | C18: 499700 | D18: 162400 | E18: 134000 | F18: 115000 | G18: 23800 | H18: 4900 | I18: 700 | J18: -100 | K18: 1300 | L18: 5400 | M18: 4900 | N18: 1700 | O18: 1400 | P18: 2600 | Q18: 41700
B19: 前年 同期比 | C19: 1.3659197 | D19: 1.2790858 | E19: 1.5478332 | F19: 1.6666667 | G19: 1.202209 | H19: 1.1638796 | I19: 1.1014493 | J19: 0.98717949 | K19: 1.65 | L19: 1.5869565 | M19: 1.4711538 | N19: 1.3617021 | O19: 1.7777778 | P19: 1.440678 | Q19: 1.244862
B20: 今年 構成比 | C20: 1 | D20: 0.39902429 | E20: 0.20297003 | F20: 0.1541307 | G20: 0.075859111 | H20: 0.018656516 | I20: 0.0040744116 | J20: 0.0041280223 | K20: 0.0017691524 | L20: 0.0078271592 | M20: 0.0082024339 | N20: 0.0034310835 | O20: 0.0017155417 | P20: 0.0045569077 | Q20: 0.11365464
A21: 注 | B21: ①外国人については法務省出入国在留管理庁及び船社代理店の資料に基づいており、乗務員等を含む。
B22: ②イギリス・フランスは、平成22年４月から表章を始めた。
B23: ③タイ、シンガポール、マレーシアは、平成23年４月から表章を始めた。
B24: ④インドネシアは、平成24年11月から表章を始めた。
B25: ⑤カナダ、オーストラリアは、平成28年４月から表章を始めた。
B26: ⑥乗務員等は、「その他」に一括計上している。

Sheet ９月（１表）
A1: =令和７年度!A1 -> 令和７年度 | D1: =RIGHT(CELL("filename",$A$1),LEN(CELL("filename",$A$1))-FIND("]",CELL("filename",$A$1))) -> ９月（１表） | E1: 入 域 観 光 客 統 計 月 報
A3: 第１表 入域観光客数 | K3: (単位:人、％)
B4: 区分 | C4: 入域観光客数（総数）
F5: 空路海路別内訳
A6: 期間 | D6: 国内 | E6: 外国 | F6: 空路計 | I6: 海路計
G7: 国内 | H7: 外国 | J7: 国内 | K7: 外国
A8: 月間 | B8: 令和7年9月 | C8: 948600 | D8: 685700 | E8: 262900 | F8: 854700 | G8: 681500 | H8: 173200 | I8: 93900 | J8: 4200 | K8: 89700
B9: 令和6年9月 | C9: 830900 | D9: 634600 | E9: 196300 | F9: 758400 | G9: 633000 | H9: 125400 | I9: 72500 | J9: 1600 | K9: 70900
B10: 増減数 | C10: 117700 | D10: 51100 | E10: 66600 | F10: 96300 | G10: 48500 | H10: 47800 | I10: 21400 | J10: 2600 | K10: 18800
B11: 前年 同月比 | C11: 1.1416536 | D11: 1.0805232 | E11: 1.3392766 | F11: 1.1269778 | G11: 1.0766193 | H11: 1.3811802 | I11: 1.2951724 | J11: 2.625 | K11: 1.2651622
A12: 年度 | B12: 今年度 | C12: 5535200 | D12: 3995000 | E12: 1540200 | F12: 5023400 | G12: 3965800 | H12: 1057600 | I12: 511800 | J12: 29200 | K12: 482600
A13: 4月～9月 累計 | B13: 前年度 | C13: 4960800 | D13: 3828200 | E13: 1132600 | F13: 4542400 | G13: 3808700 | H13: 733700 | I13: 418400 | J13: 19500 | K13: 398900
B14: 増減数 | C14: 574400 | D14: 166800 | E14: 407600 | F14: 481000 | G14: 157100 | H14: 323900 | I14: 93400 | J14: 9700 | K14: 83700
B15: 前年度 同期比 | C15: 1.1157878 | D15: 1.0435714 | E15: 1.3598799 | F15: 1.1058912 | G15: 1.0412477 | H15: 1.4414611 | I15: 1.2232314 | J15: 1.4974359 | K15: 1.209827
A16: 暦年 | B16: 今年 | C16: 8012600 | D16: 5884400 | E16: 2128200 | F16: 7322100 | G16: 5847800 | H16: 1474300 | I16: 690500 | J16: 36600 | K16: 653900
A17: 1月～9月 累計 | B17: 前年 | C17: 7154300 | D17: 5592400 | E17: 1561900 | F17: 6582100 | G17: 5564400 | H17: 1017700 | I17: 572200 | J17: 28000 | K17: 544200
B18: 増減数 | C18: 858300 | D18: 292000 | E18: 566300 | F18: 740000 | G18: 283400 | H18: 456600 | I18: 118300 | J18: 8600 | K18: 109700
B19: 前年 同期比 | C19: 1.1199698 | D19: 1.0522137 | E19: 1.3625712 | F19: 1.1124261 | G19: 1.0509309 | H19: 1.4486587 | I19: 1.2067459 | J19: 1.3071429 | K19: 1.2015803
D21: 【参考】外国客のうち、乗務員等の人数： | E21: 25200 | F21: （海路） | K21: 9

Sheet ９月（２表）
A1: =令和７年度!A1 -> 令和７年度 | E1: =RIGHT(CELL("filename",$A$1),LEN(CELL("filename",$A$1))-FIND("]",CELL("filename",$A$1))) -> ９月（２表） | F1: 入 域 観 光 客 統 計 月 報
A3: 第２表 航路別入域観光客数
B4: 区分 | D4: 1 | E4: 2 | F4: 3 | G4: 4 | H4: 5 | I4: 6 | J4: 7 | K4: 8 | L4: 9 | M4: 10 | N4: 11 | O4: 12 | P4: 13 | Q4: 14 | R4: 15 | S4: 16 | T4: 17 | U4: 18 | V4: 19 | W4: 20 | X4: 21 | Y4: 22 | Z4: 23 | AA4: 24 | AB4: 25 | AC4: 26 | AD4: 27 | AE4: 28
A5: 期間 | C5: 総数 | D5: 東京 | E5: 伊丹 | F5: 関西 | G5: 神戸 | H5: 福岡 | I5: 北九州 | J5: 名古屋 | K5: 札幌 | L5: 鹿児島 | M5: 仙台 | N5: 福島 | O5: 新潟 | P5: 静岡 | Q5: 富山 | R5: 小松 | S5: 岡山 | T5: 広島 | U5: 高松 | V5: 松山 | W5: 高知 | X5: 長崎 | Y5: 熊本 | Z5: 大分 | AA5: 宮崎 | AB5: 茨城 | AC5: 岩国 | AD5: その他 | AE5: 外国
A6: 月間 | B6: 令和7年9月 | C6: 948600 | D6: 342200 | E6: 47600 | F6: 70400 | G6: 29300 | H6: 85600 | I6: 0 | J6: 55200 | K6: 4200 | L6: 11900 | M6: 4500 | N6: 0 | O6: 0 | P6: 3100 | Q6: 0 | R6: 3000 | S6: 3500 | T6: 4500 | U6: 3400 | V6: 3600 | W6: 0 | X6: 0 | Y6: 3700 | Z6: 0 | AA6: 3100 | AB6: 3500 | AC6: 3400 | AD6: 0 | AE6: 262900
B7: 令和6年9月 | C7: 830900 | D7: 324400 | E7: 37900 | F7: 67900 | G7: 26900 | H7: 75200 | I7: 0 | J7: 49900 | K7: 4200 | L7: 11200 | M7: 5100 | N7: 0 | O7: 0 | P7: 2400 | Q7: 0 | R7: 2800 | S7: 3200 | T7: 4400 | U7: 3400 | V7: 3200 | W7: 0 | X7: 0 | Y7: 3200 | Z7: 0 | AA7: 3000 | AB7: 3200 | AC7: 3100 | AD7: 0 | AE7: 196300
B8: 増減数 | C8: 117700 | D8: 17800 | E8: 9700 | F8: 2500 | G8: 2400 | H8: 10400 | I8: 0 | J8: 5300 | K8: 0 | L8: 700 | M8: -600 | N8: 0 | O8: 0 | P8: 700 | Q8: 0 | R8: 200 | S8: 300 | T8: 100 | U8: 0 | V8: 400 | W8: 0 | X8: 0 | Y8: 500 | Z8: 0 | AA8: 100 | AB8: 300 | AC8: 300 | AD8: 0 | AE8: 66600
B9: 前年 同月比 | C9: 1.1416536 | D9: 1.0548705 | E9: 1.2559367 | F9: 1.0368189 | G9: 1.0892193 | H9: 1.1382979 | I9: - | J9: 1.1062124 | K9: 1 | L9: 1.0625 | M9: 0.88235294 | N9: - | O9: - | P9: 1.2916667 | Q9: - | R9: 1.0714286 | S9: 1.09375 | T9: 1.0227273 | U9: 1 | V9: 1.125 | W9: - | X9: - | Y9: 1.15625 | Z9: - | AA9: 1.0333333 | AB9: 1.09375 | AC9: 1.0967742 | AD9: - | AE9: 1.3392766
B10: 当月 構成比 | C10: 1 | D10: 0.36074215 | E10: 0.050179211 | F10: 0.074214632 | G10: 0.030887624 | H10: 0.090238246 | I10: 0 | J10: 0.058191018 | K10: 0.0044275775 | L10: 0.012544803 | M10: 0.004743833 | N10: 0 | O10: 0 | P10: 0.0032679739 | Q10: 0 | R10: 0.0031625553 | S10: 0.0036896479 | T10: 0.004743833 | U10: 0.0035842294 | V10: 0.0037950664 | W10: 0 | X10: 0 | Y10: 0.0039004849 | Z10: 0 | AA10: 0.0032679739 | AB10: 0.0036896479 | AC10: 0.0035842294 | AD10: 0 | AE10: 0.27714527
A11: 年度 | B11: 今年度 | C11: 5535200 | D11: 1940700 | E11: 282400 | F11: 415700 | G11: 172400 | H11: 496400 | I11: 0 | J11: 342900 | K11: 24800 | L11: 73500 | M11: 25700 | N11: 0 | O11: 4700 | P11: 17400 | Q11: 100 | R11: 19000 | S11: 23400 | T11: 26200 | U11: 24300 | V11: 19600 | W11: 0 | X11: 0 | Y11: 21200 | Z11: 0 | AA11: 18700 | AB11: 19000 | AC11: 20200 | AD11: 6700 | AE11: 1540200
A12: 4月～9月 累計 | B12: 前年度 | C12: 4960800 | D12: 1874500 | E12: 260700 | F12: 403300 | G12: 173100 | H12: 467300 | I12: 0 | J12: 317600 | K12: 24600 | L12: 70600 | M12: 26600 | N12: 0 | O12: 3900 | P12: 9800 | Q12: 0 | R12: 17300 | S12: 22400 | T12: 26600 | U12: 29200 | V12: 18400 | W12: 0 | X12: 0 | Y12: 20100 | Z12: 0 | AA12: 17700 | AB12: 20500 | AC12: 18300 | AD12: 5700 | AE12: 1132600
B13: 増減数 | C13: 574400 | D13: 66200 | E13: 21700 | F13: 12400 | G13: -700 | H13: 29100 | I13: 0 | J13: 25300 | K13: 200 | L13: 2900 | M13: -900 | N13: 0 | O13: 800 | P13: 7600 | Q13: 100 | R13: 1700 | S13: 1000 | T13: -400 | U13: -4900 | V13: 1200 | W13: 0 | X13: 0 | Y13: 1100 | Z13: 0 | AA13: 1000 | AB13: -1500 | AC13: 1900 | AD13: 1000 | AE13: 407600
B14: 前年度 同期比 | C14: 1.1157878 | D14: 1.0353161 | E14: 1.0832374 | F14: 1.0307463 | G14: 0.99595609 | H14: 1.0622726 | I14: - | J14: 1.0796599 | K14: 1.0081301 | L14: 1.0410765 | M14: 0.96616541 | N14: - | O14: 1.2051282 | P14: 1.7755102 | Q14: 皆増 | R14: 1.0982659 | S14: 1.0446429 | T14: 0.98496241 | U14: 0.83219178 | V14: 1.0652174 | W14: - | X14: - | Y14: 1.0547264 | Z14: - | AA14: 1.0564972 | AB14: 0.92682927 | AC14: 1.1038251 | AD14: 1.1754386 | AE14: 1.3598799
B15: 今年度 構成比 | C15: 1 | D15: 0.35061064 | E15: 0.051018933 | F15: 0.075101171 | G15: 0.031146119 | H15: 0.08968059 | I15: 0 | J15: 0.061948981 | K15: 0.0044804162 | L15: 0.013278653 | M15: 0.004643012 | N15: 0 | O15: 0.00084911114 | P15: 0.0031435178 | Q15: 1.8066195e-05 | R15: 0.003432577 | S15: 0.0042274895 | T15: 0.004733343 | U15: 0.0043900853 | V15: 0.0035409741 | W15: 0 | X15: 0 | Y15: 0.0038300332 | Z15: 0 | AA15: 0.0033783784 | AB15: 0.003432577 | AC15: 0.0036493713 | AD15: 0.001210435 | AE15: 0.27825553
A16: 暦年 | B16: 今年 | C16: 8012600 | D16: 2850800 | E16: 405500 | F16: 604700 | G16: 251700 | H16: 732700 | I16: 100 | J16: 511900 | K16: 37200 | L16: 108200 | M16: 42900 | N16: 100 | O16: 12500 | P16: 25800 | Q16: 200 | R16: 28400 | S16: 34200 | T16: 42400 | U16: 36300 | V16: 29300 | W16: 200 | X16: 100 | Y16: 32600 | Z16: 0 | AA16: 28700 | AB16: 29500 | AC16: 29600 | AD16: 8800 | AE16: 2128200
A17: 1月～9月 累計 | B17: 前年 | C17: 7154300 | D17: 2720600 | E17: 377800 | F17: 575400 | G17: 252500 | H17: 696800 | I17: 0 | J17: 473000 | K17: 36800 | L17: 101400 | M17: 41700 | N17: 100 | O17: 10700 | P17: 13300 | Q17: 0 | R17: 26700 | S17: 33100 | T17: 38800 | U17: 40600 | V17: 27800 | W17: 200 | X17: 0 | Y17: 30500 | Z17: 0 | AA17: 26800 | AB17: 30700 | AC17: 27100 | AD17: 10000 | AE17: 1561900
B18: 増減数 | C18: 858300 | D18: 130200 | E18: 27700 | F18: 29300 | G18: -800 | H18: 35900 | I18: 100 | J18: 38900 | K18: 400 | L18: 6800 | M18: 1200 | N18: 0 | O18: 1800 | P18: 12500 | Q18: 200 | R18: 1700 | S18: 1100 | T18: 3600 | U18: -4300 | V18: 1500 | W18: 0 | X18: 100 | Y18: 2100 | Z18: 0 | AA18: 1900 | AB18: -1200 | AC18: 2500 | AD18: -1200 | AE18: 566300
B19: 前年 同期比 | C19: 1.1199698 | D19: 1.0478571 | E19: 1.0733192 | F19: 1.0509211 | G19: 0.99683168 | H19: 1.0515212 | I19: 皆増 | J19: 1.082241 | K19: 1.0108696 | L19: 1.0670611 | M19: 1.028777 | N19: 1 | O19: 1.1682243 | P19: 1.9398496 | Q19: 皆増 | R19: 1.0636704 | S19: 1.0332326 | T19: 1.0927835 | U19: 0.89408867 | V19: 1.0539568 | W19: 1 | X19: 皆増 | Y19: 1.0688525 | Z19: - | AA19: 1.0708955 | AB19: 0.96091205 | AC19: 1.0922509 | AD19: 0.88 | AE19: 1.3625712
B20: 今年 構成比 | C20: 1 | D20: 0.35578963 | E20: 0.050607793 | F20: 0.075468637 | G20: 0.031413024 | H20: 0.091443477 | I20: 1.2480343e-05 | J20: 0.063886878 | K20: 0.0046426878 | L20: 0.013503732 | M20: 0.0053540673 | N20: 1.2480343e-05 | O20: 0.0015600429 | P20: 0.0032199286 | Q20: 2.4960687e-05 | R20: 0.0035444175 | S20: 0.0042682775 | T20: 0.0052916656 | U20: 0.0045303647 | V20: 0.0036567406 | W20: 2.4960687e-05 | X20: 1.2480343e-05 | Y20: 0.004068592 | Z20: 0 | AA20: 0.0035818586 | AB20: 0.0036817013 | AC20: 0.0036941817 | AD20: 0.0010982702 | AE20: 0.26560667
A21: 注 | B21: １ 国内客には、沖縄県居住者は含まない。本土経由で来県する外国客は含む。
B22: 2 推計方法は、国内航路については、本土と沖縄県間に航路を有する航空及び船舶各社の航路別旅客輸送実績に同航路における入域観光客の混在率 (サンプリング調査）をデフレーターとして算出した。
B23: また、外国人については法務省出入国在留管理庁の公表資料及び船社代理店の資料に基づき沖縄県が推計。乗務員等を含む。
D25: 参考値 東京空港内訳 | H25: 参考値 FSC・LCC内訳
E26: 羽田 | F26: 成田 | I26: FSC | J26: LCC
D27: 令和7年9月 | E27: 310100 | F27: 32100 | H27: 令和7年9月 | I27: 581200 | J27: 100300
D28: 令和6年9月 | E28: 283900 | F28: 40500 | H28: 令和6年9月 | I28: 528700 | J28: 104300
D29: 増減数 | E29: 26200 | F29: -8400 | H29: 増減数 | I29: 52500 | J29: -4000
D30: 前年 同月比 | E30: 1.092286 | F30: 0.79259259 | H30: 前年 同月比 | I30: 1.0993002 | J30: 0.96164909 | L30: ※羽田・成田内訳、FSC・LCC観光客数は海路客を除く
D31: 当月 構成比 | E31: 0.36281736 | F31: 0.037557038 | H31: FSC・LCC 比率 | I31: 0.85282465 | J31: 0.14717535 | L31: ※観光客数算出の方法上、東京と羽田＋成田の合計値が一致しない場合、 前年の東京の値と一致しない場合があります。

Sheet ９月（３表）
A1: =令和７年度!A1 -> 令和７年度 | E1: =RIGHT(CELL("filename",$A$1),LEN(CELL("filename",$A$1))-FIND("]",CELL("filename",$A$1))) -> ９月（３表） | F1: 入 域 観 光 客 統 計 月 報
A3: 第３表 国籍別入域観光客数
B4: 区分 | D4: 1 | E4: 2 | F4: 3 | G4: 4 | H4: 5 | I4: 6 | J4: 7 | K4: 8 | L4: 9 | M4: 10 | N4: 11 | O4: 12 | P4: 13 | Q4: 14
A5: 期間 | C5: 外国人総数 | D5: 台湾 | E5: 韓国 | F5: 中国本土 | G5: 香港 | H5: アメリカ | I5: カナダ | J5: イギリス（本国） | K5: フランス | L5: タイ | M5: シンガポール | N5: マレーシア | O5: インドネシア | P5: ｵｰｽﾄﾗﾘｱ | Q5: その他
A6: 月間 | B6: 令和7年9月 | C6: 262900 | D6: 103400 | E6: 43500 | F6: 56200 | G6: 17700 | H6: 3000 | I6: 800 | J6: 900 | K6: 500 | L6: 1100 | M6: 500 | N6: 1000 | O6: 500 | P6: 800 | Q6: 33000
B7: 令和6年9月 | C7: 196300 | D7: 85200 | E7: 36200 | F7: 28800 | G7: 13100 | H7: 2800 | I7: 700 | J7: 600 | K7: 300 | L7: 1200 | M7: 1200 | N7: 900 | O7: 300 | P7: 500 | Q7: 24500
B8: 増減数 | C8: 66600 | D8: 18200 | E8: 7300 | F8: 27400 | G8: 4600 | H8: 200 | I8: 100 | J8: 300 | K8: 200 | L8: -100 | M8: -700 | N8: 100 | O8: 200 | P8: 300 | Q8: 8500
B9: 前年 同月比 | C9: 1.3392766 | D9: 1.213615 | E9: 1.2016575 | F9: 1.9513889 | G9: 1.351145 | H9: 1.0714286 | I9: 1.1428571 | J9: 1.5 | K9: 1.6666667 | L9: 0.91666667 | M9: 0.41666667 | N9: 1.1111111 | O9: 1.6666667 | P9: 1.6 | Q9: 1.3469388
B10: 今年度 構成比 | C10: 1 | D10: 0.39330544 | E10: 0.16546215 | F10: 0.21376949 | G10: 0.067325979 | H10: 0.011411183 | I10: 0.0030429821 | J10: 0.0034233549 | K10: 0.0019018638 | L10: 0.0041841004 | M10: 0.0019018638 | N10: 0.0038037277 | O10: 0.0019018638 | P10: 0.0030429821 | Q10: 0.12552301
A11: 年度 | B11: 今年度 | C11: 1540200 | D11: 652300 | E11: 273800 | F11: 248100 | G11: 119000 | H11: 23300 | I11: 5100 | J11: 5400 | K11: 3100 | L11: 10300 | M11: 10400 | N11: 4700 | O11: 2400 | P11: 5700 | Q11: 176600
A12: 4月～9月 累計 | B12: 前年度 | C12: 1132600 | D12: 498000 | E12: 202500 | F12: 155500 | G12: 90300 | H12: 18100 | I12: 4100 | J12: 4400 | K12: 1800 | L12: 8900 | M12: 7300 | N12: 3600 | O12: 1600 | P12: 3800 | Q12: 132700
B13: 増減数 | C13: 407600 | D13: 154300 | E13: 71300 | F13: 92600 | G13: 28700 | H13: 5200 | I13: 1000 | J13: 1000 | K13: 1300 | L13: 1400 | M13: 3100 | N13: 1100 | O13: 800 | P13: 1900 | Q13: 43900
B14: 前年度 同期比 | C14: 1.3598799 | D14: 1.3098394 | E14: 1.3520988 | F14: 1.5954984 | G14: 1.3178295 | H14: 1.2872928 | I14: 1.2439024 | J14: 1.2272727 | K14: 1.7222222 | L14: 1.1573034 | M14: 1.4246575 | N14: 1.3055556 | O14: 1.5 | P14: 1.5 | Q14: 1.3308214
B15: 今年度 構成比 | C15: 1 | D15: 0.42351643 | E15: 0.17776912 | F15: 0.16108298 | G15: 0.077262693 | H15: 0.015127905 | I15: 0.0033112583 | J15: 0.0035060382 | K15: 0.0020127256 | L15: 0.0066874432 | M15: 0.0067523698 | N15: 0.0030515517 | O15: 0.0015582392 | P15: 0.0037008181 | Q15: 0.11466043
A16: 暦年 | B16: 今年 | C16: 2128200 | D16: 847700 | E16: 422100 | F16: 343700 | G16: 159200 | H16: 37800 | I16: 8400 | J16: 8600 | K16: 3800 | L16: 15700 | M16: 15800 | N16: 7400 | O16: 3700 | P16: 9300 | Q16: 245000
A17: 1月～9月 累計 | B17: 前年 | C17: 1561900 | D17: 667100 | E17: 280800 | F17: 201300 | G17: 130800 | H17: 32700 | I17: 7600 | J17: 8400 | K17: 2300 | L17: 10400 | M17: 11600 | N17: 5600 | O17: 2100 | P17: 6400 | Q17: 194800
B18: 増減数 | C18: 566300 | D18: 180600 | E18: 141300 | F18: 142400 | G18: 28400 | H18: 5100 | I18: 800 | J18: 200 | K18: 1500 | L18: 5300 | M18: 4200 | N18: 1800 | O18: 1600 | P18: 2900 | Q18: 50200
B19: 前年 同期比 | C19: 1.3625712 | D19: 1.270724 | E19: 1.5032051 | F19: 1.7074019 | G19: 1.2171254 | H19: 1.1559633 | I19: 1.1052632 | J19: 1.0238095 | K19: 1.6521739 | L19: 1.5096154 | M19: 1.362069 | N19: 1.3214286 | O19: 1.7619048 | P19: 1.453125 | Q19: 1.2577002
B20: 今年 構成比 | C20: 1 | D20: 0.39831783 | E20: 0.19833662 | F20: 0.16149798 | G20: 0.074805 | H20: 0.017761489 | I20: 0.0039469975 | J20: 0.0040409736 | K20: 0.0017855465 | L20: 0.0073771262 | M20: 0.0074241143 | N20: 0.0034771168 | O20: 0.0017385584 | P20: 0.00436989 | Q20: 0.11512076
A21: 注 | B21: ①外国人については法務省出入国在留管理庁及び船社代理店の資料に基づいており、乗務員等を含む。
B22: ②イギリス・フランスは、平成22年４月から表章を始めた。
B23: ③タイ、シンガポール、マレーシアは、平成23年４月から表章を始めた。
B24: ④インドネシアは、平成24年11月から表章を始めた。
B25: ⑤カナダ、オーストラリアは、平成28年４月から表章を始めた。
B26: ⑥乗務員等は、「その他」に一括計上している。

Sheet 10月（１表）
A1: =令和７年度!A1 -> 令和７年度 | D1: =RIGHT(CELL("filename",$A$1),LEN(CELL("filename",$A$1))-FIND("]",CELL("filename",$A$1))) -> 10月（１表） | E1: 入 域 観 光 客 統 計 月 報
A3: 第１表 入域観光客数 | K3: (単位:人、％)
B4: 区分 | C4: 入域観光客数（総数）
F5: 空路海路別内訳
A6: 期間 | D6: 国内 | E6: 外国 | F6: 空路計 | I6: 海路計
G7: 国内 | H7: 外国 | J7: 国内 | K7: 外国
A8: 月間 | B8: 令和7年10月 | C8: 986100 | D8: 725200 | E8: 260900 | F8: 903000 | G8: 721300 | H8: 181700 | I8: 83100 | J8: 3900 | K8: 79200
B9: 令和6年10月 | C9: 886900 | D9: 694500 | E9: 192400 | F9: 812400 | G9: 688600 | H9: 123800 | I9: 74500 | J9: 5900 | K9: 68600
B10: 増減数 | C10: 99200 | D10: 30700 | E10: 68500 | F10: 90600 | G10: 32700 | H10: 57900 | I10: 8600 | J10: -2000 | K10: 10600
B11: 前年 同月比 | C11: 1.1118503 | D11: 1.0442045 | E11: 1.3560291 | F11: 1.1115214 | G11: 1.0474877 | H11: 1.4676898 | I11: 1.1154362 | J11: 0.66101695 | K11: 1.154519
A12: 年度 | B12: 今年度 | C12: 6521300 | D12: 4720200 | E12: 1801100 | F12: 5926400 | G12: 4687100 | H12: 1239300 | I12: 594900 | J12: 33100 | K12: 561800
A13: 4月～10月 累計 | B13: 前年度 | C13: 5847700 | D13: 4522700 | E13: 1325000 | F13: 5354800 | G13: 4497300 | H13: 857500 | I13: 492900 | J13: 25400 | K13: 467500
B14: 増減数 | C14: 673600 | D14: 197500 | E14: 476100 | F14: 571600 | G14: 189800 | H14: 381800 | I14: 102000 | J14: 7700 | K14: 94300
B15: 前年度 同期比 | C15: 1.1151906 | D15: 1.0436686 | E15: 1.3593208 | F15: 1.1067453 | G15: 1.0422031 | H15: 1.4452478 | I15: 1.2069385 | J15: 1.3031496 | K15: 1.2017112
A16: 暦年 | B16: 今年 | C16: 8998700 | D16: 6609600 | E16: 2389100 | F16: 8225100 | G16: 6569100 | H16: 1656000 | I16: 773600 | J16: 40500 | K16: 733100
A17: 1月～10月 累計 | B17: 前年 | C17: 8041200 | D17: 6286900 | E17: 1754300 | F17: 7394500 | G17: 6253000 | H17: 1141500 | I17: 646700 | J17: 33900 | K17: 612800
B18: 増減数 | C18: 957500 | D18: 322700 | E18: 634800 | F18: 830600 | G18: 316100 | H18: 514500 | I18: 126900 | J18: 6600 | K18: 120300
B19: 前年 同期比 | C19: 1.1190743 | D19: 1.051329 | E19: 1.3618537 | F19: 1.1123267 | G19: 1.0505517 | H19: 1.4507227 | I19: 1.196227 | J19: 1.1946903 | K19: 1.196312
D21: 【参考】外国客のうち、乗務員等の人数： | E21: 24800 | F21: （海路） | K21: 10

Sheet 10月（２表）
A1: =令和７年度!A1 -> 令和７年度 | E1: =RIGHT(CELL("filename",$A$1),LEN(CELL("filename",$A$1))-FIND("]",CELL("filename",$A$1))) -> 10月（２表） | F1: 入 域 観 光 客 統 計 月 報
A3: 第２表 航路別入域観光客数
B4: 区分 | D4: 1 | E4: 2 | F4: 3 | G4: 4 | H4: 5 | I4: 6 | J4: 7 | K4: 8 | L4: 9 | M4: 10 | N4: 11 | O4: 12 | P4: 13 | Q4: 14 | R4: 15 | S4: 16 | T4: 17 | U4: 18 | V4: 19 | W4: 20 | X4: 21 | Y4: 22 | Z4: 23 | AA4: 24 | AB4: 25 | AC4: 26 | AD4: 27 | AE4: 28
A5: 期間 | C5: 総数 | D5: 東京 | E5: 伊丹 | F5: 関西 | G5: 神戸 | H5: 福岡 | I5: 北九州 | J5: 名古屋 | K5: 札幌 | L5: 鹿児島 | M5: 仙台 | N5: 福島 | O5: 新潟 | P5: 静岡 | Q5: 富山 | R5: 小松 | S5: 岡山 | T5: 広島 | U5: 高松 | V5: 松山 | W5: 高知 | X5: 長崎 | Y5: 熊本 | Z5: 大分 | AA5: 宮崎 | AB5: 茨城 | AC5: 岩国 | AD5: その他 | AE5: 外国
A6: 月間 | B6: 令和7年10月 | C6: 986100 | D6: 355600 | E6: 46800 | F6: 70400 | G6: 31100 | H6: 92200 | I6: 0 | J6: 60900 | K6: 4300 | L6: 13000 | M6: 5400 | N6: 500 | O6: 3700 | P6: 3600 | Q6: 0 | R6: 3800 | S6: 4000 | T6: 5100 | U6: 4000 | V6: 3800 | W6: 0 | X6: 0 | Y6: 3900 | Z6: 0 | AA6: 3700 | AB6: 3800 | AC6: 3800 | AD6: 1800 | AE6: 260900
B7: 令和6年10月 | C7: 886900 | D7: 347500 | E7: 42900 | F7: 70100 | G7: 30200 | H7: 87700 | I7: 0 | J7: 54700 | K7: 4400 | L7: 12300 | M7: 5900 | N7: 300 | O7: 0 | P7: 2900 | Q7: 0 | R7: 3900 | S7: 3900 | T7: 4800 | U7: 5000 | V7: 3400 | W7: 0 | X7: 0 | Y7: 3700 | Z7: 0 | AA7: 3300 | AB7: 4000 | AC7: 3600 | AD7: 0 | AE7: 192400
B8: 増減数 | C8: 99200 | D8: 8100 | E8: 3900 | F8: 300 | G8: 900 | H8: 4500 | I8: 0 | J8: 6200 | K8: -100 | L8: 700 | M8: -500 | N8: 200 | O8: 3700 | P8: 700 | Q8: 0 | R8: -100 | S8: 100 | T8: 300 | U8: -1000 | V8: 400 | W8: 0 | X8: 0 | Y8: 200 | Z8: 0 | AA8: 400 | AB8: -200 | AC8: 200 | AD8: 1800 | AE8: 68500
B9: 前年 同月比 | C9: 1.1118503 | D9: 1.0233094 | E9: 1.0909091 | F9: 1.0042796 | G9: 1.0298013 | H9: 1.0513113 | I9: - | J9: 1.1133455 | K9: 0.97727273 | L9: 1.0569106 | M9: 0.91525424 | N9: 1.6666667 | O9: 皆増 | P9: 1.2413793 | Q9: - | R9: 0.97435897 | S9: 1.025641 | T9: 1.0625 | U9: 0.8 | V9: 1.1176471 | W9: - | X9: - | Y9: 1.0540541 | Z9: - | AA9: 1.1212121 | AB9: 0.95 | AC9: 1.0555556 | AD9: 皆増 | AE9: 1.3560291
B10: 当月 構成比 | C10: 1 | D10: 0.36061251 | E10: 0.04745969 | F10: 0.071392354 | G10: 0.031538384 | H10: 0.093499645 | I10: 0 | J10: 0.061758442 | K10: 0.0043606125 | L10: 0.013183247 | M10: 0.005476118 | N10: 0.00050704797 | O10: 0.003752155 | P10: 0.0036507454 | Q10: 0 | R10: 0.0038535645 | S10: 0.0040563837 | T10: 0.0051718893 | U10: 0.0040563837 | V10: 0.0038535645 | W10: 0 | X10: 0 | Y10: 0.0039549741 | Z10: 0 | AA10: 0.003752155 | AB10: 0.0038535645 | AC10: 0.0038535645 | AD10: 0.0018253727 | AE10: 0.26457763
A11: 年度 | B11: 今年度 | C11: 6521300 | D11: 2296300 | E11: 329200 | F11: 486100 | G11: 203500 | H11: 588600 | I11: 0 | J11: 403800 | K11: 29100 | L11: 86500 | M11: 31100 | N11: 500 | O11: 8400 | P11: 21000 | Q11: 100 | R11: 22800 | S11: 27400 | T11: 31300 | U11: 28300 | V11: 23400 | W11: 0 | X11: 0 | Y11: 25100 | Z11: 0 | AA11: 22400 | AB11: 22800 | AC11: 24000 | AD11: 8500 | AE11: 1801100
A12: 4月～10月 累計 | B12: 前年度 | C12: 5847700 | D12: 2222000 | E12: 303600 | F12: 473400 | G12: 203300 | H12: 555000 | I12: 0 | J12: 372300 | K12: 29000 | L12: 82900 | M12: 32500 | N12: 300 | O12: 3900 | P12: 12700 | Q12: 0 | R12: 21200 | S12: 26300 | T12: 31400 | U12: 34200 | V12: 21800 | W12: 0 | X12: 0 | Y12: 23800 | Z12: 0 | AA12: 21000 | AB12: 24500 | AC12: 21900 | AD12: 5700 | AE12: 1325000
B13: 増減数 | C13: 673600 | D13: 74300 | E13: 25600 | F13: 12700 | G13: 200 | H13: 33600 | I13: 0 | J13: 31500 | K13: 100 | L13: 3600 | M13: -1400 | N13: 200 | O13: 4500 | P13: 8300 | Q13: 100 | R13: 1600 | S13: 1100 | T13: -100 | U13: -5900 | V13: 1600 | W13: 0 | X13: 0 | Y13: 1300 | Z13: 0 | AA13: 1400 | AB13: -1700 | AC13: 2100 | AD13: 2800 | AE13: 476100
B14: 前年度 同期比 | C14: 1.1151906 | D14: 1.0334383 | E14: 1.0843215 | F14: 1.0268272 | G14: 1.0009838 | H14: 1.0605405 | I14: - | J14: 1.0846092 | K14: 1.0034483 | L14: 1.0434258 | M14: 0.95692308 | N14: 1.6666667 | O14: 2.1538462 | P14: 1.6535433 | Q14: 皆増 | R14: 1.0754717 | S14: 1.0418251 | T14: 0.99681529 | U14: 0.82748538 | V14: 1.0733945 | W14: - | X14: - | Y14: 1.0546218 | Z14: - | AA14: 1.0666667 | AB14: 0.93061224 | AC14: 1.0958904 | AD14: 1.4912281 | AE14: 1.3593208
B15: 今年度 構成比 | C15: 1 | D15: 0.35212304 | E15: 0.050480732 | F15: 0.074540352 | G15: 0.031205434 | H15: 0.090258077 | I15: 0 | J15: 0.061920169 | K15: 0.0044623005 | L15: 0.013264226 | M15: 0.0047689878 | N15: 7.6671829e-05 | O15: 0.0012880867 | P15: 0.0032202168 | Q15: 1.5334366e-05 | R15: 0.0034962354 | S15: 0.0042016162 | T15: 0.0047996565 | U15: 0.0043396255 | V15: 0.0035882416 | W15: 0 | X15: 0 | Y15: 0.0038489258 | Z15: 0 | AA15: 0.0034348979 | AB15: 0.0034962354 | AC15: 0.0036802478 | AD15: 0.0013034211 | AE15: 0.27618726
A16: 暦年 | B16: 今年 | C16: 8998700 | D16: 3206400 | E16: 452300 | F16: 675100 | G16: 282800 | H16: 824900 | I16: 100 | J16: 572800 | K16: 41500 | L16: 121200 | M16: 48300 | N16: 600 | O16: 16200 | P16: 29400 | Q16: 200 | R16: 32200 | S16: 38200 | T16: 47500 | U16: 40300 | V16: 33100 | W16: 200 | X16: 100 | Y16: 36500 | Z16: 0 | AA16: 32400 | AB16: 33300 | AC16: 33400 | AD16: 10600 | AE16: 2389100
A17: 1月～10月 累計 | B17: 前年 | C17: 8041200 | D17: 3068100 | E17: 420700 | F17: 645500 | G17: 282700 | H17: 784500 | I17: 0 | J17: 527700 | K17: 41200 | L17: 113700 | M17: 47600 | N17: 400 | O17: 10700 | P17: 16200 | Q17: 0 | R17: 30600 | S17: 37000 | T17: 43600 | U17: 45600 | V17: 31200 | W17: 200 | X17: 0 | Y17: 34200 | Z17: 0 | AA17: 30100 | AB17: 34700 | AC17: 30700 | AD17: 10000 | AE17: 1754300
B18: 増減数 | C18: 957500 | D18: 138300 | E18: 31600 | F18: 29600 | G18: 100 | H18: 40400 | I18: 100 | J18: 45100 | K18: 300 | L18: 7500 | M18: 700 | N18: 200 | O18: 5500 | P18: 13200 | Q18: 200 | R18: 1600 | S18: 1200 | T18: 3900 | U18: -5300 | V18: 1900 | W18: 0 | X18: 100 | Y18: 2300 | Z18: 0 | AA18: 2300 | AB18: -1400 | AC18: 2700 | AD18: 600 | AE18: 634800
B19: 前年 同期比 | C19: 1.1190743 | D19: 1.0450768 | E19: 1.0751129 | F19: 1.0458559 | G19: 1.0003537 | H19: 1.0514978 | I19: 皆増 | J19: 1.0854652 | K19: 1.0072816 | L19: 1.0659631 | M19: 1.0147059 | N19: 1.5 | O19: 1.5140187 | P19: 1.8148148 | Q19: 皆増 | R19: 1.0522876 | S19: 1.0324324 | T19: 1.0894495 | U19: 0.88377193 | V19: 1.0608974 | W19: 1 | X19: 皆増 | Y19: 1.0672515 | Z19: - | AA19: 1.076412 | AB19: 0.95965418 | AC19: 1.0879479 | AD19: 1.06 | AE19: 1.3618537
B20: 今年 構成比 | C20: 1 | D20: 0.35631813 | E20: 0.050262816 | F20: 0.075021948 | G20: 0.031426762 | H20: 0.091668797 | I20: 1.1112716e-05 | J20: 0.063653639 | K20: 0.0046117773 | L20: 0.013468612 | M20: 0.005367442 | N20: 6.6676298e-05 | O20: 0.00180026 | P20: 0.0032671386 | Q20: 2.2225433e-05 | R20: 0.0035782946 | S20: 0.0042450576 | T20: 0.0052785402 | U20: 0.0044784247 | V20: 0.0036783091 | W20: 2.2225433e-05 | X20: 1.1112716e-05 | Y20: 0.0040561414 | Z20: 0 | AA20: 0.0036005201 | AB20: 0.0037005345 | AC20: 0.0037116472 | AD20: 0.0011779479 | AE20: 0.2654939
A21: 注 | B21: １ 国内客には、沖縄県居住者は含まない。本土経由で来県する外国客は含む。
B22: 2 推計方法は、国内航路については、本土と沖縄県間に航路を有する航空及び船舶各社の航路別旅客輸送実績に同航路における入域観光客の混在率 (サンプリング調査）をデフレーターとして算出した。
B23: また、外国人については法務省出入国在留管理庁の公表資料及び船社代理店の資料に基づき沖縄県が推計。乗務員等を含む。
D25: 参考値 東京空港内訳 | H25: 参考値 FSC・LCC内訳
E26: 羽田 | F26: 成田 | I26: FSC | J26: LCC
D27: 令和7年10月 | E27: 322600 | F27: 33000 | H27: 令和7年10月 | I27: 620700 | J27: 100600
D28: 令和6年10月 | E28: 304900 | F28: 38800 | H28: 令和6年10月 | I28: 586200 | J28: 102400
D29: 増減数 | E29: 17700 | F29: -5800 | H29: 増減数 | I29: 34500 | J29: -1800
D30: 前年 同月比 | E30: 1.0580518 | F30: 0.85051546 | H30: 前年 同月比 | I30: 1.0588536 | J30: 0.98242188 | L30: ※羽田・成田内訳、FSC・LCC観光客数は海路客を除く
D31: 当月 構成比 | E31: 0.3572536 | F31: 0.03654485 | H31: FSC・LCC 比率 | I31: 0.8605296 | J31: 0.1394704 | L31: ※観光客数算出の方法上、東京と羽田＋成田の合計値が一致しない場合、 前年の東京の値と一致しない場合があります。

Sheet 10月（３表）
A1: =令和７年度!A1 -> 令和７年度 | E1: =RIGHT(CELL("filename",$A$1),LEN(CELL("filename",$A$1))-FIND("]",CELL("filename",$A$1))) -> 10月（３表） | F1: 入 域 観 光 客 統 計 月 報
A3: 第３表 国籍別入域観光客数
B4: 区分 | D4: 1 | E4: 2 | F4: 3 | G4: 4 | H4: 5 | I4: 6 | J4: 7 | K4: 8 | L4: 9 | M4: 10 | N4: 11 | O4: 12 | P4: 13 | Q4: 14
A5: 期間 | C5: 外国人総数 | D5: 台湾 | E5: 韓国 | F5: 中国本土 | G5: 香港 | H5: アメリカ | I5: カナダ | J5: イギリス（本国） | K5: フランス | L5: タイ | M5: シンガポール | N5: マレーシア | O5: インドネシア | P5: ｵｰｽﾄﾗﾘｱ | Q5: その他
A6: 月間 | B6: 令和7年10月 | C6: 260900 | D6: 106600 | E6: 50500 | F6: 39900 | G6: 17000 | H6: 4700 | I6: 1300 | J6: 1200 | K6: 800 | L6: 2400 | M6: 1000 | N6: 900 | O6: 300 | P6: 1100 | Q6: 33200
B7: 令和6年10月 | C7: 192400 | D7: 67200 | E7: 36000 | F7: 32100 | G7: 13200 | H7: 7900 | I7: 1700 | J7: 1100 | K7: 600 | L7: 1900 | M7: 1800 | N7: 700 | O7: 200 | P7: 1300 | Q7: 26700
B8: 増減数 | C8: 68500 | D8: 39400 | E8: 14500 | F8: 7800 | G8: 3800 | H8: -3200 | I8: -400 | J8: 100 | K8: 200 | L8: 500 | M8: -800 | N8: 200 | O8: 100 | P8: -200 | Q8: 6500
B9: 前年 同月比 | C9: 1.3560291 | D9: 1.5863095 | E9: 1.4027778 | F9: 1.2429907 | G9: 1.2878788 | H9: 0.59493671 | I9: 0.76470588 | J9: 1.0909091 | K9: 1.3333333 | L9: 1.2631579 | M9: 0.55555556 | N9: 1.2857143 | O9: 1.5 | P9: 0.84615385 | Q9: 1.2434457
B10: 今年度 構成比 | C10: 1 | D10: 0.40858567 | E10: 0.19356075 | F10: 0.15293216 | G10: 0.065159065 | H10: 0.018014565 | I10: 0.004982752 | J10: 0.0045994634 | K10: 0.0030663089 | L10: 0.0091989268 | M10: 0.0038328862 | N10: 0.0034495975 | O10: 0.0011498658 | P10: 0.0042161748 | Q10: 0.12725182
A11: 年度 | B11: 今年度 | C11: 1801100 | D11: 758900 | E11: 324300 | F11: 288000 | G11: 136000 | H11: 28000 | I11: 6400 | J11: 6600 | K11: 3900 | L11: 12700 | M11: 11400 | N11: 5600 | O11: 2700 | P11: 6800 | Q11: 209800
A12: 4月～10月 累計 | B12: 前年度 | C12: 1325000 | D12: 565200 | E12: 238500 | F12: 187600 | G12: 103500 | H12: 26000 | I12: 5800 | J12: 5500 | K12: 2400 | L12: 10800 | M12: 9100 | N12: 4300 | O12: 1800 | P12: 5100 | Q12: 159400
B13: 増減数 | C13: 476100 | D13: 193700 | E13: 85800 | F13: 100400 | G13: 32500 | H13: 2000 | I13: 600 | J13: 1100 | K13: 1500 | L13: 1900 | M13: 2300 | N13: 1300 | O13: 900 | P13: 1700 | Q13: 50400
B14: 前年度 同期比 | C14: 1.3593208 | D14: 1.3427105 | E14: 1.3597484 | F14: 1.5351812 | G14: 1.3140097 | H14: 1.0769231 | I14: 1.1034483 | J14: 1.2 | K14: 1.625 | L14: 1.1759259 | M14: 1.2527473 | N14: 1.3023256 | O14: 1.5 | P14: 1.3333333 | Q14: 1.3161857
B15: 今年度 構成比 | C15: 1 | D15: 0.42135362 | E15: 0.18005663 | F15: 0.15990228 | G15: 0.075509411 | H15: 0.015546055 | I15: 0.003553384 | J15: 0.0036644273 | K15: 0.0021653434 | L15: 0.0070512465 | M15: 0.0063294653 | N15: 0.003109211 | O15: 0.0014990839 | P15: 0.0037754705 | Q15: 0.11648437
A16: 暦年 | B16: 今年 | C16: 2389100 | D16: 954300 | E16: 472600 | F16: 383600 | G16: 176200 | H16: 42500 | I16: 9700 | J16: 9800 | K16: 4600 | L16: 18100 | M16: 16800 | N16: 8300 | O16: 4000 | P16: 10400 | Q16: 278200
A17: 1月～10月 累計 | B17: 前年 | C17: 1754300 | D17: 734300 | E17: 316800 | F17: 233400 | G17: 144000 | H17: 40600 | I17: 9300 | J17: 9500 | K17: 2900 | L17: 12300 | M17: 13400 | N17: 6300 | O17: 2300 | P17: 7700 | Q17: 221500
B18: 増減数 | C18: 634800 | D18: 220000 | E18: 155800 | F18: 150200 | G18: 32200 | H18: 1900 | I18: 400 | J18: 300 | K18: 1700 | L18: 5800 | M18: 3400 | N18: 2000 | O18: 1700 | P18: 2700 | Q18: 56700
B19: 前年 同期比 | C19: 1.3618537 | D19: 1.2996051 | E19: 1.4917929 | F19: 1.6435304 | G19: 1.2236111 | H19: 1.046798 | I19: 1.0430108 | J19: 1.0315789 | K19: 1.5862069 | L19: 1.4715447 | M19: 1.2537313 | N19: 1.3174603 | O19: 1.7391304 | P19: 1.3506494 | Q19: 1.2559819
B20: 今年 構成比 | C20: 1 | D20: 0.39943912 | E20: 0.19781508 | F20: 0.16056255 | G20: 0.073751622 | H20: 0.017789126 | I20: 0.0040601063 | J20: 0.0041019631 | K20: 0.0019254112 | L20: 0.0075760747 | M20: 0.0070319367 | N20: 0.0034741116 | O20: 0.0016742706 | P20: 0.0043531037 | Q20: 0.11644552
A21: 注 | B21: ①外国人については法務省出入国在留管理庁及び船社代理店の資料に基づいており、乗務員等を含む。
B22: ②イギリス・フランスは、平成22年４月から表章を始めた。
B23: ③タイ、シンガポール、マレーシアは、平成23年４月から表章を始めた。
B24: ④インドネシアは、平成24年11月から表章を始めた。
B25: ⑤カナダ、オーストラリアは、平成28年４月から表章を始めた。
B26: ⑥乗務員等は、「その他」に一括計上している。

Sheet 11月（１表）
A1: =令和７年度!A1 -> 令和７年度 | D1: =RIGHT(CELL("filename",$A$1),LEN(CELL("filename",$A$1))-FIND("]",CELL("filename",$A$1))) -> 11月（１表） | E1: 入 域 観 光 客 統 計 月 報
A3: 第１表 入域観光客数 | K3: (単位:人、％)
B4: 区分 | C4: 入域観光客数（総数）
F5: 空路海路別内訳
A6: 期間 | D6: 国内 | E6: 外国 | F6: 空路計 | I6: 海路計
G7: 国内 | H7: 外国 | J7: 国内 | K7: 外国
A8: 月間 | B8: 令和7年11月 | C8: 894500 | D8: 662800 | E8: 231700 | F8: 818300 | G8: 661000 | H8: 157300 | I8: 76200 | J8: 1800 | K8: 74400
B9: 令和6年11月 | C9: 811200 | D9: 636800 | E9: 174400 | F9: 750400 | G9: 632400 | H9: 118000 | I9: 60800 | J9: 4400 | K9: 56400
B10: 増減数 | C10: 83300 | D10: 26000 | E10: 57300 | F10: 67900 | G10: 28600 | H10: 39300 | I10: 15400 | J10: -2600 | K10: 18000
B11: 前年 同月比 | C11: 1.1026874 | D11: 1.0408291 | E11: 1.328555 | F11: 1.0904851 | G11: 1.0452245 | H11: 1.3330508 | I11: 1.2532895 | J11: 0.40909091 | K11: 1.3191489
A12: 年度 | B12: 今年度 | C12: 7415800 | D12: 5383000 | E12: 2032800 | F12: 6744700 | G12: 5348100 | H12: 1396600 | I12: 671100 | J12: 34900 | K12: 636200
A13: 4月～11月 累計 | B13: 前年度 | C13: 6658900 | D13: 5159500 | E13: 1499400 | F13: 6105200 | G13: 5129700 | H13: 975500 | I13: 553700 | J13: 29800 | K13: 523900
B14: 増減数 | C14: 756900 | D14: 223500 | E14: 533400 | F14: 639500 | G14: 218400 | H14: 421100 | I14: 117400 | J14: 5100 | K14: 112300
B15: 前年度 同期比 | C15: 1.1136674 | D15: 1.0433182 | E15: 1.3557423 | F15: 1.1047468 | G15: 1.0425756 | H15: 1.4316761 | I15: 1.2120282 | J15: 1.1711409 | K15: 1.2143539
A16: 暦年 | B16: 今年 | C16: 9893200 | D16: 7272400 | E16: 2620800 | F16: 9043400 | G16: 7230100 | H16: 1813300 | I16: 849800 | J16: 42300 | K16: 807500
A17: 1月～11月 累計 | B17: 前年 | C17: 8852400 | D17: 6923700 | E17: 1928700 | F17: 8144900 | G17: 6885400 | H17: 1259500 | I17: 707500 | J17: 38300 | K17: 669200
B18: 増減数 | C18: 1040800 | D18: 348700 | E18: 692100 | F18: 898500 | G18: 344700 | H18: 553800 | I18: 142300 | J18: 4000 | K18: 138300
B19: 前年 同期比 | C19: 1.1175726 | D19: 1.0503632 | E19: 1.3588427 | F19: 1.1103144 | G19: 1.0500625 | H19: 1.4396983 | I19: 1.2011307 | J19: 1.1044386 | K19: 1.2066647
D21: 【参考】外国客のうち、乗務員等の人数： | E21: 22500 | F21: （海路） | K21: 11

Sheet 11月（２表）
A1: =令和７年度!A1 -> 令和７年度 | E1: =RIGHT(CELL("filename",$A$1),LEN(CELL("filename",$A$1))-FIND("]",CELL("filename",$A$1))) -> 11月（２表） | F1: 入 域 観 光 客 統 計 月 報
A3: 第２表 航路別入域観光客数
B4: 区分 | D4: 1 | E4: 2 | F4: 3 | G4: 4 | H4: 5 | I4: 6 | J4: 7 | K4: 8 | L4: 9 | M4: 10 | N4: 11 | O4: 12 | P4: 13 | Q4: 14 | R4: 15 | S4: 16 | T4: 17 | U4: 18 | V4: 19 | W4: 20 | X4: 21 | Y4: 22 | Z4: 23 | AA4: 24 | AB4: 25 | AC4: 26 | AD4: 27 | AE4: 28
A5: 期間 | C5: 総数 | D5: 東京 | E5: 伊丹 | F5: 関西 | G5: 神戸 | H5: 福岡 | I5: 北九州 | J5: 名古屋 | K5: 札幌 | L5: 鹿児島 | M5: 仙台 | N5: 福島 | O5: 新潟 | P5: 静岡 | Q5: 富山 | R5: 小松 | S5: 岡山 | T5: 広島 | U5: 高松 | V5: 松山 | W5: 高知 | X5: 長崎 | Y5: 熊本 | Z5: 大分 | AA5: 宮崎 | AB5: 茨城 | AC5: 岩国 | AD5: その他 | AE5: 外国
A6: 月間 | B6: 令和7年11月 | C6: 894500 | D6: 321400 | E6: 44200 | F6: 59600 | G6: 27700 | H6: 88900 | I6: 100 | J6: 57700 | K6: 4100 | L6: 12500 | M6: 6000 | N6: 0 | O6: 3000 | P6: 3600 | Q6: 0 | R6: 3600 | S6: 3700 | T6: 5600 | U6: 3700 | V6: 3400 | W6: 0 | X6: 0 | Y6: 3600 | Z6: 0 | AA6: 3600 | AB6: 3300 | AC6: 3300 | AD6: 200 | AE6: 231700
B7: 令和6年11月 | C7: 811200 | D7: 310000 | E7: 42300 | F7: 61500 | G7: 27700 | H7: 81300 | I7: 0 | J7: 55100 | K7: 4000 | L7: 11800 | M7: 5400 | N7: 100 | O7: 2500 | P7: 2600 | Q7: 0 | R7: 3500 | S7: 3500 | T7: 4900 | U7: 3500 | V7: 3300 | W7: 0 | X7: 0 | Y7: 3600 | Z7: 0 | AA7: 3300 | AB7: 3500 | AC7: 3100 | AD7: 300 | AE7: 174400
B8: 増減数 | C8: 83300 | D8: 11400 | E8: 1900 | F8: -1900 | G8: 0 | H8: 7600 | I8: 100 | J8: 2600 | K8: 100 | L8: 700 | M8: 600 | N8: -100 | O8: 500 | P8: 1000 | Q8: 0 | R8: 100 | S8: 200 | T8: 700 | U8: 200 | V8: 100 | W8: 0 | X8: 0 | Y8: 0 | Z8: 0 | AA8: 300 | AB8: -200 | AC8: 200 | AD8: -100 | AE8: 57300
B9: 前年 同月比 | C9: 1.1026874 | D9: 1.0367742 | E9: 1.0449173 | F9: 0.96910569 | G9: 1 | H9: 1.0934809 | I9: 皆増 | J9: 1.0471869 | K9: 1.025 | L9: 1.059322 | M9: 1.1111111 | N9: 皆減 | O9: 1.2 | P9: 1.3846154 | Q9: - | R9: 1.0285714 | S9: 1.0571429 | T9: 1.1428571 | U9: 1.0571429 | V9: 1.030303 | W9: - | X9: - | Y9: 1 | Z9: - | AA9: 1.0909091 | AB9: 0.94285714 | AC9: 1.0645161 | AD9: 0.66666667 | AE9: 1.328555
B10: 当月 構成比 | C10: 1 | D10: 0.35930688 | E10: 0.04941308 | F10: 0.066629402 | G10: 0.030967021 | H10: 0.099385131 | I10: 0.0001117943 | J10: 0.06450531 | K10: 0.0045835662 | L10: 0.013974287 | M10: 0.0067076579 | N10: 0 | O10: 0.003353829 | P10: 0.0040245947 | Q10: 0 | R10: 0.0040245947 | S10: 0.004136389 | T10: 0.0062604807 | U10: 0.004136389 | V10: 0.0038010061 | W10: 0 | X10: 0 | Y10: 0.0040245947 | Z10: 0 | AA10: 0.0040245947 | AB10: 0.0036892119 | AC10: 0.0036892119 | AD10: 0.0002235886 | AE10: 0.25902739
A11: 年度 | B11: 今年度 | C11: 7415800 | D11: 2617700 | E11: 373400 | F11: 545700 | G11: 231200 | H11: 677500 | I11: 100 | J11: 461500 | K11: 33200 | L11: 99000 | M11: 37100 | N11: 500 | O11: 11400 | P11: 24600 | Q11: 100 | R11: 26400 | S11: 31100 | T11: 36900 | U11: 32000 | V11: 26800 | W11: 0 | X11: 0 | Y11: 28700 | Z11: 0 | AA11: 26000 | AB11: 26100 | AC11: 27300 | AD11: 8700 | AE11: 2032800
A12: 4月～11月 累計 | B12: 前年度 | C12: 6658900 | D12: 2532000 | E12: 345900 | F12: 534900 | G12: 231000 | H12: 636300 | I12: 0 | J12: 427400 | K12: 33000 | L12: 94700 | M12: 37900 | N12: 400 | O12: 6400 | P12: 15300 | Q12: 0 | R12: 24700 | S12: 29800 | T12: 36300 | U12: 37700 | V12: 25100 | W12: 0 | X12: 0 | Y12: 27400 | Z12: 0 | AA12: 24300 | AB12: 28000 | AC12: 25000 | AD12: 6000 | AE12: 1499400
B13: 増減数 | C13: 756900 | D13: 85700 | E13: 27500 | F13: 10800 | G13: 200 | H13: 41200 | I13: 100 | J13: 34100 | K13: 200 | L13: 4300 | M13: -800 | N13: 100 | O13: 5000 | P13: 9300 | Q13: 100 | R13: 1700 | S13: 1300 | T13: 600 | U13: -5700 | V13: 1700 | W13: 0 | X13: 0 | Y13: 1300 | Z13: 0 | AA13: 1700 | AB13: -1900 | AC13: 2300 | AD13: 2700 | AE13: 533400
B14: 前年度 同期比 | C14: 1.1136674 | D14: 1.0338468 | E14: 1.0795027 | F14: 1.0201907 | G14: 1.0008658 | H14: 1.0647493 | I14: 皆増 | J14: 1.0797847 | K14: 1.0060606 | L14: 1.0454065 | M14: 0.97889182 | N14: 1.25 | O14: 1.78125 | P14: 1.6078431 | Q14: 皆増 | R14: 1.0688259 | S14: 1.0436242 | T14: 1.0165289 | U14: 0.84880637 | V14: 1.0677291 | W14: - | X14: - | Y14: 1.0474453 | Z14: - | AA14: 1.0699588 | AB14: 0.93214286 | AC14: 1.092 | AD14: 1.45 | AE14: 1.3557423
B15: 今年度 構成比 | C15: 1 | D15: 0.35298956 | E15: 0.050351951 | F15: 0.073586127 | G15: 0.031176677 | H15: 0.09135899 | I15: 1.3484722e-05 | J15: 0.062231991 | K15: 0.0044769276 | L15: 0.013349875 | M15: 0.0050028318 | N15: 6.7423609e-05 | O15: 0.0015372583 | P15: 0.0033172416 | Q15: 1.3484722e-05 | R15: 0.0035599666 | S15: 0.0041937485 | T15: 0.0049758623 | U15: 0.004315111 | V15: 0.0036139054 | W15: 0 | X15: 0 | Y15: 0.0038701152 | Z15: 0 | AA15: 0.0035060277 | AB15: 0.0035195124 | AC15: 0.0036813291 | AD15: 0.0011731708 | AE15: 0.27411742
A16: 暦年 | B16: 今年 | C16: 9893200 | D16: 3527800 | E16: 496500 | F16: 734700 | G16: 310500 | H16: 913800 | I16: 200 | J16: 630500 | K16: 45600 | L16: 133700 | M16: 54300 | N16: 600 | O16: 19200 | P16: 33000 | Q16: 200 | R16: 35800 | S16: 41900 | T16: 53100 | U16: 44000 | V16: 36500 | W16: 200 | X16: 100 | Y16: 40100 | Z16: 0 | AA16: 36000 | AB16: 36600 | AC16: 36700 | AD16: 10800 | AE16: 2620800
A17: 1月～11月 累計 | B17: 前年 | C17: 8852400 | D17: 3378100 | E17: 463000 | F17: 707000 | G17: 310400 | H17: 865800 | I17: 0 | J17: 582800 | K17: 45200 | L17: 125500 | M17: 53000 | N17: 500 | O17: 13200 | P17: 18800 | Q17: 0 | R17: 34100 | S17: 40500 | T17: 48500 | U17: 49100 | V17: 34500 | W17: 200 | X17: 0 | Y17: 37800 | Z17: 0 | AA17: 33400 | AB17: 38200 | AC17: 33800 | AD17: 10300 | AE17: 1928700
B18: 増減数 | C18: 1040800 | D18: 149700 | E18: 33500 | F18: 27700 | G18: 100 | H18: 48000 | I18: 200 | J18: 47700 | K18: 400 | L18: 8200 | M18: 1300 | N18: 100 | O18: 6000 | P18: 14200 | Q18: 200 | R18: 1700 | S18: 1400 | T18: 4600 | U18: -5100 | V18: 2000 | W18: 0 | X18: 100 | Y18: 2300 | Z18: 0 | AA18: 2600 | AB18: -1600 | AC18: 2900 | AD18: 500 | AE18: 692100
B19: 前年 同期比 | C19: 1.1175726 | D19: 1.0443149 | E19: 1.0723542 | F19: 1.0391796 | G19: 1.0003222 | H19: 1.0554401 | I19: 皆増 | J19: 1.0818463 | K19: 1.0088496 | L19: 1.0653386 | M19: 1.0245283 | N19: 1.2 | O19: 1.4545455 | P19: 1.7553191 | Q19: 皆増 | R19: 1.0498534 | S19: 1.0345679 | T19: 1.0948454 | U19: 0.89613035 | V19: 1.057971 | W19: 1 | X19: 皆増 | Y19: 1.0608466 | Z19: - | AA19: 1.0778443 | AB19: 0.95811518 | AC19: 1.0857988 | AD19: 1.0485437 | AE19: 1.3588427
B20: 今年 構成比 | C20: 1 | D20: 0.35658836 | E20: 0.050185986 | F20: 0.07426313 | G20: 0.031385194 | H20: 0.092366474 | I20: 2.0215906e-05 | J20: 0.063730643 | K20: 0.0046092265 | L20: 0.013514333 | M20: 0.0054886184 | N20: 6.0647718e-05 | O20: 0.001940727 | P20: 0.0033356245 | Q20: 2.0215906e-05 | R20: 0.0036186472 | S20: 0.0042352323 | T20: 0.005367323 | U20: 0.0044474993 | V20: 0.0036894028 | W20: 2.0215906e-05 | X20: 1.0107953e-05 | Y20: 0.0040532891 | Z20: 0 | AA20: 0.0036388631 | AB20: 0.0036995108 | AC20: 0.0037096187 | AD20: 0.0010916589 | AE20: 0.26490923
A21: 注 | B21: １ 国内客には、沖縄県居住者は含まない。本土経由で来県する外国客は含む。
B22: 2 推計方法は、国内航路については、本土と沖縄県間に航路を有する航空及び船舶各社の航路別旅客輸送実績に同航路における入域観光客の混在率 (サンプリング調査）をデフレーターとして算出した。
B23: また、外国人については法務省出入国在留管理庁の公表資料及び船社代理店の資料に基づき沖縄県が推計。乗務員等を含む。
D25: 参考値 東京空港内訳 | H25: 参考値 FSC・LCC内訳
E26: 羽田 | F26: 成田 | I26: FSC | J26: LCC
D27: 令和7年11月 | E27: 289700 | F27: 31700 | H27: 令和7年11月 | I27: 574000 | J27: 87000
D28: 令和6年11月 | E28: 280200 | F28: 27000 | H28: 令和6年11月 | I28: 549700 | J28: 82700
D29: 増減数 | E29: 9500 | F29: 4700 | H29: 増減数 | I29: 24300 | J29: 4300
D30: 前年 同月比 | E30: 1.0339044 | F30: 1.1740741 | H30: 前年 同月比 | I30: 1.0442059 | J30: 1.0519952 | L30: ※羽田・成田内訳、FSC・LCC観光客数は海路客を除く
D31: 当月 構成比 | E31: 0.35402664 | F31: 0.038738849 | H31: FSC・LCC 比率 | I31: 0.86838124 | J31: 0.13161876 | L31: ※観光客数算出の方法上、東京と羽田＋成田の合計値が一致しない場合、 前年の東京の値と一致しない場合があります。

Sheet 11月（３表）
A1: =令和７年度!A1 -> 令和７年度 | E1: =RIGHT(CELL("filename",$A$1),LEN(CELL("filename",$A$1))-FIND("]",CELL("filename",$A$1))) -> 11月（３表） | F1: 入 域 観 光 客 統 計 月 報
A3: 第３表 国籍別入域観光客数
B4: 区分 | D4: 1 | E4: 2 | F4: 3 | G4: 4 | H4: 5 | I4: 6 | J4: 7 | K4: 8 | L4: 9 | M4: 10 | N4: 11 | O4: 12 | P4: 13 | Q4: 14
A5: 期間 | C5: 外国人総数 | D5: 台湾 | E5: 韓国 | F5: 中国本土 | G5: 香港 | H5: アメリカ | I5: カナダ | J5: イギリス（本国） | K5: フランス | L5: タイ | M5: シンガポール | N5: マレーシア | O5: インドネシア | P5: ｵｰｽﾄﾗﾘｱ | Q5: その他
A6: 月間 | B6: 令和7年11月 | C6: 231700 | D6: 82600 | E6: 51500 | F6: 35000 | G6: 15600 | H6: 5700 | I6: 1500 | J6: 1200 | K6: 1000 | L6: 1900 | M6: 1400 | N6: 1000 | O6: 500 | P6: 1300 | Q6: 31500
B7: 令和6年11月 | C7: 174400 | D7: 59600 | E7: 38400 | F7: 30300 | G7: 13000 | H7: 4900 | I7: 1200 | J7: 1000 | K7: 400 | L7: 1700 | M7: 2600 | N7: 800 | O7: 300 | P7: 900 | Q7: 19300
B8: 増減数 | C8: 57300 | D8: 23000 | E8: 13100 | F8: 4700 | G8: 2600 | H8: 800 | I8: 300 | J8: 200 | K8: 600 | L8: 200 | M8: -1200 | N8: 200 | O8: 200 | P8: 400 | Q8: 12200
B9: 前年 同月比 | C9: 1.328555 | D9: 1.385906 | E9: 1.3411458 | F9: 1.1551155 | G9: 1.2 | H9: 1.1632653 | I9: 1.25 | J9: 1.2 | K9: 2.5 | L9: 1.1176471 | M9: 0.53846154 | N9: 1.25 | O9: 1.6666667 | P9: 1.4444444 | Q9: 1.6321244
B10: 今年度 構成比 | C10: 1 | D10: 0.35649547 | E10: 0.22227018 | F10: 0.1510574 | G10: 0.067328442 | H10: 0.024600777 | I10: 0.0064738886 | J10: 0.0051791109 | K10: 0.0043159258 | L10: 0.008200259 | M10: 0.0060422961 | N10: 0.0043159258 | O10: 0.0021579629 | P10: 0.0056107035 | Q10: 0.13595166
A11: 年度 | B11: 今年度 | C11: 2032800 | D11: 841500 | E11: 375800 | F11: 323000 | G11: 151600 | H11: 33700 | I11: 7900 | J11: 7800 | K11: 4900 | L11: 14600 | M11: 12800 | N11: 6600 | O11: 3200 | P11: 8100 | Q11: 241300
A12: 4月～11月 累計 | B12: 前年度 | C12: 1499400 | D12: 624800 | E12: 276900 | F12: 217900 | G12: 116500 | H12: 30900 | I12: 7000 | J12: 6500 | K12: 2800 | L12: 12500 | M12: 11700 | N12: 5100 | O12: 2100 | P12: 6000 | Q12: 178700
B13: 増減数 | C13: 533400 | D13: 216700 | E13: 98900 | F13: 105100 | G13: 35100 | H13: 2800 | I13: 900 | J13: 1300 | K13: 2100 | L13: 2100 | M13: 1100 | N13: 1500 | O13: 1100 | P13: 2100 | Q13: 62600
B14: 前年度 同期比 | C14: 1.3557423 | D14: 1.346831 | E14: 1.3571687 | F14: 1.4823313 | G14: 1.3012876 | H14: 1.0906149 | I14: 1.1285714 | J14: 1.2 | K14: 1.75 | L14: 1.168 | M14: 1.0940171 | N14: 1.2941176 | O14: 1.5238095 | P14: 1.35 | Q14: 1.3503078
B15: 今年度 構成比 | C15: 1 | D15: 0.41396104 | E15: 0.18486816 | F15: 0.15889414 | G15: 0.074576938 | H15: 0.016578119 | I15: 0.0038862652 | J15: 0.003837072 | K15: 0.0024104683 | L15: 0.0071822117 | M15: 0.0062967336 | N15: 0.0032467532 | O15: 0.0015741834 | P15: 0.0039846517 | Q15: 0.11870327
A16: 暦年 | B16: 今年 | C16: 2620800 | D16: 1036900 | E16: 524100 | F16: 418600 | G16: 191800 | H16: 48200 | I16: 11200 | J16: 11000 | K16: 5600 | L16: 20000 | M16: 18200 | N16: 9300 | O16: 4500 | P16: 11700 | Q16: 309700
A17: 1月～11月 累計 | B17: 前年 | C17: 1928700 | D17: 793900 | E17: 355200 | F17: 263700 | G17: 157000 | H17: 45500 | I17: 10500 | J17: 10500 | K17: 3300 | L17: 14000 | M17: 16000 | N17: 7100 | O17: 2600 | P17: 8600 | Q17: 240800
B18: 増減数 | C18: 692100 | D18: 243000 | E18: 168900 | F18: 154900 | G18: 34800 | H18: 2700 | I18: 700 | J18: 500 | K18: 2300 | L18: 6000 | M18: 2200 | N18: 2200 | O18: 1900 | P18: 3100 | Q18: 68900
B19: 前年 同期比 | C19: 1.3588427 | D19: 1.3060839 | E19: 1.4755068 | F19: 1.5874099 | G19: 1.2216561 | H19: 1.0593407 | I19: 1.0666667 | J19: 1.047619 | K19: 1.6969697 | L19: 1.4285714 | M19: 1.1375 | N19: 1.3098592 | O19: 1.7307692 | P19: 1.3604651 | Q19: 1.2861296
B20: 今年 構成比 | C20: 1 | D20: 0.39564255 | E20: 0.19997711 | F20: 0.15972222 | G20: 0.073183761 | H20: 0.018391331 | I20: 0.0042735043 | J20: 0.0041971917 | K20: 0.0021367521 | L20: 0.0076312576 | M20: 0.0069444444 | N20: 0.0035485348 | O20: 0.001717033 | P20: 0.0044642857 | Q20: 0.11817002
A21: 注 | B21: ①外国人については法務省出入国在留管理庁及び船社代理店の資料に基づいており、乗務員等を含む。
B22: ②イギリス・フランスは、平成22年４月から表章を始めた。
B23: ③タイ、シンガポール、マレーシアは、平成23年４月から表章を始めた。
B24: ④インドネシアは、平成24年11月から表章を始めた。
B25: ⑤カナダ、オーストラリアは、平成28年４月から表章を始めた。
B26: ⑥乗務員等は、「その他」に一括計上している。

Sheet 12月（１表）
A1: =令和７年度!A1 -> 令和７年度 | D1: =RIGHT(CELL("filename",$A$1),LEN(CELL("filename",$A$1))-FIND("]",CELL("filename",$A$1))) -> 12月（１表） | E1: 入 域 観 光 客 統 計 月 報
A3: 第１表 入域観光客数 | K3: (単位:人、％)
B4: 区分 | C4: 入域観光客数（総数）
F5: 空路海路別内訳
A6: 期間 | D6: 国内 | E6: 外国 | F6: 空路計 | I6: 海路計
G7: 国内 | H7: 外国 | J7: 国内 | K7: 外国
A8: 月間 | B8: 令和7年12月 | C8: 862800 | D8: 648200 | E8: 214600 | F8: 808600 | G8: 645900 | H8: 162700 | I8: 54200 | J8: 2300 | K8: 51900
B9: 令和6年12月 | C9: 816400 | D9: 612300 | E9: 204100 | F9: 741400 | G9: 610500 | H9: 130900 | I9: 75000 | J9: 1800 | K9: 73200
B10: 増減数 | C10: 46400 | D10: 35900 | E10: 10500 | F10: 67200 | G10: 35400 | H10: 31800 | I10: -20800 | J10: 500 | K10: -21300
B11: 前年 同月比 | C11: 1.0568349 | D11: 1.0586314 | E11: 1.0514454 | F11: 1.0906393 | G11: 1.0579853 | H11: 1.2429335 | I11: 0.72266667 | J11: 1.2777778 | K11: 0.70901639
A12: 年度 | B12: 今年度 | C12: 8278600 | D12: 6031200 | E12: 2247400 | F12: 7553300 | G12: 5994000 | H12: 1559300 | I12: 725300 | J12: 37200 | K12: 688100
A13: 4月～12月 累計 | B13: 前年度 | C13: 7475300 | D13: 5771800 | E13: 1703500 | F13: 6846600 | G13: 5740200 | H13: 1106400 | I13: 628700 | J13: 31600 | K13: 597100
B14: 増減数 | C14: 803300 | D14: 259400 | E14: 543900 | F14: 706700 | G14: 253800 | H14: 452900 | I14: 96600 | J14: 5600 | K14: 91000
B15: 前年度 同期比 | C15: 1.1074606 | D15: 1.0449427 | E15: 1.3192838 | F15: 1.1032191 | G15: 1.0442145 | H15: 1.4093456 | I15: 1.1536504 | J15: 1.1772152 | K15: 1.1524033
A16: 暦年 | B16: 今年 | C16: 10756000 | D16: 7920600 | E16: 2835400 | F16: 9852000 | G16: 7876000 | H16: 1976000 | I16: 904000 | J16: 44600 | K16: 859400
A17: 1月～12月 累計 | B17: 前年 | C17: 9668800 | D17: 7536000 | E17: 2132800 | F17: 8886300 | G17: 7495900 | H17: 1390400 | I17: 782500 | J17: 40100 | K17: 742400
B18: 増減数 | C18: 1087200 | D18: 384600 | E18: 702600 | F18: 965700 | G18: 380100 | H18: 585600 | I18: 121500 | J18: 4500 | K18: 117000
B19: 前年 同期比 | C19: 1.1124442 | D19: 1.051035 | E19: 1.3294261 | F19: 1.1086729 | G19: 1.0507077 | H19: 1.4211738 | I19: 1.1552716 | J19: 1.1122195 | K19: 1.157597
D21: 【参考】外国客のうち、乗務員等の人数： | E21: 18600 | F21: （海路） | K21: 12

Sheet 12月（２表）
A1: =令和７年度!A1 -> 令和７年度 | E1: =RIGHT(CELL("filename",$A$1),LEN(CELL("filename",$A$1))-FIND("]",CELL("filename",$A$1))) -> 12月（２表） | F1: 入 域 観 光 客 統 計 月 報
A3: 第２表 航路別入域観光客数
B4: 区分 | D4: 1 | E4: 2 | F4: 3 | G4: 4 | H4: 5 | I4: 6 | J4: 7 | K4: 8 | L4: 9 | M4: 10 | N4: 11 | O4: 12 | P4: 13 | Q4: 14 | R4: 15 | S4: 16 | T4: 17 | U4: 18 | V4: 19 | W4: 20 | X4: 21 | Y4: 22 | Z4: 23 | AA4: 24 | AB4: 25 | AC4: 26 | AD4: 27 | AE4: 28
A5: 期間 | C5: 総数 | D5: 東京 | E5: 伊丹 | F5: 関西 | G5: 神戸 | H5: 福岡 | I5: 北九州 | J5: 名古屋 | K5: 札幌 | L5: 鹿児島 | M5: 仙台 | N5: 福島 | O5: 新潟 | P5: 静岡 | Q5: 富山 | R5: 小松 | S5: 岡山 | T5: 広島 | U5: 高松 | V5: 松山 | W5: 高知 | X5: 長崎 | Y5: 熊本 | Z5: 大分 | AA5: 宮崎 | AB5: 茨城 | AC5: 岩国 | AD5: その他 | AE5: 外国
A6: 月間 | B6: 令和7年12月 | C6: 862800 | D6: 323200 | E6: 44500 | F6: 55100 | G6: 26200 | H6: 83900 | I6: 0 | J6: 56200 | K6: 3900 | L6: 11100 | M6: 5100 | N6: 100 | O6: 3500 | P6: 3300 | Q6: 100 | R6: 3300 | S6: 3400 | T6: 4500 | U6: 3600 | V6: 3200 | W6: 200 | X6: 0 | Y6: 3400 | Z6: 100 | AA6: 3100 | AB6: 3500 | AC6: 3100 | AD6: 600 | AE6: 214600
B7: 令和6年12月 | C7: 816400 | D7: 298400 | E7: 43200 | F7: 57200 | G7: 24600 | H7: 79200 | I7: 0 | J7: 51500 | K7: 3900 | L7: 11300 | M7: 5200 | N7: 0 | O7: 2900 | P7: 2900 | Q7: 100 | R7: 2900 | S7: 3200 | T7: 5400 | U7: 3800 | V7: 2800 | W7: 300 | X7: 0 | Y7: 3700 | Z7: 0 | AA7: 3100 | AB7: 3600 | AC7: 2800 | AD7: 300 | AE7: 204100
B8: 増減数 | C8: 46400 | D8: 24800 | E8: 1300 | F8: -2100 | G8: 1600 | H8: 4700 | I8: 0 | J8: 4700 | K8: 0 | L8: -200 | M8: -100 | N8: 100 | O8: 600 | P8: 400 | Q8: 0 | R8: 400 | S8: 200 | T8: -900 | U8: -200 | V8: 400 | W8: -100 | X8: 0 | Y8: -300 | Z8: 100 | AA8: 0 | AB8: -100 | AC8: 300 | AD8: 300 | AE8: 10500
B9: 前年 同月比 | C9: 1.0568349 | D9: 1.0831099 | E9: 1.0300926 | F9: 0.96328671 | G9: 1.0650407 | H9: 1.0593434 | I9: - | J9: 1.0912621 | K9: 1 | L9: 0.98230088 | M9: 0.98076923 | N9: 皆増 | O9: 1.2068966 | P9: 1.137931 | Q9: 1 | R9: 1.137931 | S9: 1.0625 | T9: 0.83333333 | U9: 0.94736842 | V9: 1.1428571 | W9: 0.66666667 | X9: - | Y9: 0.91891892 | Z9: 皆増 | AA9: 1 | AB9: 0.97222222 | AC9: 1.1071429 | AD9: 2 | AE9: 1.0514454
B10: 当月 構成比 | C10: 1 | D10: 0.37459434 | E10: 0.051576263 | F10: 0.063861845 | G10: 0.030366249 | H10: 0.097241539 | I10: 0 | J10: 0.065136764 | K10: 0.0045201669 | L10: 0.01286509 | M10: 0.0059109875 | N10: 0.00011590172 | O10: 0.00405656 | P10: 0.0038247566 | Q10: 0.00011590172 | R10: 0.0038247566 | S10: 0.0039406583 | T10: 0.0052155772 | U10: 0.0041724618 | V10: 0.0037088549 | W10: 0.00023180343 | X10: 0 | Y10: 0.0039406583 | Z10: 0.00011590172 | AA10: 0.0035929532 | AB10: 0.00405656 | AC10: 0.0035929532 | AD10: 0.00069541029 | AE10: 0.24872508
A11: 年度 | B11: 今年度 | C11: 8278600 | D11: 2940900 | E11: 417900 | F11: 600800 | G11: 257400 | H11: 761400 | I11: 100 | J11: 517700 | K11: 37100 | L11: 110100 | M11: 42200 | N11: 600 | O11: 14900 | P11: 27900 | Q11: 200 | R11: 29700 | S11: 34500 | T11: 41400 | U11: 35600 | V11: 30000 | W11: 200 | X11: 0 | Y11: 32100 | Z11: 100 | AA11: 29100 | AB11: 29600 | AC11: 30400 | AD11: 9300 | AE11: 2247400
A12: 4月～12月 累計 | B12: 前年度 | C12: 7475300 | D12: 2830400 | E12: 389100 | F12: 592100 | G12: 255600 | H12: 715500 | I12: 0 | J12: 478900 | K12: 36900 | L12: 106000 | M12: 43100 | N12: 400 | O12: 9300 | P12: 18200 | Q12: 100 | R12: 27600 | S12: 33000 | T12: 41700 | U12: 41500 | V12: 27900 | W12: 300 | X12: 0 | Y12: 31100 | Z12: 0 | AA12: 27400 | AB12: 31600 | AC12: 27800 | AD12: 6300 | AE12: 1703500
B13: 増減数 | C13: 803300 | D13: 110500 | E13: 28800 | F13: 8700 | G13: 1800 | H13: 45900 | I13: 100 | J13: 38800 | K13: 200 | L13: 4100 | M13: -900 | N13: 200 | O13: 5600 | P13: 9700 | Q13: 100 | R13: 2100 | S13: 1500 | T13: -300 | U13: -5900 | V13: 2100 | W13: -100 | X13: 0 | Y13: 1000 | Z13: 100 | AA13: 1700 | AB13: -2000 | AC13: 2600 | AD13: 3000 | AE13: 543900
B14: 前年度 同期比 | C14: 1.1074606 | D14: 1.0390404 | E14: 1.074017 | F14: 1.0146935 | G14: 1.0070423 | H14: 1.0641509 | I14: 皆増 | J14: 1.081019 | K14: 1.0054201 | L14: 1.0386792 | M14: 0.97911833 | N14: 1.5 | O14: 1.6021505 | P14: 1.532967 | Q14: 2 | R14: 1.076087 | S14: 1.0454545 | T14: 0.99280576 | U14: 0.85783133 | V14: 1.0752688 | W14: 0.66666667 | X14: - | Y14: 1.0321543 | Z14: 皆増 | AA14: 1.0620438 | AB14: 0.93670886 | AC14: 1.0935252 | AD14: 1.4761905 | AE14: 1.3192838
B15: 今年度 構成比 | C15: 1 | D15: 0.35524122 | E15: 0.05047955 | F15: 0.072572657 | G15: 0.031092214 | H15: 0.091972073 | I15: 1.2079337e-05 | J15: 0.062534728 | K15: 0.0044814341 | L15: 0.01329935 | M15: 0.0050974803 | N15: 7.2476023e-05 | O15: 0.0017998212 | P15: 0.003370135 | Q15: 2.4158674e-05 | R15: 0.0035875631 | S15: 0.0041673713 | T15: 0.0050008456 | U15: 0.004300244 | V15: 0.0036238011 | W15: 2.4158674e-05 | X15: 0 | Y15: 0.0038774672 | Z15: 1.2079337e-05 | AA15: 0.0035150871 | AB15: 0.0035754838 | AC15: 0.0036721185 | AD15: 0.0011233783 | AE15: 0.27147102
A16: 暦年 | B16: 今年 | C16: 10756000 | D16: 3851000 | E16: 541000 | F16: 789800 | G16: 336700 | H16: 997700 | I16: 200 | J16: 686700 | K16: 49500 | L16: 144800 | M16: 59400 | N16: 700 | O16: 22700 | P16: 36300 | Q16: 300 | R16: 39100 | S16: 45300 | T16: 57600 | U16: 47600 | V16: 39700 | W16: 400 | X16: 100 | Y16: 43500 | Z16: 100 | AA16: 39100 | AB16: 40100 | AC16: 39800 | AD16: 11400 | AE16: 2835400
A17: 1月～12月 累計 | B17: 前年 | C17: 9668800 | D17: 3676500 | E17: 506200 | F17: 764200 | G17: 335000 | H17: 945000 | I17: 0 | J17: 634300 | K17: 49100 | L17: 136800 | M17: 58200 | N17: 500 | O17: 16100 | P17: 21700 | Q17: 100 | R17: 37000 | S17: 43700 | T17: 53900 | U17: 52900 | V17: 37300 | W17: 500 | X17: 0 | Y17: 41500 | Z17: 0 | AA17: 36500 | AB17: 41800 | AC17: 36600 | AD17: 10600 | AE17: 2132800
B18: 増減数 | C18: 1087200 | D18: 174500 | E18: 34800 | F18: 25600 | G18: 1700 | H18: 52700 | I18: 200 | J18: 52400 | K18: 400 | L18: 8000 | M18: 1200 | N18: 200 | O18: 6600 | P18: 14600 | Q18: 200 | R18: 2100 | S18: 1600 | T18: 3700 | U18: -5300 | V18: 2400 | W18: -100 | X18: 100 | Y18: 2000 | Z18: 100 | AA18: 2600 | AB18: -1700 | AC18: 3200 | AD18: 800 | AE18: 702600
B19: 前年 同期比 | C19: 1.1124442 | D19: 1.0474636 | E19: 1.0687475 | F19: 1.0334991 | G19: 1.0050746 | H19: 1.0557672 | I19: 皆増 | J19: 1.0826108 | K19: 1.0081466 | L19: 1.0584795 | M19: 1.0206186 | N19: 1.4 | O19: 1.4099379 | P19: 1.6728111 | Q19: 3 | R19: 1.0567568 | S19: 1.0366133 | T19: 1.0686456 | U19: 0.89981096 | V19: 1.0643432 | W19: 0.8 | X19: 皆増 | Y19: 1.0481928 | Z19: 皆増 | AA19: 1.0712329 | AB19: 0.95933014 | AC19: 1.0874317 | AD19: 1.0754717 | AE19: 1.3294261
B20: 今年 構成比 | C20: 1 | D20: 0.35803273 | E20: 0.050297508 | F20: 0.073428784 | G20: 0.031303459 | H20: 0.092757531 | I20: 1.8594273e-05 | J20: 0.063843436 | K20: 0.0046020826 | L20: 0.013462254 | M20: 0.0055224991 | N20: 6.5079955e-05 | O20: 0.00211045 | P20: 0.0033748605 | Q20: 2.7891409e-05 | R20: 0.0036351804 | S20: 0.0042116028 | T20: 0.0053551506 | U20: 0.004425437 | V20: 0.0036909632 | W20: 3.7188546e-05 | X20: 9.2971365e-06 | Y20: 0.0040442544 | Z20: 9.2971365e-06 | AA20: 0.0036351804 | AB20: 0.0037281517 | AC20: 0.0037002603 | AD20: 0.0010598736 | AE20: 0.26361101
A21: 注 | B21: １ 国内客には、沖縄県居住者は含まない。本土経由で来県する外国客は含む。
B22: 2 推計方法は、国内航路については、本土と沖縄県間に航路を有する航空及び船舶各社の航路別旅客輸送実績に同航路における入域観光客の混在率 (サンプリング調査）をデフレーターとして算出した。
B23: また、外国人については法務省出入国在留管理庁の公表資料及び船社代理店の資料に基づき沖縄県が推計。乗務員等を含む。
D25: 参考値 東京空港内訳 | H25: 参考値 FSC・LCC内訳
E26: 羽田 | F26: 成田 | I26: FSC | J26: LCC
D27: 令和7年12月 | E27: 286400 | F27: 36800 | H27: 令和7年12月 | I27: 552600 | J27: 93300
D28: 令和6年12月 | E28: 272000 | F28: 26400 | H28: 令和6年12月 | I28: 529400 | J28: 81100
D29: 増減数 | E29: 14400 | F29: 10400 | H29: 増減数 | I29: 23200 | J29: 12200
D30: 前年 同月比 | E30: 1.0529412 | F30: 1.3939394 | H30: 前年 同月比 | I30: 1.0438232 | J30: 1.1504316 | L30: ※羽田・成田内訳、FSC・LCC観光客数は海路客を除く
D31: 当月 構成比 | E31: 0.35419243 | F31: 0.045510759 | H31: FSC・LCC 比率 | I31: 0.85555039 | J31: 0.14444961 | L31: ※観光客数算出の方法上、東京と羽田＋成田の合計値が一致しない場合、 前年の東京の値と一致しない場合があります。

Sheet 12月（３表）
A1: =令和７年度!A1 -> 令和７年度 | E1: =RIGHT(CELL("filename",$A$1),LEN(CELL("filename",$A$1))-FIND("]",CELL("filename",$A$1))) -> 12月（３表） | F1: 入 域 観 光 客 統 計 月 報
A3: 第３表 国籍別入域観光客数
B4: 区分 | D4: 1 | E4: 2 | F4: 3 | G4: 4 | H4: 5 | I4: 6 | J4: 7 | K4: 8 | L4: 9 | M4: 10 | N4: 11 | O4: 12 | P4: 13 | Q4: 14
A5: 期間 | C5: 外国人総数 | D5: 台湾 | E5: 韓国 | F5: 中国本土 | G5: 香港 | H5: アメリカ | I5: カナダ | J5: イギリス（本国） | K5: フランス | L5: タイ | M5: シンガポール | N5: マレーシア | O5: インドネシア | P5: ｵｰｽﾄﾗﾘｱ | Q5: その他
A6: 月間 | B6: 令和7年12月 | C6: 214600 | D6: 85100 | E6: 57700 | F6: 7500 | G6: 21900 | H6: 3300 | I6: 1200 | J6: 700 | K6: 800 | L6: 2800 | M6: 4100 | N6: 1500 | O6: 600 | P6: 900 | Q6: 26500
B7: 令和6年12月 | C7: 204100 | D7: 62600 | E7: 45700 | F7: 23800 | G7: 24500 | H7: 5700 | I7: 1800 | J7: 1100 | K7: 100 | L7: 2700 | M7: 4300 | N7: 1300 | O7: 800 | P7: 1100 | Q7: 28600
B8: 増減数 | C8: 10500 | D8: 22500 | E8: 12000 | F8: -16300 | G8: -2600 | H8: -2400 | I8: -600 | J8: -400 | K8: 700 | L8: 100 | M8: -200 | N8: 200 | O8: -200 | P8: -200 | Q8: -2100
B9: 前年 同月比 | C9: 1.0514454 | D9: 1.3594249 | E9: 1.2625821 | F9: 0.31512605 | G9: 0.89387755 | H9: 0.57894737 | I9: 0.66666667 | J9: 0.63636364 | K9: 8 | L9: 1.037037 | M9: 0.95348837 | N9: 1.1538462 | O9: 0.75 | P9: 0.81818182 | Q9: 0.92657343
B10: 今年度 構成比 | C10: 1 | D10: 0.39655172 | E10: 0.26887232 | F10: 0.034948742 | G10: 0.10205033 | H10: 0.015377446 | I10: 0.0055917987 | J10: 0.0032618826 | K10: 0.0037278658 | L10: 0.01304753 | M10: 0.019105312 | N10: 0.0069897484 | O10: 0.0027958993 | P10: 0.004193849 | Q10: 0.12348555
A11: 年度 | B11: 今年度 | C11: 2247400 | D11: 926600 | E11: 433500 | F11: 330500 | G11: 173500 | H11: 37000 | I11: 9100 | J11: 8500 | K11: 5700 | L11: 17400 | M11: 16900 | N11: 8100 | O11: 3800 | P11: 9000 | Q11: 267800
A12: 4月～12月 累計 | B12: 前年度 | C12: 1703500 | D12: 687400 | E12: 322600 | F12: 241700 | G12: 141000 | H12: 36600 | I12: 8800 | J12: 7600 | K12: 2900 | L12: 15200 | M12: 16000 | N12: 6400 | O12: 2900 | P12: 7100 | Q12: 207300
B13: 増減数 | C13: 543900 | D13: 239200 | E13: 110900 | F13: 88800 | G13: 32500 | H13: 400 | I13: 300 | J13: 900 | K13: 2800 | L13: 2200 | M13: 900 | N13: 1700 | O13: 900 | P13: 1900 | Q13: 60500
B14: 前年度 同期比 | C14: 1.3192838 | D14: 1.3479779 | E14: 1.3437694 | F14: 1.3673976 | G14: 1.2304965 | H14: 1.010929 | I14: 1.0340909 | J14: 1.1184211 | K14: 1.9655172 | L14: 1.1447368 | M14: 1.05625 | N14: 1.265625 | O14: 1.3103448 | P14: 1.2676056 | Q14: 1.2918476
B15: 今年度 構成比 | C15: 1 | D15: 0.41229866 | E15: 0.19288956 | F15: 0.14705882 | G15: 0.07720032 | H15: 0.016463469 | I15: 0.0040491234 | J15: 0.0037821483 | K15: 0.0025362641 | L15: 0.00774228 | M15: 0.0075198007 | N15: 0.0036041648 | O15: 0.0016908428 | P15: 0.0040046276 | Q15: 0.11915992
A16: 暦年 | B16: 今年 | C16: 2835400 | D16: 1122000 | E16: 581800 | F16: 426100 | G16: 213700 | H16: 51500 | I16: 12400 | J16: 11700 | K16: 6400 | L16: 22800 | M16: 22300 | N16: 10800 | O16: 5100 | P16: 12600 | Q16: 336200
A17: 1月～12月 累計 | B17: 前年 | C17: 2132800 | D17: 856500 | E17: 400900 | F17: 287500 | G17: 181500 | H17: 51200 | I17: 12300 | J17: 11600 | K17: 3400 | L17: 16700 | M17: 20300 | N17: 8400 | O17: 3400 | P17: 9700 | Q17: 269400
B18: 増減数 | C18: 702600 | D18: 265500 | E18: 180900 | F18: 138600 | G18: 32200 | H18: 300 | I18: 100 | J18: 100 | K18: 3000 | L18: 6100 | M18: 2000 | N18: 2400 | O18: 1700 | P18: 2900 | Q18: 66800
B19: 前年 同期比 | C19: 1.3294261 | D19: 1.3099825 | E19: 1.4512347 | F19: 1.482087 | G19: 1.1774105 | H19: 1.0058594 | I19: 1.0081301 | J19: 1.0086207 | K19: 1.8823529 | L19: 1.3652695 | M19: 1.0985222 | N19: 1.2857143 | O19: 1.5 | P19: 1.2989691 | Q19: 1.2479584
B20: 今年 構成比 | C20: 1 | D20: 0.39571136 | E20: 0.20519151 | F20: 0.15027862 | G20: 0.075368555 | H20: 0.018163222 | I20: 0.0043732807 | J20: 0.0041264019 | K20: 0.0022571771 | L20: 0.0080411935 | M20: 0.0078648515 | N20: 0.0038089864 | O20: 0.001798688 | P20: 0.0044438175 | Q20: 0.11857234
A21: 注 | B21: ①外国人については法務省出入国在留管理庁及び船社代理店の資料に基づいており、乗務員等を含む。
B22: ②イギリス・フランスは、平成22年４月から表章を始めた。
B23: ③タイ、シンガポール、マレーシアは、平成23年４月から表章を始めた。
B24: ④インドネシアは、平成24年11月から表章を始めた。
B25: ⑤カナダ、オーストラリアは、平成28年４月から表章を始めた。
B26: ⑥乗務員等は、「その他」に一括計上している。

Sheet １月（１表）
A1: =令和７年度!A1 -> 令和７年度 | D1: =RIGHT(CELL("filename",$A$1),LEN(CELL("filename",$A$1))-FIND("]",CELL("filename",$A$1))) -> １月（１表） | E1: 入 域 観 光 客 統 計 月 報
A3: 第１表 入域観光客数 | K3: (単位:人、％)
B4: 区分 | C4: 入域観光客数（総数）
F5: 空路海路別内訳
A6: 期間 | D6: 国内 | E6: 外国 | F6: 空路計 | I6: 海路計
G7: 国内 | H7: 外国 | J7: 国内 | K7: 外国
A8: 月間 | B8: 令和8年1月 | C8: 836000 | D8: 601400 | E8: 234600 | F8: 768600 | G8: 599700 | H8: 168900 | I8: 67400 | J8: 1700 | K8: 65700
B9: 令和7年1月 | C9: 783400 | D9: 566800 | E9: 216600 | F9: 713500 | G9: 565100 | H9: 148400 | I9: 69900 | J9: 1700 | K9: 68200
B10: 増減数 | C10: 52600 | D10: 34600 | E10: 18000 | F10: 55100 | G10: 34600 | H10: 20500 | I10: -2500 | J10: 0 | K10: -2500
B11: 前年 同月比 | C11: 1.0671432 | D11: 1.0610445 | E11: 1.0831025 | F11: 1.0772249 | G11: 1.0612281 | H11: 1.1381402 | I11: 0.96423462 | J11: 1 | K11: 0.96334311
A12: 年度 | B12: 今年度 | C12: 9114600 | D12: 6632600 | E12: 2482000 | F12: 8321900 | G12: 6593700 | H12: 1728200 | I12: 792700 | J12: 38900 | K12: 753800
A13: 4月～1月 累計 | B13: 前年度 | C13: 8258700 | D13: 6338600 | E13: 1920100 | F13: 7560100 | G13: 6305300 | H13: 1254800 | I13: 698600 | J13: 33300 | K13: 665300
B14: 増減数 | C14: 855900 | D14: 294000 | E14: 561900 | F14: 761800 | G14: 288400 | H14: 473400 | I14: 94100 | J14: 5600 | K14: 88500
B15: 前年度 同期比 | C15: 1.1036362 | D15: 1.0463825 | E15: 1.292641 | F15: 1.1007659 | G15: 1.0457393 | H15: 1.3772713 | I15: 1.134698 | J15: 1.1681682 | K15: 1.1330227
A16: 暦年 | B16: 今年 | C16: 836000 | D16: 601400 | E16: 234600 | F16: 768600 | G16: 599700 | H16: 168900 | I16: 67400 | J16: 1700 | K16: 65700
A17: １月累計 | B17: 前年 | C17: 783400 | D17: 566800 | E17: 216600 | F17: 713500 | G17: 565100 | H17: 148400 | I17: 69900 | J17: 1700 | K17: 68200
B18: 増減数 | C18: 52600 | D18: 34600 | E18: 18000 | F18: 55100 | G18: 34600 | H18: 20500 | I18: -2500 | J18: 0 | K18: -2500
B19: 前年 同期比 | C19: 1.0671432 | D19: 1.0610445 | E19: 1.0831025 | F19: 1.0772249 | G19: 1.0612281 | H19: 1.1381402 | I19: 0.96423462 | J19: 1 | K19: 0.96334311
D21: 【参考】外国客のうち、乗務員等の人数： | E21: 22100 | F21: （海路） | K21: 1

Sheet １月（２表）
A1: =令和７年度!A1 -> 令和７年度 | E1: =RIGHT(CELL("filename",$A$1),LEN(CELL("filename",$A$1))-FIND("]",CELL("filename",$A$1))) -> １月（２表） | F1: 入 域 観 光 客 統 計 月 報
A3: 第２表 航路別入域観光客数
B4: 区分 | D4: 1 | E4: 2 | F4: 3 | G4: 4 | H4: 5 | I4: 6 | J4: 7 | K4: 8 | L4: 9 | M4: 10 | N4: 11 | O4: 12 | P4: 13 | Q4: 14 | R4: 15 | S4: 16 | T4: 17 | U4: 18 | V4: 19 | W4: 20 | X4: 21 | Y4: 22 | Z4: 23 | AA4: 24 | AB4: 25 | AC4: 26 | AD4: 27 | AE4: 28
A5: 期間 | C5: 総数 | D5: 東京 | E5: 伊丹 | F5: 関西 | G5: 神戸 | H5: 福岡 | I5: 北九州 | J5: 名古屋 | K5: 札幌 | L5: 鹿児島 | M5: 仙台 | N5: 福島 | O5: 新潟 | P5: 静岡 | Q5: 富山 | R5: 小松 | S5: 岡山 | T5: 広島 | U5: 高松 | V5: 松山 | W5: 高知 | X5: 長崎 | Y5: 熊本 | Z5: 大分 | AA5: 宮崎 | AB5: 茨城 | AC5: 岩国 | AD5: その他 | AE5: 外国
A6: 月間 | B6: 令和8年1月 | C6: 836000 | D6: 294500 | E6: 41000 | F6: 53700 | G6: 25300 | H6: 78000 | I6: 0 | J6: 54500 | K6: 4100 | L6: 10800 | M6: 4600 | N6: 200 | O6: 600 | P6: 2700 | Q6: 100 | R6: 2600 | S6: 3200 | T6: 4100 | U6: 3600 | V6: 3300 | W6: 100 | X6: 100 | Y6: 3900 | Z6: 0 | AA6: 3200 | AB6: 3500 | AC6: 3200 | AD6: 500 | AE6: 234600
B7: 令和7年1月 | C7: 783400 | D7: 274400 | E7: 38100 | F7: 54800 | G7: 23600 | H7: 73000 | I7: 0 | J7: 48000 | K7: 4100 | L7: 11300 | M7: 5300 | N7: 100 | O7: 1900 | P7: 2100 | Q7: 0 | R7: 2600 | S7: 3100 | T7: 4400 | U7: 3700 | V7: 2900 | W7: 100 | X7: 100 | Y7: 3600 | Z7: 0 | AA7: 3200 | AB7: 3300 | AC7: 2600 | AD7: 500 | AE7: 216600
B8: 増減数 | C8: 52600 | D8: 20100 | E8: 2900 | F8: -1100 | G8: 1700 | H8: 5000 | I8: 0 | J8: 6500 | K8: 0 | L8: -500 | M8: -700 | N8: 100 | O8: -1300 | P8: 600 | Q8: 100 | R8: 0 | S8: 100 | T8: -300 | U8: -100 | V8: 400 | W8: 0 | X8: 0 | Y8: 300 | Z8: 0 | AA8: 0 | AB8: 200 | AC8: 600 | AD8: 0 | AE8: 18000
B9: 前年 同月比 | C9: 1.0671432 | D9: 1.0732507 | E9: 1.0761155 | F9: 0.97992701 | G9: 1.0720339 | H9: 1.0684932 | I9: - | J9: 1.1354167 | K9: 1 | L9: 0.95575221 | M9: 0.86792453 | N9: 2 | O9: 0.31578947 | P9: 1.2857143 | Q9: 皆増 | R9: 1 | S9: 1.0322581 | T9: 0.93181818 | U9: 0.97297297 | V9: 1.137931 | W9: 1 | X9: 1 | Y9: 1.0833333 | Z9: - | AA9: 1 | AB9: 1.0606061 | AC9: 1.2307692 | AD9: 1 | AE9: 1.0831025
B10: 当月 構成比 | C10: 1 | D10: 0.35227273 | E10: 0.049043062 | F10: 0.06423445 | G10: 0.030263158 | H10: 0.093301435 | I10: 0 | J10: 0.065191388 | K10: 0.0049043062 | L10: 0.01291866 | M10: 0.0055023923 | N10: 0.00023923445 | O10: 0.00071770335 | P10: 0.0032296651 | Q10: 0.00011961722 | R10: 0.0031100478 | S10: 0.0038277512 | T10: 0.0049043062 | U10: 0.0043062201 | V10: 0.0039473684 | W10: 0.00011961722 | X10: 0.00011961722 | Y10: 0.0046650718 | Z10: 0 | AA10: 0.0038277512 | AB10: 0.0041866029 | AC10: 0.0038277512 | AD10: 0.00059808612 | AE10: 0.28062201
A11: 年度 | B11: 今年度 | C11: 9114600 | D11: 3235400 | E11: 458900 | F11: 654500 | G11: 282700 | H11: 839400 | I11: 100 | J11: 572200 | K11: 41200 | L11: 120900 | M11: 46800 | N11: 800 | O11: 15500 | P11: 30600 | Q11: 300 | R11: 32300 | S11: 37700 | T11: 45500 | U11: 39200 | V11: 33300 | W11: 300 | X11: 100 | Y11: 36000 | Z11: 100 | AA11: 32300 | AB11: 33100 | AC11: 33600 | AD11: 9800 | AE11: 2482000
A12: 4月～1月 累計 | B12: 前年度 | C12: 8258700 | D12: 3104800 | E12: 427200 | F12: 646900 | G12: 279200 | H12: 788500 | I12: 0 | J12: 526900 | K12: 41000 | L12: 117300 | M12: 48400 | N12: 500 | O12: 11200 | P12: 20300 | Q12: 100 | R12: 30200 | S12: 36100 | T12: 46100 | U12: 45200 | V12: 30800 | W12: 400 | X12: 100 | Y12: 34700 | Z12: 0 | AA12: 30600 | AB12: 34900 | AC12: 30400 | AD12: 6800 | AE12: 1920100
B13: 増減数 | C13: 855900 | D13: 130600 | E13: 31700 | F13: 7600 | G13: 3500 | H13: 50900 | I13: 100 | J13: 45300 | K13: 200 | L13: 3600 | M13: -1600 | N13: 300 | O13: 4300 | P13: 10300 | Q13: 200 | R13: 2100 | S13: 1600 | T13: -600 | U13: -6000 | V13: 2500 | W13: -100 | X13: 0 | Y13: 1300 | Z13: 100 | AA13: 1700 | AB13: -1800 | AC13: 3200 | AD13: 3000 | AE13: 561900
B14: 前年度 同期比 | C14: 1.1036362 | D14: 1.0420639 | E14: 1.0742041 | F14: 1.0117483 | G14: 1.0125358 | H14: 1.0645529 | I14: 皆増 | J14: 1.0859746 | K14: 1.004878 | L14: 1.0306905 | M14: 0.96694215 | N14: 1.6 | O14: 1.3839286 | P14: 1.5073892 | Q14: 3 | R14: 1.0695364 | S14: 1.0443213 | T14: 0.98698482 | U14: 0.86725664 | V14: 1.0811688 | W14: 0.75 | X14: 1 | Y14: 1.037464 | Z14: 皆増 | AA14: 1.0555556 | AB14: 0.94842407 | AC14: 1.1052632 | AD14: 1.4411765 | AE14: 1.292641
B15: 今年度 構成比 | C15: 1 | D15: 0.35496895 | E15: 0.050347794 | F15: 0.071807869 | G15: 0.031016172 | H15: 0.092094003 | I15: 1.0971409e-05 | J15: 0.062778399 | K15: 0.0045202203 | L15: 0.013264433 | M15: 0.0051346192 | N15: 8.7771268e-05 | O15: 0.0017005683 | P15: 0.003357251 | Q15: 3.2914226e-05 | R15: 0.0035437649 | S15: 0.004136221 | T15: 0.0049919909 | U15: 0.0043007921 | V15: 0.003653479 | W15: 3.2914226e-05 | X15: 1.0971409e-05 | Y15: 0.0039497071 | Z15: 1.0971409e-05 | AA15: 0.0035437649 | AB15: 0.0036315362 | AC15: 0.0036863933 | AD15: 0.001075198 | AE15: 0.27231036
A16: 暦年 | B16: 今年 | C16: 836000 | D16: 294500 | E16: 41000 | F16: 53700 | G16: 25300 | H16: 78000 | I16: 0 | J16: 54500 | K16: 4100 | L16: 10800 | M16: 4600 | N16: 200 | O16: 600 | P16: 2700 | Q16: 100 | R16: 2600 | S16: 3200 | T16: 4100 | U16: 3600 | V16: 3300 | W16: 100 | X16: 100 | Y16: 3900 | Z16: 0 | AA16: 3200 | AB16: 3500 | AC16: 3200 | AD16: 500 | AE16: 234600
A17: １月累計 | B17: 前年 | C17: 783400 | D17: 274400 | E17: 38100 | F17: 54800 | G17: 23600 | H17: 73000 | I17: 0 | J17: 48000 | K17: 4100 | L17: 11300 | M17: 5300 | N17: 100 | O17: 1900 | P17: 2100 | Q17: 0 | R17: 2600 | S17: 3100 | T17: 4400 | U17: 3700 | V17: 2900 | W17: 100 | X17: 100 | Y17: 3600 | Z17: 0 | AA17: 3200 | AB17: 3300 | AC17: 2600 | AD17: 500 | AE17: 216600
B18: 増減数 | C18: 52600 | D18: 20100 | E18: 2900 | F18: -1100 | G18: 1700 | H18: 5000 | I18: 0 | J18: 6500 | K18: 0 | L18: -500 | M18: -700 | N18: 100 | O18: -1300 | P18: 600 | Q18: 100 | R18: 0 | S18: 100 | T18: -300 | U18: -100 | V18: 400 | W18: 0 | X18: 0 | Y18: 300 | Z18: 0 | AA18: 0 | AB18: 200 | AC18: 600 | AD18: 0 | AE18: 18000
B19: 前年 同期比 | C19: 1.0671432 | D19: 1.0732507 | E19: 1.0761155 | F19: 0.97992701 | G19: 1.0720339 | H19: 1.0684932 | I19: - | J19: 1.1354167 | K19: 1 | L19: 0.95575221 | M19: 0.86792453 | N19: 2 | O19: 0.31578947 | P19: 1.2857143 | Q19: 皆増 | R19: 1 | S19: 1.0322581 | T19: 0.93181818 | U19: 0.97297297 | V19: 1.137931 | W19: 1 | X19: 1 | Y19: 1.0833333 | Z19: - | AA19: 1 | AB19: 1.0606061 | AC19: 1.2307692 | AD19: 1 | AE19: 1.0831025
B20: 今年 構成比 | C20: 1 | D20: 0.35227273 | E20: 0.049043062 | F20: 0.06423445 | G20: 0.030263158 | H20: 0.093301435 | I20: 0 | J20: 0.065191388 | K20: 0.0049043062 | L20: 0.01291866 | M20: 0.0055023923 | N20: 0.00023923445 | O20: 0.00071770335 | P20: 0.0032296651 | Q20: 0.00011961722 | R20: 0.0031100478 | S20: 0.0038277512 | T20: 0.0049043062 | U20: 0.0043062201 | V20: 0.0039473684 | W20: 0.00011961722 | X20: 0.00011961722 | Y20: 0.0046650718 | Z20: 0 | AA20: 0.0038277512 | AB20: 0.0041866029 | AC20: 0.0038277512 | AD20: 0.00059808612 | AE20: 0.28062201
A21: 注 | B21: １ 国内客には、沖縄県居住者は含まない。本土経由で来県する外国客は含む。
B22: 2 推計方法は、国内航路については、本土と沖縄県間に航路を有する航空及び船舶各社の航路別旅客輸送実績に同航路における入域観光客の混在率 (サンプリング調査）をデフレーターとして算出した。
B23: また、外国人については法務省出入国在留管理庁の公表資料及び船社代理店の資料に基づき沖縄県が推計。乗務員等を含む。
D25: 参考値 東京空港内訳 | H25: 参考値 FSC・LCC内訳
E26: 羽田 | F26: 成田 | I26: FSC | J26: LCC
D27: 令和8年1月 | E27: 264900 | F27: 29400 | H27: 令和8年1月 | I27: 513600 | J27: 86100
D28: 令和7年1月 | E28: 247200 | F28: 27200 | H28: 令和7年1月 | I28: 481600 | J28: 83500
D29: 増減数 | E29: 17700 | F29: 2200 | H29: 増減数 | I29: 32000 | J29: 2600
D30: 前年 同月比 | E30: 1.0716019 | F30: 1.0808824 | H30: 前年 同月比 | I30: 1.0664452 | J30: 1.0311377 | L30: ※羽田・成田内訳、FSC・LCC観光客数は海路客を除く
D31: 当月 構成比 | E31: 0.34465262 | F31: 0.038251366 | H31: FSC・LCC 比率 | I31: 0.85642821 | J31: 0.14357179 | L31: ※観光客数算出の方法上、東京と羽田＋成田の合計値が一致しない場合、 前年の東京の値と一致しない場合があります。

Sheet １月（３表）
A1: =令和７年度!A1 -> 令和７年度 | E1: =RIGHT(CELL("filename",$A$1),LEN(CELL("filename",$A$1))-FIND("]",CELL("filename",$A$1))) -> １月（３表） | F1: 入 域 観 光 客 統 計 月 報
A3: 第３表 国籍別入域観光客数
B4: 区分 | D4: 1 | E4: 2 | F4: 3 | G4: 4 | H4: 5 | I4: 6 | J4: 7 | K4: 8 | L4: 9 | M4: 10 | N4: 11 | O4: 12 | P4: 13 | Q4: 14
A5: 期間 | C5: 外国人総数 | D5: 台湾 | E5: 韓国 | F5: 中国本土 | G5: 香港 | H5: アメリカ | I5: カナダ | J5: イギリス（本国） | K5: フランス | L5: タイ | M5: シンガポール | N5: マレーシア | O5: インドネシア | P5: ｵｰｽﾄﾗﾘｱ | Q5: その他
A6: 月間 | B6: 令和8年1月 | C6: 234600 | D6: 92500 | E6: 64000 | F6: 8800 | G6: 20700 | H6: 2900 | I6: 1200 | J6: 1000 | K6: 900 | L6: 2100 | M6: 2500 | N6: 1300 | O6: 900 | P6: 1400 | Q6: 34400
B7: 令和7年1月 | C7: 216600 | D7: 63100 | E7: 60500 | F7: 41500 | G7: 15500 | H7: 3600 | I7: 800 | J7: 800 | K7: 200 | L7: 1500 | M7: 1900 | N7: 900 | O7: 600 | P7: 1000 | Q7: 24700
B8: 増減数 | C8: 18000 | D8: 29400 | E8: 3500 | F8: -32700 | G8: 5200 | H8: -700 | I8: 400 | J8: 200 | K8: 700 | L8: 600 | M8: 600 | N8: 400 | O8: 300 | P8: 400 | Q8: 9700
B9: 前年 同月比 | C9: 1.0831025 | D9: 1.4659271 | E9: 1.0578512 | F9: 0.21204819 | G9: 1.3354839 | H9: 0.80555556 | I9: 1.5 | J9: 1.25 | K9: 4.5 | L9: 1.4 | M9: 1.3157895 | N9: 1.4444444 | O9: 1.5 | P9: 1.4 | Q9: 1.3927126
B10: 今年度 構成比 | C10: 1 | D10: 0.39428815 | E10: 0.27280477 | F10: 0.037510656 | G10: 0.088235294 | H10: 0.012361466 | I10: 0.0051150895 | J10: 0.0042625746 | K10: 0.0038363171 | L10: 0.0089514066 | M10: 0.010656436 | N10: 0.005541347 | O10: 0.0038363171 | P10: 0.0059676044 | Q10: 0.14663257
A11: 年度 | B11: 今年度 | C11: 2482000 | D11: 1019100 | E11: 497500 | F11: 339300 | G11: 194200 | H11: 39900 | I11: 10300 | J11: 9500 | K11: 6600 | L11: 19500 | M11: 19400 | N11: 9400 | O11: 4700 | P11: 10400 | Q11: 302200
A12: 4月～1月 累計 | B12: 前年度 | C12: 1920100 | D12: 750500 | E12: 383100 | F12: 283200 | G12: 156500 | H12: 40200 | I12: 9600 | J12: 8400 | K12: 3100 | L12: 16700 | M12: 17900 | N12: 7300 | O12: 3500 | P12: 8100 | Q12: 232000
B13: 増減数 | C13: 561900 | D13: 268600 | E13: 114400 | F13: 56100 | G13: 37700 | H13: -300 | I13: 700 | J13: 1100 | K13: 3500 | L13: 2800 | M13: 1500 | N13: 2100 | O13: 1200 | P13: 2300 | Q13: 70200
B14: 前年度 同期比 | C14: 1.292641 | D14: 1.3578947 | E14: 1.2986165 | F14: 1.1980932 | G14: 1.2408946 | H14: 0.99253731 | I14: 1.0729167 | J14: 1.1309524 | K14: 2.1290323 | L14: 1.1676647 | M14: 1.0837989 | N14: 1.2876712 | O14: 1.3428571 | P14: 1.2839506 | Q14: 1.3025862
B15: 今年度 構成比 | C15: 1 | D15: 0.41059629 | E15: 0.20044319 | F15: 0.13670427 | G15: 0.078243352 | H15: 0.016075745 | I15: 0.0041498791 | J15: 0.0038275584 | K15: 0.0026591459 | L15: 0.0078565673 | M15: 0.0078162772 | N15: 0.0037872683 | O15: 0.0018936342 | P15: 0.0041901692 | Q15: 0.12175665
A16: 暦年 | B16: 今年 | C16: 234600 | D16: 92500 | E16: 64000 | F16: 8800 | G16: 20700 | H16: 2900 | I16: 1200 | J16: 1000 | K16: 900 | L16: 2100 | M16: 2500 | N16: 1300 | O16: 900 | P16: 1400 | Q16: 34400
A17: １月累計 | B17: 前年 | C17: 216600 | D17: 63100 | E17: 60500 | F17: 41500 | G17: 15500 | H17: 3600 | I17: 800 | J17: 800 | K17: 200 | L17: 1500 | M17: 1900 | N17: 900 | O17: 600 | P17: 1000 | Q17: 24700
B18: 増減数 | C18: 18000 | D18: 29400 | E18: 3500 | F18: -32700 | G18: 5200 | H18: -700 | I18: 400 | J18: 200 | K18: 700 | L18: 600 | M18: 600 | N18: 400 | O18: 300 | P18: 400 | Q18: 9700
B19: 前年 同期比 | C19: 1.0831025 | D19: 1.4659271 | E19: 1.0578512 | F19: 0.21204819 | G19: 1.3354839 | H19: 0.80555556 | I19: 1.5 | J19: 1.25 | K19: 4.5 | L19: 1.4 | M19: 1.3157895 | N19: 1.4444444 | O19: 1.5 | P19: 1.4 | Q19: 1.3927126
B20: 今年 構成比 | C20: 1 | D20: 0.39428815 | E20: 0.27280477 | F20: 0.037510656 | G20: 0.088235294 | H20: 0.012361466 | I20: 0.0051150895 | J20: 0.0042625746 | K20: 0.0038363171 | L20: 0.0089514066 | M20: 0.010656436 | N20: 0.005541347 | O20: 0.0038363171 | P20: 0.0059676044 | Q20: 0.14663257
A21: 注 | B21: ①外国人については法務省出入国在留管理庁及び船社代理店の資料に基づいており、乗務員等を含む。
B22: ②イギリス・フランスは、平成22年４月から表章を始めた。
B23: ③タイ、シンガポール、マレーシアは、平成23年４月から表章を始めた。
B24: ④インドネシアは、平成24年11月から表章を始めた。
B25: ⑤カナダ、オーストラリアは、平成28年４月から表章を始めた。
B26: ⑥乗務員等は、「その他」に一括計上している。

Sheet ２月（１表）
A1: =令和７年度!A1 -> 令和７年度 | D1: =RIGHT(CELL("filename",$A$1),LEN(CELL("filename",$A$1))-FIND("]",CELL("filename",$A$1))) -> ２月（１表） | E1: 入 域 観 光 客 統 計 月 報
A3: 第１表 入域観光客数 | K3: (単位:人、％)
B4: 区分 | C4: 入域観光客数（総数）
F5: 空路海路別内訳
A6: 期間 | D6: 国内 | E6: 外国 | F6: 空路計 | I6: 海路計
G7: 国内 | H7: 外国 | J7: 国内 | K7: 外国
A8: 月間 | B8: 令和8年2月 | C8: 842800 | D8: 623500 | E8: 219300 | F8: 794300 | G8: 621300 | H8: 173000 | I8: 48500 | J8: 2200 | K8: 46300
B9: 令和7年2月 | C9: 781400 | D9: 606400 | E9: 175000 | F9: 734700 | G9: 604400 | H9: 130300 | I9: 46700 | J9: 2000 | K9: 44700
B10: 増減数 | C10: 61400 | D10: 17100 | E10: 44300 | F10: 59600 | G10: 16900 | H10: 42700 | I10: 1800 | J10: 200 | K10: 1600
B11: 前年 同月比 | C11: 1.0785769 | D11: 1.0281992 | E11: 1.2531429 | F11: 1.0811215 | G11: 1.0279616 | H11: 1.3277053 | I11: 1.0385439 | J11: 1.1 | K11: 1.0357942
A12: 年度 | B12: 今年度 | C12: 9957400 | D12: 7256100 | E12: 2701300 | F12: 9116200 | G12: 7215000 | H12: 1901200 | I12: 841200 | J12: 41100 | K12: 800100
A13: 4月～2月 累計 | B13: 前年度 | C13: 9040100 | D13: 6945000 | E13: 2095100 | F13: 8294800 | G13: 6909700 | H13: 1385100 | I13: 745300 | J13: 35300 | K13: 710000
B14: 増減数 | C14: 917300 | D14: 311100 | E14: 606200 | F14: 821400 | G14: 305300 | H14: 516100 | I14: 95900 | J14: 5800 | K14: 90100
B15: 前年度 同期比 | C15: 1.1014701 | D15: 1.0447948 | E15: 1.2893418 | F15: 1.0990259 | G15: 1.0441843 | H15: 1.3726085 | I15: 1.128673 | J15: 1.1643059 | K15: 1.1269014
A16: 暦年 | B16: 今年 | C16: 1678800 | D16: 1224900 | E16: 453900 | F16: 1562900 | G16: 1221000 | H16: 341900 | I16: 115900 | J16: 3900 | K16: 112000
A17: 1月～2月 累計 | B17: 前年 | C17: 1564800 | D17: 1173200 | E17: 391600 | F17: 1448200 | G17: 1169500 | H17: 278700 | I17: 116600 | J17: 3700 | K17: 112900
B18: 増減数 | C18: 114000 | D18: 51700 | E18: 62300 | F18: 114700 | G18: 51500 | H18: 63200 | I18: -700 | J18: 200 | K18: -900
B19: 前年 同期比 | C19: 1.0728528 | D19: 1.0440675 | E19: 1.1590909 | F19: 1.0792018 | G19: 1.0440359 | H19: 1.2267671 | I19: 0.99399657 | J19: 1.0540541 | K19: 0.99202834
D21: 【参考】外国客のうち、乗務員等の人数： | E21: 13400 | F21: （海路） | K21: 2

Sheet ２月（２表）
A1: =令和７年度!A1 -> 令和７年度 | E1: =RIGHT(CELL("filename",$A$1),LEN(CELL("filename",$A$1))-FIND("]",CELL("filename",$A$1))) -> ２月（２表） | F1: 入 域 観 光 客 統 計 月 報
A3: 第２表 航路別入域観光客数
B4: 区分 | D4: 1 | E4: 2 | F4: 3 | G4: 4 | H4: 5 | I4: 6 | J4: 7 | K4: 8 | L4: 9 | M4: 10 | N4: 11 | O4: 12 | P4: 13 | Q4: 14 | R4: 15 | S4: 16 | T4: 17 | U4: 18 | V4: 19 | W4: 20 | X4: 21 | Y4: 22 | Z4: 23 | AA4: 24 | AB4: 25 | AC4: 26 | AD4: 27 | AE4: 28
A5: 期間 | C5: 総数 | D5: 東京 | E5: 伊丹 | F5: 関西 | G5: 神戸 | H5: 福岡 | I5: 北九州 | J5: 名古屋 | K5: 札幌 | L5: 鹿児島 | M5: 仙台 | N5: 福島 | O5: 新潟 | P5: 静岡 | Q5: 富山 | R5: 小松 | S5: 岡山 | T5: 広島 | U5: 高松 | V5: 松山 | W5: 高知 | X5: 長崎 | Y5: 熊本 | Z5: 大分 | AA5: 宮崎 | AB5: 茨城 | AC5: 岩国 | AD5: その他 | AE5: 外国
A6: 月間 | B6: 令和8年2月 | C6: 842800 | D6: 305200 | E6: 41600 | F6: 56700 | G6: 27200 | H6: 80800 | I6: 0 | J6: 57800 | K6: 3800 | L6: 11300 | M6: 4300 | N6: 0 | O6: 800 | P6: 3300 | Q6: 0 | R6: 3100 | S6: 3500 | T6: 4000 | U6: 3100 | V6: 3200 | W6: 200 | X6: 0 | Y6: 3500 | Z6: 0 | AA6: 3300 | AB6: 3300 | AC6: 3200 | AD6: 300 | AE6: 219300
B7: 令和7年2月 | C7: 781400 | D7: 294600 | E7: 38500 | F7: 60600 | G7: 25800 | H7: 74700 | I7: 0 | J7: 54200 | K7: 3900 | L7: 10700 | M7: 5500 | N7: 0 | O7: 2400 | P7: 2800 | Q7: 100 | R7: 3000 | S7: 3700 | T7: 5400 | U7: 3700 | V7: 3000 | W7: 0 | X7: 0 | Y7: 3400 | Z7: 0 | AA7: 3300 | AB7: 3500 | AC7: 3000 | AD7: 600 | AE7: 175000
B8: 増減数 | C8: 61400 | D8: 10600 | E8: 3100 | F8: -3900 | G8: 1400 | H8: 6100 | I8: 0 | J8: 3600 | K8: -100 | L8: 600 | M8: -1200 | N8: 0 | O8: -1600 | P8: 500 | Q8: -100 | R8: 100 | S8: -200 | T8: -1400 | U8: -600 | V8: 200 | W8: 200 | X8: 0 | Y8: 100 | Z8: 0 | AA8: 0 | AB8: -200 | AC8: 200 | AD8: -300 | AE8: 44300
B9: 前年 同月比 | C9: 1.0785769 | D9: 1.035981 | E9: 1.0805195 | F9: 0.93564356 | G9: 1.0542636 | H9: 1.08166 | I9: - | J9: 1.0664207 | K9: 0.97435897 | L9: 1.0560748 | M9: 0.78181818 | N9: - | O9: 0.33333333 | P9: 1.1785714 | Q9: 皆減 | R9: 1.0333333 | S9: 0.94594595 | T9: 0.74074074 | U9: 0.83783784 | V9: 1.0666667 | W9: 皆増 | X9: - | Y9: 1.0294118 | Z9: - | AA9: 1 | AB9: 0.94285714 | AC9: 1.0666667 | AD9: 0.5 | AE9: 1.2531429
B10: 当月 構成比 | C10: 1 | D10: 0.36212625 | E10: 0.049359279 | F10: 0.067275748 | G10: 0.032273374 | H10: 0.095870907 | I10: 0 | J10: 0.068580921 | K10: 0.0045087803 | L10: 0.013407689 | M10: 0.0051020408 | N10: 0 | O10: 0.0009492169 | P10: 0.0039155197 | Q10: 0 | R10: 0.0036782155 | S10: 0.0041528239 | T10: 0.0047460845 | U10: 0.0036782155 | V10: 0.0037968676 | W10: 0.00023730422 | X10: 0 | Y10: 0.0041528239 | Z10: 0 | AA10: 0.0039155197 | AB10: 0.0039155197 | AC10: 0.0037968676 | AD10: 0.00035595634 | AE10: 0.26020408
A11: 年度 | B11: 今年度 | C11: 9957400 | D11: 3540600 | E11: 500500 | F11: 711200 | G11: 309900 | H11: 920200 | I11: 100 | J11: 630000 | K11: 45000 | L11: 132200 | M11: 51100 | N11: 800 | O11: 16300 | P11: 33900 | Q11: 300 | R11: 35400 | S11: 41200 | T11: 49500 | U11: 42300 | V11: 36500 | W11: 500 | X11: 100 | Y11: 39500 | Z11: 100 | AA11: 35600 | AB11: 36400 | AC11: 36800 | AD11: 10100 | AE11: 2701300
A12: 4月～2月 累計 | B12: 前年度 | C12: 9040100 | D12: 3399400 | E12: 465700 | F12: 707500 | G12: 305000 | H12: 863200 | I12: 0 | J12: 581100 | K12: 44900 | L12: 128000 | M12: 53900 | N12: 500 | O12: 13600 | P12: 23100 | Q12: 200 | R12: 33200 | S12: 39800 | T12: 51500 | U12: 48900 | V12: 33800 | W12: 400 | X12: 100 | Y12: 38100 | Z12: 0 | AA12: 33900 | AB12: 38400 | AC12: 33400 | AD12: 7400 | AE12: 2095100
B13: 増減数 | C13: 917300 | D13: 141200 | E13: 34800 | F13: 3700 | G13: 4900 | H13: 57000 | I13: 100 | J13: 48900 | K13: 100 | L13: 4200 | M13: -2800 | N13: 300 | O13: 2700 | P13: 10800 | Q13: 100 | R13: 2200 | S13: 1400 | T13: -2000 | U13: -6600 | V13: 2700 | W13: 100 | X13: 0 | Y13: 1400 | Z13: 100 | AA13: 1700 | AB13: -2000 | AC13: 3400 | AD13: 2700 | AE13: 606200
B14: 前年度 同期比 | C14: 1.1014701 | D14: 1.0415367 | E14: 1.0747262 | F14: 1.0052297 | G14: 1.0160656 | H14: 1.0660334 | I14: 皆増 | J14: 1.0841507 | K14: 1.0022272 | L14: 1.0328125 | M14: 0.94805195 | N14: 1.6 | O14: 1.1985294 | P14: 1.4675325 | Q14: 1.5 | R14: 1.0662651 | S14: 1.0351759 | T14: 0.96116505 | U14: 0.86503067 | V14: 1.0798817 | W14: 1.25 | X14: 1 | Y14: 1.0367454 | Z14: 皆増 | AA14: 1.0501475 | AB14: 0.94791667 | AC14: 1.1017964 | AD14: 1.3648649 | AE14: 1.2893418
B15: 今年度 構成比 | C15: 1 | D15: 0.35557475 | E15: 0.050264125 | F15: 0.071424267 | G15: 0.031122582 | H15: 0.092413682 | I15: 1.0042782e-05 | J15: 0.063269528 | K15: 0.004519252 | L15: 0.013276558 | M15: 0.0051318617 | N15: 8.0342258e-05 | O15: 0.0016369735 | P15: 0.0034045032 | Q15: 3.0128347e-05 | R15: 0.0035551449 | S15: 0.0041376263 | T15: 0.0049711772 | U15: 0.0042480969 | V15: 0.0036656155 | W15: 5.0213911e-05 | X15: 1.0042782e-05 | Y15: 0.003966899 | Z15: 1.0042782e-05 | AA15: 0.0035752305 | AB15: 0.0036555727 | AC15: 0.0036957439 | AD15: 0.001014321 | AE15: 0.27128568
A16: 暦年 | B16: 今年 | C16: 1678800 | D16: 599700 | E16: 82600 | F16: 110400 | G16: 52500 | H16: 158800 | I16: 0 | J16: 112300 | K16: 7900 | L16: 22100 | M16: 8900 | N16: 200 | O16: 1400 | P16: 6000 | Q16: 100 | R16: 5700 | S16: 6700 | T16: 8100 | U16: 6700 | V16: 6500 | W16: 300 | X16: 100 | Y16: 7400 | Z16: 0 | AA16: 6500 | AB16: 6800 | AC16: 6400 | AD16: 800 | AE16: 453900
A17: 1月～2月 累計 | B17: 前年 | C17: 1564800 | D17: 569000 | E17: 76600 | F17: 115400 | G17: 49400 | H17: 147700 | I17: 0 | J17: 102200 | K17: 8000 | L17: 22000 | M17: 10800 | N17: 100 | O17: 4300 | P17: 4900 | Q17: 100 | R17: 5600 | S17: 6800 | T17: 9800 | U17: 7400 | V17: 5900 | W17: 100 | X17: 100 | Y17: 7000 | Z17: 0 | AA17: 6500 | AB17: 6800 | AC17: 5600 | AD17: 1100 | AE17: 391600
B18: 増減数 | C18: 114000 | D18: 30700 | E18: 6000 | F18: -5000 | G18: 3100 | H18: 11100 | I18: 0 | J18: 10100 | K18: -100 | L18: 100 | M18: -1900 | N18: 100 | O18: -2900 | P18: 1100 | Q18: 0 | R18: 100 | S18: -100 | T18: -1700 | U18: -700 | V18: 600 | W18: 200 | X18: 0 | Y18: 400 | Z18: 0 | AA18: 0 | AB18: 0 | AC18: 800 | AD18: -300 | AE18: 62300
B19: 前年 同期比 | C19: 1.0728528 | D19: 1.0539543 | E19: 1.078329 | F19: 0.95667244 | G19: 1.062753 | H19: 1.0751523 | I19: - | J19: 1.0988258 | K19: 0.9875 | L19: 1.0045455 | M19: 0.82407407 | N19: 2 | O19: 0.3255814 | P19: 1.2244898 | Q19: 1 | R19: 1.0178571 | S19: 0.98529412 | T19: 0.82653061 | U19: 0.90540541 | V19: 1.1016949 | W19: 3 | X19: 1 | Y19: 1.0571429 | Z19: - | AA19: 1 | AB19: 1 | AC19: 1.1428571 | AD19: 0.72727273 | AE19: 1.1590909
B20: 今年 構成比 | C20: 1 | D20: 0.35721944 | E20: 0.049201811 | F20: 0.065761258 | G20: 0.031272337 | H20: 0.094591375 | I20: 0 | J20: 0.066893019 | K20: 0.0047057422 | L20: 0.013164165 | M20: 0.0053014058 | N20: 0.00011913271 | O20: 0.000833929 | P20: 0.0035739814 | Q20: 5.9566357e-05 | R20: 0.0033952823 | S20: 0.0039909459 | T20: 0.0048248749 | U20: 0.0039909459 | V20: 0.0038718132 | W20: 0.00017869907 | X20: 5.9566357e-05 | Y20: 0.0044079104 | Z20: 0 | AA20: 0.0038718132 | AB20: 0.0040505123 | AC20: 0.0038122468 | AD20: 0.00047653086 | AE20: 0.27037169
A21: 注 | B21: １ 国内客には、沖縄県居住者は含まない。本土経由で来県する外国客は含む。
B22: 2 推計方法は、国内航路については、本土と沖縄県間に航路を有する航空及び船舶各社の航路別旅客輸送実績に同航路における入域観光客の混在率 (サンプリング調査）をデフレーターとして算出した。
B23: また、外国人については法務省出入国在留管理庁の公表資料及び船社代理店の資料に基づき沖縄県が推計。乗務員等を含む。
D25: 参考値 東京空港内訳 | H25: 参考値 FSC・LCC内訳
E26: 羽田 | F26: 成田 | I26: FSC | J26: LCC
D27: 令和8年2月 | E27: 275000 | F27: 30300 | H27: 令和8年2月 | I27: 536600 | J27: 84700
D28: 令和7年2月 | E28: 265500 | F28: 29100 | H28: 令和7年2月 | I28: 520900 | J28: 83500
D29: 増減数 | E29: 9500 | F29: 1200 | H29: 増減数 | I29: 15700 | J29: 1200
D30: 前年 同月比 | E30: 1.0357815 | F30: 1.0412371 | H30: 前年 同月比 | I30: 1.0301401 | J30: 1.0143713 | L30: ※羽田・成田内訳、FSC・LCC観光客数は海路客を除く
D31: 当月 構成比 | E31: 0.34621679 | F31: 0.038146796 | H31: FSC・LCC 比率 | I31: 0.86367294 | J31: 0.13632706 | L31: ※観光客数算出の方法上、東京と羽田＋成田の合計値が一致しない場合、 前年の東京の値と一致しない場合があります。

Sheet ２月（３表）
A1: =令和７年度!A1 -> 令和７年度 | E1: =RIGHT(CELL("filename",$A$1),LEN(CELL("filename",$A$1))-FIND("]",CELL("filename",$A$1))) -> ２月（３表） | F1: 入 域 観 光 客 統 計 月 報
A3: 第３表 国籍別入域観光客数
B4: 区分 | D4: 1 | E4: 2 | F4: 3 | G4: 4 | H4: 5 | I4: 6 | J4: 7 | K4: 8 | L4: 9 | M4: 10 | N4: 11 | O4: 12 | P4: 13 | Q4: 14
A5: 期間 | C5: 外国人総数 | D5: 台湾 | E5: 韓国 | F5: 中国本土 | G5: 香港 | H5: アメリカ | I5: カナダ | J5: イギリス（本国） | K5: フランス | L5: タイ | M5: シンガポール | N5: マレーシア | O5: インドネシア | P5: ｵｰｽﾄﾗﾘｱ | Q5: その他
A6: 月間 | B6: 令和8年2月 | C6: 219300 | D6: 97500 | E6: 58500 | F6: 19400 | G6: 15000 | H6: 3200 | I6: 1200 | J6: 600 | K6: 300 | L6: 1700 | M6: 1600 | N6: 500 | O6: 300 | P6: 700 | Q6: 18800
B7: 令和7年2月 | C7: 175000 | D7: 53300 | E7: 46400 | F7: 37400 | G7: 11000 | H7: 4000 | I7: 900 | J7: 800 | K7: 200 | L7: 1700 | M7: 1500 | N7: 800 | O7: 300 | P7: 600 | Q7: 16100
B8: 増減数 | C8: 44300 | D8: 44200 | E8: 12100 | F8: -18000 | G8: 4000 | H8: -800 | I8: 300 | J8: -200 | K8: 100 | L8: 0 | M8: 100 | N8: -300 | O8: 0 | P8: 100 | Q8: 2700
B9: 前年 同月比 | C9: 1.2531429 | D9: 1.8292683 | E9: 1.2607759 | F9: 0.51871658 | G9: 1.3636364 | H9: 0.8 | I9: 1.3333333 | J9: 0.75 | K9: 1.5 | L9: 1 | M9: 1.0666667 | N9: 0.625 | O9: 1 | P9: 1.1666667 | Q9: 1.1677019
B10: 今年度 構成比 | C10: 1 | D10: 0.44459644 | E10: 0.26675787 | F10: 0.088463292 | G10: 0.068399453 | H10: 0.014591883 | I10: 0.0054719562 | J10: 0.0027359781 | K10: 0.0013679891 | L10: 0.007751938 | M10: 0.0072959416 | N10: 0.0022799818 | O10: 0.0013679891 | P10: 0.0031919745 | Q10: 0.085727314
A11: 年度 | B11: 今年度 | C11: 2701300 | D11: 1116600 | E11: 556000 | F11: 358700 | G11: 209200 | H11: 43100 | I11: 11500 | J11: 10100 | K11: 6900 | L11: 21200 | M11: 21000 | N11: 9900 | O11: 5000 | P11: 11100 | Q11: 321000
A12: 4月～2月 累計 | B12: 前年度 | C12: 2095100 | D12: 803800 | E12: 429500 | F12: 320600 | G12: 167500 | H12: 44200 | I12: 10500 | J12: 9200 | K12: 3300 | L12: 18400 | M12: 19400 | N12: 8100 | O12: 3800 | P12: 8700 | Q12: 248100
B13: 増減数 | C13: 606200 | D13: 312800 | E13: 126500 | F13: 38100 | G13: 41700 | H13: -1100 | I13: 1000 | J13: 900 | K13: 3600 | L13: 2800 | M13: 1600 | N13: 1800 | O13: 1200 | P13: 2400 | Q13: 72900
B14: 前年度 同期比 | C14: 1.2893418 | D14: 1.3891515 | E14: 1.2945285 | F14: 1.1188397 | G14: 1.2489552 | H14: 0.97511312 | I14: 1.0952381 | J14: 1.0978261 | K14: 2.0909091 | L14: 1.1521739 | M14: 1.0824742 | N14: 1.2222222 | O14: 1.3157895 | P14: 1.2758621 | Q14: 1.2938331
B15: 今年度 構成比 | C15: 1 | D15: 0.41335653 | E15: 0.20582682 | F15: 0.13278792 | G15: 0.077444194 | H15: 0.015955281 | I15: 0.0042572095 | J15: 0.0037389405 | K15: 0.0025543257 | L15: 0.0078480731 | M15: 0.0077740347 | N15: 0.0036649021 | O15: 0.0018509606 | P15: 0.0041091326 | Q15: 0.11883167
A16: 暦年 | B16: 今年 | C16: 453900 | D16: 190000 | E16: 122500 | F16: 28200 | G16: 35700 | H16: 6100 | I16: 2400 | J16: 1600 | K16: 1200 | L16: 3800 | M16: 4100 | N16: 1800 | O16: 1200 | P16: 2100 | Q16: 53200
A17: 1月～2月 累計 | B17: 前年 | C17: 391600 | D17: 116400 | E17: 106900 | F17: 78900 | G17: 26500 | H17: 7600 | I17: 1700 | J17: 1600 | K17: 400 | L17: 3200 | M17: 3400 | N17: 1700 | O17: 900 | P17: 1600 | Q17: 40800
B18: 増減数 | C18: 62300 | D18: 73600 | E18: 15600 | F18: -50700 | G18: 9200 | H18: -1500 | I18: 700 | J18: 0 | K18: 800 | L18: 600 | M18: 700 | N18: 100 | O18: 300 | P18: 500 | Q18: 12400
B19: 前年 同期比 | C19: 1.1590909 | D19: 1.6323024 | E19: 1.1459308 | F19: 0.35741445 | G19: 1.3471698 | H19: 0.80263158 | I19: 1.4117647 | J19: 1 | K19: 3 | L19: 1.1875 | M19: 1.2058824 | N19: 1.0588235 | O19: 1.3333333 | P19: 1.3125 | Q19: 1.3039216
B20: 今年 構成比 | C20: 1 | D20: 0.4185944 | E20: 0.26988323 | F20: 0.062128222 | G20: 0.078651685 | H20: 0.013439083 | I20: 0.0052875083 | J20: 0.0035250055 | K20: 0.0026437541 | L20: 0.0083718881 | M20: 0.0090328266 | N20: 0.0039656312 | O20: 0.0026437541 | P20: 0.0046265697 | Q20: 0.11720643
A21: 注 | B21: ①外国人については法務省出入国在留管理庁及び船社代理店の資料に基づいており、乗務員等を含む。
B22: ②イギリス・フランスは、平成22年４月から表章を始めた。
B23: ③タイ、シンガポール、マレーシアは、平成23年４月から表章を始めた。
B24: ④インドネシアは、平成24年11月から表章を始めた。
B25: ⑤カナダ、オーストラリアは、平成28年４月から表章を始めた。
B26: ⑥乗務員等は、「その他」に一括計上している。

Sheet ３月（１表）
A1: =令和７年度!A1 -> 令和７年度 | D1: =RIGHT(CELL("filename",$A$1),LEN(CELL("filename",$A$1))-FIND("]",CELL("filename",$A$1))) -> ３月（１表） | E1: 入 域 観 光 客 統 計 月 報
A3: 第１表 入域観光客数 | K3: (単位:人、％)
B4: 区分 | C4: 入域観光客数（総数）
F5: 空路海路別内訳
A6: 期間 | D6: 国内 | E6: 外国 | F6: 空路計 | I6: 海路計
G7: 国内 | H7: 外国 | J7: 国内 | K7: 外国
A8: 月間 | B8: 令和8年3月 | C8: 977900 | D8: 738300 | E8: 239600 | F8: 913600 | G8: 735700 | H8: 177900 | I8: 64300 | J8: 2600 | K8: 61700
B9: 令和7年3月 | C9: 912600 | D9: 716200 | E9: 196400 | F9: 850500 | G9: 712500 | H9: 138000 | I9: 62100 | J9: 3700 | K9: 58400
B10: 増減数 | C10: 65300 | D10: 22100 | E10: 43200 | F10: 63100 | G10: 23200 | H10: 39900 | I10: 2200 | J10: -1100 | K10: 3300
B11: 前年 同月比 | C11: 1.0715538 | D11: 1.0308573 | E11: 1.2199593 | F11: 1.0741917 | G11: 1.0325614 | H11: 1.2891304 | I11: 1.0354267 | J11: 0.7027027 | K11: 1.0565068
A12: 年度 | B12: 今年度 | C12: 10935300 | D12: 7994400 | E12: 2940900 | F12: 10029800 | G12: 7950700 | H12: 2079100 | I12: 905500 | J12: 43700 | K12: 861800
A13: 4月～3月 累計 | B13: 前年度 | C13: 9952700 | D13: 7661200 | E13: 2291500 | F13: 9145300 | G13: 7622200 | H13: 1523100 | I13: 807400 | J13: 39000 | K13: 768400
B14: 増減数 | C14: 982600 | D14: 333200 | E14: 649400 | F14: 884500 | G14: 328500 | H14: 556000 | I14: 98100 | J14: 4700 | K14: 93400
B15: 前年度 同期比 | C15: 1.098727 | D15: 1.0434919 | E15: 1.2833952 | F15: 1.0967163 | G15: 1.0430978 | H15: 1.365045 | I15: 1.1215011 | J15: 1.1205128 | K15: 1.1215513
A16: 暦年 | B16: 今年 | C16: 2656700 | D16: 1963200 | E16: 693500 | F16: 2476500 | G16: 1956700 | H16: 519800 | I16: 180200 | J16: 6500 | K16: 173700
A17: 1月～3月 累計 | B17: 前年 | C17: 2477400 | D17: 1889400 | E17: 588000 | F17: 2298700 | G17: 1882000 | H17: 416700 | I17: 178700 | J17: 7400 | K17: 171300
B18: 増減数 | C18: 179300 | D18: 73800 | E18: 105500 | F18: 177800 | G18: 74700 | H18: 103100 | I18: 1500 | J18: -900 | K18: 2400
B19: 前年 同期比 | C19: 1.0723743 | D19: 1.03906 | E19: 1.1794218 | F19: 1.0773481 | G19: 1.0396918 | H19: 1.2474202 | I19: 1.008394 | J19: 0.87837838 | K19: 1.0140105
D21: 【参考】外国客のうち、乗務員等の人数： | E21: 20200 | F21: （海路） | K21: 3

Sheet ３月（２表）
A1: =令和７年度!A1 -> 令和７年度 | E1: =RIGHT(CELL("filename",$A$1),LEN(CELL("filename",$A$1))-FIND("]",CELL("filename",$A$1))) -> ３月（２表） | F1: 入 域 観 光 客 統 計 月 報
A3: 第２表 航路別入域観光客数
B4: 区分 | D4: 1 | E4: 2 | F4: 3 | G4: 4 | H4: 5 | I4: 6 | J4: 7 | K4: 8 | L4: 9 | M4: 10 | N4: 11 | O4: 12 | P4: 13 | Q4: 14 | R4: 15 | S4: 16 | T4: 17 | U4: 18 | V4: 19 | W4: 20 | X4: 21 | Y4: 22 | Z4: 23 | AA4: 24 | AB4: 25 | AC4: 26 | AD4: 27 | AE4: 28
A5: 期間 | C5: 総数 | D5: 東京 | E5: 伊丹 | F5: 関西 | G5: 神戸 | H5: 福岡 | I5: 北九州 | J5: 名古屋 | K5: 札幌 | L5: 鹿児島 | M5: 仙台 | N5: 福島 | O5: 新潟 | P5: 静岡 | Q5: 富山 | R5: 小松 | S5: 岡山 | T5: 広島 | U5: 高松 | V5: 松山 | W5: 高知 | X5: 長崎 | Y5: 熊本 | Z5: 大分 | AA5: 宮崎 | AB5: 茨城 | AC5: 岩国 | AD5: その他 | AE5: 外国
A6: 月間 | B6: 令和8年3月 | C6: 977900 | D6: 360600 | E6: 49900 | F6: 68100 | G6: 30800 | H6: 95400 | I6: 100 | J6: 69200 | K6: 4400 | L6: 12600 | M6: 5000 | N6: 0 | O6: 300 | P6: 4000 | Q6: 200 | R6: 4000 | S6: 4100 | T6: 5100 | U6: 4000 | V6: 4000 | W6: 100 | X6: 0 | Y6: 4000 | Z6: 0 | AA6: 3800 | AB6: 3700 | AC6: 4000 | AD6: 900 | AE6: 239600
B7: 令和7年3月 | C7: 912600 | D7: 341100 | E7: 46500 | F7: 73600 | G7: 29900 | H7: 88600 | I7: 100 | J7: 66800 | K7: 4400 | L7: 12700 | M7: 6400 | N7: 0 | O7: 3500 | P7: 3500 | Q7: 0 | R7: 3800 | S7: 4000 | T7: 6400 | U7: 4600 | V7: 3800 | W7: 100 | X7: 0 | Y7: 4400 | Z7: 0 | AA7: 3500 | AB7: 3700 | AC7: 3800 | AD7: 1000 | AE7: 196400
B8: 増減数 | C8: 65300 | D8: 19500 | E8: 3400 | F8: -5500 | G8: 900 | H8: 6800 | I8: 0 | J8: 2400 | K8: 0 | L8: -100 | M8: -1400 | N8: 0 | O8: -3200 | P8: 500 | Q8: 200 | R8: 200 | S8: 100 | T8: -1300 | U8: -600 | V8: 200 | W8: 0 | X8: 0 | Y8: -400 | Z8: 0 | AA8: 300 | AB8: 0 | AC8: 200 | AD8: -100 | AE8: 43200
B9: 前年 同月比 | C9: 1.0715538 | D9: 1.057168 | E9: 1.0731183 | F9: 0.92527174 | G9: 1.0301003 | H9: 1.0767494 | I9: 1 | J9: 1.0359281 | K9: 1 | L9: 0.99212598 | M9: 0.78125 | N9: - | O9: 0.085714286 | P9: 1.1428571 | Q9: 皆増 | R9: 1.0526316 | S9: 1.025 | T9: 0.796875 | U9: 0.86956522 | V9: 1.0526316 | W9: 1 | X9: - | Y9: 0.90909091 | Z9: - | AA9: 1.0857143 | AB9: 1 | AC9: 1.0526316 | AD9: 0.9 | AE9: 1.2199593
B10: 当月 構成比 | C10: 1 | D10: 0.36874936 | E10: 0.051027712 | F10: 0.069639022 | G10: 0.031496063 | H10: 0.097555987 | I10: 0.00010225994 | J10: 0.070763882 | K10: 0.0044994376 | L10: 0.012884753 | M10: 0.0051129972 | N10: 0 | O10: 0.00030677983 | P10: 0.0040903978 | Q10: 0.00020451989 | R10: 0.0040903978 | S10: 0.0041926577 | T10: 0.0052152572 | U10: 0.0040903978 | V10: 0.0040903978 | W10: 0.00010225994 | X10: 0 | Y10: 0.0040903978 | Z10: 0 | AA10: 0.0038858779 | AB10: 0.003783618 | AC10: 0.0040903978 | AD10: 0.0009203395 | AE10: 0.24501483
A11: 年度 | B11: 今年度 | C11: 10935300 | D11: 3901200 | E11: 550400 | F11: 779300 | G11: 340700 | H11: 1015600 | I11: 200 | J11: 699200 | K11: 49400 | L11: 144800 | M11: 56100 | N11: 800 | O11: 16600 | P11: 37900 | Q11: 500 | R11: 39400 | S11: 45300 | T11: 54600 | U11: 46300 | V11: 40500 | W11: 600 | X11: 100 | Y11: 43500 | Z11: 100 | AA11: 39400 | AB11: 40100 | AC11: 40800 | AD11: 11000 | AE11: 2940900
A12: 4月～3月 累計 | B12: 前年度 | C12: 9952700 | D12: 3740500 | E12: 512200 | F12: 781100 | G12: 334900 | H12: 951800 | I12: 100 | J12: 647900 | K12: 49300 | L12: 140700 | M12: 60300 | N12: 500 | O12: 17100 | P12: 26600 | Q12: 200 | R12: 37000 | S12: 43800 | T12: 57900 | U12: 53500 | V12: 37600 | W12: 500 | X12: 100 | Y12: 42500 | Z12: 0 | AA12: 37400 | AB12: 42100 | AC12: 37200 | AD12: 8400 | AE12: 2291500
B13: 増減数 | C13: 982600 | D13: 160700 | E13: 38200 | F13: -1800 | G13: 5800 | H13: 63800 | I13: 100 | J13: 51300 | K13: 100 | L13: 4100 | M13: -4200 | N13: 300 | O13: -500 | P13: 11300 | Q13: 300 | R13: 2400 | S13: 1500 | T13: -3300 | U13: -7200 | V13: 2900 | W13: 100 | X13: 0 | Y13: 1000 | Z13: 100 | AA13: 2000 | AB13: -2000 | AC13: 3600 | AD13: 2600 | AE13: 649400
B14: 前年度 同期比 | C14: 1.098727 | D14: 1.0429622 | E14: 1.0745802 | F14: 0.99769556 | G14: 1.0173186 | H14: 1.0670309 | I14: 2 | J14: 1.0791789 | K14: 1.0020284 | L14: 1.02914 | M14: 0.93034826 | N14: 1.6 | O14: 0.97076023 | P14: 1.424812 | Q14: 2.5 | R14: 1.0648649 | S14: 1.0342466 | T14: 0.94300518 | U14: 0.86542056 | V14: 1.0771277 | W14: 1.2 | X14: 1 | Y14: 1.0235294 | Z14: 皆増 | AA14: 1.0534759 | AB14: 0.95249406 | AC14: 1.0967742 | AD14: 1.3095238 | AE14: 1.2833952
B15: 今年度 構成比 | C15: 1 | D15: 0.3567529 | E15: 0.05033241 | F15: 0.07126462 | G15: 0.031155981 | H15: 0.092873538 | I15: 1.8289393e-05 | J15: 0.063939718 | K15: 0.0045174801 | L15: 0.013241521 | M15: 0.0051301748 | N15: 7.3157572e-05 | O15: 0.0015180196 | P15: 0.00346584 | Q15: 4.5723483e-05 | R15: 0.0036030104 | S15: 0.0041425475 | T15: 0.0049930043 | U15: 0.0042339945 | V15: 0.0037036021 | W15: 5.4868179e-05 | X15: 9.1446965e-06 | Y15: 0.003977943 | Z15: 9.1446965e-06 | AA15: 0.0036030104 | AB15: 0.0036670233 | AC15: 0.0037310362 | AD15: 0.0010059166 | AE15: 0.26893638
A16: 暦年 | B16: 今年 | C16: 2656700 | D16: 960300 | E16: 132500 | F16: 178500 | G16: 83300 | H16: 254200 | I16: 100 | J16: 181500 | K16: 12300 | L16: 34700 | M16: 13900 | N16: 200 | O16: 1700 | P16: 10000 | Q16: 300 | R16: 9700 | S16: 10800 | T16: 13200 | U16: 10700 | V16: 10500 | W16: 400 | X16: 100 | Y16: 11400 | Z16: 0 | AA16: 10300 | AB16: 10500 | AC16: 10400 | AD16: 1700 | AE16: 693500
A17: 1月～3月 累計 | B17: 前年 | C17: 2477400 | D17: 910100 | E17: 123100 | F17: 189000 | G17: 79300 | H17: 236300 | I17: 100 | J17: 169000 | K17: 12400 | L17: 34700 | M17: 17200 | N17: 100 | O17: 7800 | P17: 8400 | Q17: 100 | R17: 9400 | S17: 10800 | T17: 16200 | U17: 12000 | V17: 9700 | W17: 200 | X17: 100 | Y17: 11400 | Z17: 0 | AA17: 10000 | AB17: 10500 | AC17: 9400 | AD17: 2100 | AE17: 588000
B18: 増減数 | C18: 179300 | D18: 50200 | E18: 9400 | F18: -10500 | G18: 4000 | H18: 17900 | I18: 0 | J18: 12500 | K18: -100 | L18: 0 | M18: -3300 | N18: 100 | O18: -6100 | P18: 1600 | Q18: 200 | R18: 300 | S18: 0 | T18: -3000 | U18: -1300 | V18: 800 | W18: 200 | X18: 0 | Y18: 0 | Z18: 0 | AA18: 300 | AB18: 0 | AC18: 1000 | AD18: -400 | AE18: 105500
B19: 前年 同期比 | C19: 1.0723743 | D19: 1.0551588 | E19: 1.0763607 | F19: 0.94444444 | G19: 1.0504414 | H19: 1.0757512 | I19: 1 | J19: 1.0739645 | K19: 0.99193548 | L19: 1 | M19: 0.80813953 | N19: 2 | O19: 0.21794872 | P19: 1.1904762 | Q19: 3 | R19: 1.0319149 | S19: 1 | T19: 0.81481481 | U19: 0.89166667 | V19: 1.0824742 | W19: 2 | X19: 1 | Y19: 1 | Z19: - | AA19: 1.03 | AB19: 1 | AC19: 1.106383 | AD19: 0.80952381 | AE19: 1.1794218
B20: 今年 構成比 | C20: 1 | D20: 0.36146347 | E20: 0.049873904 | F20: 0.067188617 | G20: 0.031354688 | H20: 0.095682614 | I20: 3.7640682e-05 | J20: 0.068317838 | K20: 0.0046298039 | L20: 0.013061317 | M20: 0.0052320548 | N20: 7.5281364e-05 | O20: 0.00063989159 | P20: 0.0037640682 | Q20: 0.00011292205 | R20: 0.0036511462 | S20: 0.0040651937 | T20: 0.00496857 | U20: 0.004027553 | V20: 0.0039522716 | W20: 0.00015056273 | X20: 3.7640682e-05 | Y20: 0.0042910378 | Z20: 0 | AA20: 0.0038769903 | AB20: 0.0039522716 | AC20: 0.0039146309 | AD20: 0.00063989159 | AE20: 0.26103813
A21: 注 | B21: １ 国内客には、沖縄県居住者は含まない。本土経由で来県する外国客は含む。
B22: 2 推計方法は、国内航路については、本土と沖縄県間に航路を有する航空及び船舶各社の航路別旅客輸送実績に同航路における入域観光客の混在率 (サンプリング調査）をデフレーターとして算出した。
B23: また、外国人については法務省出入国在留管理庁の公表資料及び船社代理店の資料に基づき沖縄県が推計。乗務員等を含む。
D25: 参考値 東京空港内訳 | H25: 参考値 FSC・LCC内訳
E26: 羽田 | F26: 成田 | I26: FSC | J26: LCC
D27: 令和8年3月 | E27: 324800 | F27: 35700 | H27: 令和8年3月 | I27: 635700 | J27: 100000
D28: 令和7年3月 | E28: 305600 | F28: 35600 | H28: 令和7年3月 | I28: 609200 | J28: 103300
D29: 増減数 | E29: 19200 | F29: 100 | H29: 増減数 | I29: 26500 | J29: -3300
D30: 前年 同月比 | E30: 1.0628272 | F30: 1.002809 | H30: 前年 同月比 | I30: 1.0434997 | J30: 0.96805421 | L30: ※羽田・成田内訳、FSC・LCC観光客数は海路客を除く
D31: 当月 構成比 | E31: 0.35551664 | F31: 0.039076182 | H31: FSC・LCC 比率 | I31: 0.86407503 | J31: 0.13592497 | L31: ※観光客数算出の方法上、東京と羽田＋成田の合計値が一致しない場合、 前年の東京の値と一致しない場合があります。

Sheet ３月（３表）
A1: =令和７年度!A1 -> 令和７年度 | E1: =RIGHT(CELL("filename",$A$1),LEN(CELL("filename",$A$1))-FIND("]",CELL("filename",$A$1))) -> ３月（３表） | F1: 入 域 観 光 客 統 計 月 報
A3: 第３表 国籍別入域観光客数
B4: 区分 | D4: 1 | E4: 2 | F4: 3 | G4: 4 | H4: 5 | I4: 6 | J4: 7 | K4: 8 | L4: 9 | M4: 10 | N4: 11 | O4: 12 | P4: 13 | Q4: 14
A5: 期間 | C5: 外国人総数 | D5: 台湾 | E5: 韓国 | F5: 中国本土 | G5: 香港 | H5: アメリカ | I5: カナダ | J5: イギリス（本国） | K5: フランス | L5: タイ | M5: シンガポール | N5: マレーシア | O5: インドネシア | P5: ｵｰｽﾄﾗﾘｱ | Q5: その他
A6: 月間 | B6: 令和8年3月 | C6: 239600 | D6: 116000 | E6: 50600 | F6: 4800 | G6: 17900 | H6: 5600 | I6: 1600 | J6: 1400 | K6: 900 | L6: 2400 | M6: 2600 | N6: 1100 | O6: 400 | P6: 1500 | Q6: 32800
B7: 令和7年3月 | C7: 196400 | D7: 79000 | E7: 41400 | F7: 16700 | G7: 13700 | H7: 6900 | I7: 1600 | J7: 1600 | K7: 300 | L7: 2200 | M7: 2000 | N7: 1000 | O7: 400 | P7: 2000 | Q7: 27600
B8: 増減数 | C8: 43200 | D8: 37000 | E8: 9200 | F8: -11900 | G8: 4200 | H8: -1300 | I8: 0 | J8: -200 | K8: 600 | L8: 200 | M8: 600 | N8: 100 | O8: 0 | P8: -500 | Q8: 5200
B9: 前年 同月比 | C9: 1.2199593 | D9: 1.4683544 | E9: 1.2222222 | F9: 0.28742515 | G9: 1.3065693 | H9: 0.8115942 | I9: 1 | J9: 0.875 | K9: 3 | L9: 1.0909091 | M9: 1.3 | N9: 1.1 | O9: 1 | P9: 0.75 | Q9: 1.1884058
B10: 今年度 構成比 | C10: 1 | D10: 0.48414023 | E10: 0.21118531 | F10: 0.020033389 | G10: 0.074707846 | H10: 0.023372287 | I10: 0.0066777963 | J10: 0.0058430718 | K10: 0.0037562604 | L10: 0.010016694 | M10: 0.010851419 | N10: 0.004590985 | O10: 0.0016694491 | P10: 0.0062604341 | Q10: 0.13689482
A11: 年度 | B11: 今年度 | C11: 2940900 | D11: 1232600 | E11: 606600 | F11: 363500 | G11: 227100 | H11: 48700 | I11: 13100 | J11: 11500 | K11: 7800 | L11: 23600 | M11: 23600 | N11: 11000 | O11: 5400 | P11: 12600 | Q11: 353800
A12: 4月～3月 累計 | B12: 前年度 | C12: 2291500 | D12: 882800 | E12: 470900 | F12: 337300 | G12: 181200 | H12: 51100 | I12: 12100 | J12: 10800 | K12: 3600 | L12: 20600 | M12: 21400 | N12: 9100 | O12: 4200 | P12: 10700 | Q12: 275700
B13: 増減数 | C13: 649400 | D13: 349800 | E13: 135700 | F13: 26200 | G13: 45900 | H13: -2400 | I13: 1000 | J13: 700 | K13: 4200 | L13: 3000 | M13: 2200 | N13: 1900 | O13: 1200 | P13: 1900 | Q13: 78100
B14: 前年度 同期比 | C14: 1.2833952 | D14: 1.3962392 | E14: 1.2881716 | F14: 1.0776757 | G14: 1.2533113 | H14: 0.95303327 | I14: 1.0826446 | J14: 1.0648148 | K14: 2.1666667 | L14: 1.1456311 | M14: 1.1028037 | N14: 1.2087912 | O14: 1.2857143 | P14: 1.1775701 | Q14: 1.2832789
B15: 今年度 構成比 | C15: 1 | D15: 0.4191234 | E15: 0.20626339 | F15: 0.12360162 | G15: 0.077221259 | H15: 0.016559557 | I15: 0.0044544187 | J15: 0.0039103676 | K15: 0.0026522493 | L15: 0.0080247543 | M15: 0.0080247543 | N15: 0.0037403516 | O15: 0.0018361726 | P15: 0.0042844027 | Q15: 0.12030331
A16: 暦年 | B16: 今年 | C16: 693500 | D16: 306000 | E16: 173100 | F16: 33000 | G16: 53600 | H16: 11700 | I16: 4000 | J16: 3000 | K16: 2100 | L16: 6200 | M16: 6700 | N16: 2900 | O16: 1600 | P16: 3600 | Q16: 86000
A17: 1月～3月 累計 | B17: 前年 | C17: 588000 | D17: 195400 | E17: 148300 | F17: 95600 | G17: 40200 | H17: 14500 | I17: 3300 | J17: 3200 | K17: 700 | L17: 5400 | M17: 5400 | N17: 2700 | O17: 1300 | P17: 3600 | Q17: 68400
B18: 増減数 | C18: 105500 | D18: 110600 | E18: 24800 | F18: -62600 | G18: 13400 | H18: -2800 | I18: 700 | J18: -200 | K18: 1400 | L18: 800 | M18: 1300 | N18: 200 | O18: 300 | P18: 0 | Q18: 17600
B19: 前年 同期比 | C19: 1.1794218 | D19: 1.5660184 | E19: 1.1672286 | F19: 0.34518828 | G19: 1.3333333 | H19: 0.80689655 | I19: 1.2121212 | J19: 0.9375 | K19: 3 | L19: 1.1481481 | M19: 1.2407407 | N19: 1.0740741 | O19: 1.2307692 | P19: 1 | Q19: 1.2573099
B20: 今年 構成比 | C20: 1 | D20: 0.44124009 | E20: 0.24960346 | F20: 0.047584715 | G20: 0.077289113 | H20: 0.016870944 | I20: 0.0057678443 | J20: 0.0043258832 | K20: 0.0030281182 | L20: 0.0089401586 | M20: 0.0096611391 | N20: 0.0041816871 | O20: 0.0023071377 | P20: 0.0051910598 | Q20: 0.12400865
A21: 注 | B21: ①外国人については法務省出入国在留管理庁及び船社代理店の資料に基づいており、乗務員等を含む。
B22: ②イギリス・フランスは、平成22年４月から表章を始めた。
B23: ③タイ、シンガポール、マレーシアは、平成23年４月から表章を始めた。
B24: ④インドネシアは、平成24年11月から表章を始めた。
B25: ⑤カナダ、オーストラリアは、平成28年４月から表章を始めた。
B26: ⑥乗務員等は、「その他」に一括計上している。

Sheet 月別入域観光客数の推移
A1: =令和７年度!A1 -> 令和７年度 | C1: 月別入域観光客数の推移（平成30年度～令和７年度）
U2: (単位:人、％）
B3: 平成30年度 | D3: 令和元年度 | F3: 令和２年度 | H3: 令和３年度 | J3: 令和４年度 | L3: 令和５年度 | N3: 令和６年度 | P3: 令和７年度 | R3: 平成30/元年度 | T3: 2/元年度 | V3: 3/2年度 | X3: 4/3年度 | Z3: 5/4年度 | AB3: 6/5年度 | AD3: 7/6年度 | AF3: 7/平成30年度
B4: 月 間 | C4: 累 計 | D4: 月 間 | E4: 累 計 | F4: 月 間 | G4: 累 計 | H4: 月 間 | I4: 累 計 | J4: 月 間 | K4: 累 計 | L4: 月 間 | M4: 累 計 | N4: 月 間 | O4: 累 計 | P4: 月 間 | Q4: 累 計 | R4: 月 間 | S4: 累 計 | T4: 月 間 | U4: 累 計 | V4: 月 間 | W4: 累 計 | X4: 月 間 | Y4: 累 計 | Z4: 月 間 | AA4: 累 計 | AB4: 月 間 | AC4: 累 計 | AD4: 月 間 | AE4: 累 計 | AF4: 月 間 | AG4: 累 計
A5: 4 | B5: 833200 | C5: 833200 | D5: 851400 | E5: 851400 | F5: 77300 | G5: 77300 | H5: 262600 | I5: 262600 | J5: 409000 | K5: 409000 | L5: 669800 | M5: 669800 | N5: 752300 | O5: 752300 | P5: 882600 | Q5: 882600 | R5: 2.1843495 | S5: 2.1843495 | T5: -90.920836 | U5: -90.920836 | V5: 239.71539 | W5: 239.71539 | X5: 55.75019 | Y5: 55.75019 | Z5: 63.765281 | AA5: 63.765281 | AB5: 12.31711 | AC5: 12.31711 | AD5: 17.320218 | AE5: 17.320218 | AF5: 5.9289486 | AG5: 5.9289486
A6: 5 | B6: 830900 | C6: 1664100 | D6: 834900 | E6: 1686300 | F6: 44000 | G6: 121300 | H6: 195200 | I6: 457800 | J6: 396800 | K6: 805800 | L6: 645200 | M6: 1315000 | N6: 710400 | O6: 1462700 | P6: 842600 | Q6: 1725200 | R6: 0.4814057 | S6: 1.3340544 | T6: -94.729908 | U6: -92.806737 | V6: 343.63636 | W6: 277.41138 | X6: 103.27869 | Y6: 76.015727 | Z6: 62.600806 | AA6: 63.191859 | AB6: 10.105394 | AC6: 11.231939 | AD6: 18.609234 | AE6: 17.946264 | AF6: 1.4081117 | AG6: 3.6716543
A7: 6 | B7: 809700 | C7: 2473800 | D7: 868200 | E7: 2554500 | F7: 144100 | G7: 265400 | H7: 162900 | I7: 620700 | J7: 448500 | K7: 1254300 | L7: 663400 | M7: 1978400 | N7: 748000 | O7: 2210700 | P7: 838900 | Q7: 2564100 | R7: 7.2248981 | S7: 3.2621877 | T7: -83.402442 | U7: -89.610491 | V7: 13.046495 | W7: 133.8734 | X7: 175.32228 | Y7: 102.0783 | Z7: 47.915273 | AA7: 57.729411 | AB7: 12.752487 | AC7: 11.741812 | AD7: 12.152406 | AE7: 15.985887 | AF7: 3.6062739 | AG7: 3.6502547
A8: 7 | B8: 885800 | C8: 3359600 | D8: 963600 | E8: 3518100 | F8: 277300 | G8: 542700 | H8: 250400 | I8: 871100 | J8: 607800 | K8: 1862100 | L8: 778800 | M8: 2757200 | N8: 915400 | O8: 3126100 | P8: 947600 | Q8: 3511700 | R8: 8.783021 | S8: 4.7178236 | T8: -71.222499 | U8: -84.57406 | V8: -9.7006852 | W8: 60.512254 | X8: 142.73163 | Y8: 113.76421 | Z8: 28.134255 | AA8: 48.069384 | AB8: 17.539805 | AC8: 13.379515 | AD8: 3.5175879 | AE8: 12.334858 | AF8: 6.9767442 | AG8: 4.5273247
A9: 8 | B9: 1041500 | C9: 4401100 | D9: 1021200 | E9: 4539300 | F9: 202800 | G9: 745500 | H9: 288200 | I9: 1159300 | J9: 640800 | K9: 2502900 | L9: 728600 | M9: 3485800 | N9: 1003800 | O9: 4129900 | P9: 1074900 | Q9: 4586600 | R9: -1.9491119 | S9: 3.1401241 | T9: -80.141011 | U9: -83.576763 | V9: 42.110454 | W9: 55.506372 | X9: 122.34559 | Y9: 115.89752 | Z9: 13.701623 | AA9: 39.270446 | AB9: 37.771068 | AC9: 18.477824 | AD9: 7.0830843 | AE9: 11.058379 | AF9: 3.2069131 | AG9: 4.2148554
A10: 9 | B10: 801500 | C10: 5202600 | D10: 809300 | E10: 5348600 | F10: 227600 | G10: 973100 | H10: 204900 | I10: 1364200 | J10: 494700 | K10: 2997600 | L10: 710100 | M10: 4195900 | N10: 830900 | O10: 4960800 | P10: 948600 | Q10: 5535200 | R10: 0.9731753 | S10: 2.8062892 | T10: -71.876931 | U10: -81.806454 | V10: -9.973638 | W10: 40.191142 | X10: 141.43485 | Y10: 119.73318 | Z10: 43.54154 | AA10: 39.975314 | AB10: 17.011688 | AC10: 18.2297 | AD10: 14.165363 | AE10: 11.578778 | AF10: 18.353088 | AG10: 6.3929574
A11: 10 | B11: 849300 | C11: 6051900 | D11: 851300 | E11: 6199900 | F11: 341200 | G11: 1314300 | H11: 299000 | I11: 1663200 | J11: 630700 | K11: 3628300 | L11: 788300 | M11: 4984200 | N11: 886900 | O11: 5847700 | P11: 986100 | Q11: 6521300 | R11: 0.23548805 | S11: 2.445513 | T11: -59.920122 | U11: -78.801271 | V11: -12.368113 | W11: 26.546451 | X11: 110.93645 | Y11: 118.15176 | Z11: 24.988108 | AA11: 37.370118 | AB11: 12.507928 | AC11: 17.324746 | AD11: 11.185026 | AE11: 11.519059 | AF11: 16.107383 | AG11: 7.7562418
A12: 11 | B12: 795200 | C12: 6847100 | D12: 799200 | E12: 6999100 | F12: 381100 | G12: 1695400 | H12: 368000 | I12: 2031200 | J12: 615000 | K12: 4243300 | L12: 688200 | M12: 5672400 | N12: 811200 | O12: 6658900 | P12: 894500 | Q12: 7415800 | R12: 0.50301811 | S12: 2.2199179 | T12: -52.314815 | U12: -75.776886 | V12: -3.437418 | W12: 19.806535 | X12: 67.119565 | Y12: 108.90607 | Z12: 11.902439 | AA12: 33.678976 | AB12: 17.872711 | AC12: 17.391228 | AD12: 10.268738 | AE12: 11.366742 | AF12: 12.487425 | AG12: 8.3057061
A13: 12 | B13: 747500 | C13: 7594600 | D13: 755100 | E13: 7754200 | F13: 326200 | G13: 2021600 | H13: 423600 | I13: 2454800 | J13: 635000 | K13: 4878300 | L13: 666700 | M13: 6339100 | N13: 816400 | O13: 7475300 | P13: 862800 | Q13: 8278600 | R13: 1.0167224 | S13: 2.1014932 | T13: -56.800424 | U13: -73.928968 | V13: 29.858982 | W13: 21.428571 | X13: 49.905571 | Y13: 98.724947 | Z13: 4.992126 | AA13: 29.944858 | AB13: 22.453877 | AC13: 17.92368 | AD13: 5.6834885 | AE13: 10.746057 | AF13: 15.424749 | AG13: 9.0063993
A14: 1 | B14: 753500 | C14: 8348100 | D14: 727800 | E14: 8482000 | F14: 144000 | G14: 2165600 | H14: 224600 | I14: 2679400 | J14: 532200 | K14: 5410500 | L14: 629200 | M14: 6968300 | N14: 783400 | O14: 8258700 | P14: 836000 | Q14: 9114600 | R14: -3.4107498 | S14: 1.6039578 | T14: -80.214345 | U14: -74.468286 | V14: 55.972222 | W14: 23.725526 | X14: 136.95459 | Y14: 101.92954 | Z14: 18.226231 | AA14: 28.792163 | AB14: 24.507311 | AC14: 18.518146 | AD14: 6.7143222 | AE14: 10.363617 | AF14: 10.948905 | AG14: 9.18173
A15: 2 | B15: 772200 | C15: 9120300 | D15: 590900 | E15: 9072900 | F15: 118800 | G15: 2284400 | H15: 179200 | I15: 2858600 | J15: 597900 | K15: 6008400 | L15: 719200 | M15: 7687500 | N15: 781400 | O15: 9040100 | P15: 842800 | Q15: 9957400 | R15: -23.478373 | S15: -0.51971975 | T15: -79.895075 | U15: -74.821722 | V15: 50.841751 | W15: 25.135703 | X15: 233.64955 | Y15: 110.1868 | Z15: 20.287674 | AA15: 27.945876 | AB15: 8.6484983 | AC15: 17.594797 | AD15: 7.8576913 | AE15: 10.147012 | AF15: 9.1427091 | AG15: 9.1784261
A16: 3 | B16: 884000 | C16: 10004300 | D16: 396300 | E16: 9469200 | F16: 299200 | G16: 2583600 | H16: 415700 | I16: 3274300 | J16: 766200 | K16: 6774600 | L16: 845100 | M16: 8532600 | N16: 912600 | O16: 9952700 | P16: 977900 | Q16: 10935300 | R16: -55.169683 | S16: -5.3487001 | T16: -24.50164 | U16: -72.715752 | V16: 38.937166 | W16: 26.734015 | X16: 84.315612 | Y16: 106.90224 | Z16: 10.297572 | AA16: 25.949872 | AB16: 7.9872204 | AC16: 16.643227 | AD16: 7.1553802 | AE16: 9.8726979 | AF16: 10.622172 | AG16: 9.3059984
A17: 計 | B17: 10004300 | C17: 10004300 | D17: 9469200 | E17: 9469200 | F17: 2583600 | G17: 2583600 | H17: 3274300 | I17: 3274300 | J17: 6774600 | K17: 6774600 | L17: 8532600 | M17: 8532600 | N17: 9952700 | O17: 9952700 | P17: 10935300 | Q17: 10935300 | R17: -5.3487001 | S17: -5.3487001 | T17: - | U17: -72.715752 | V17: - | W17: 26.734015 | X17: - | Y17: 106.90224 | Z17: - | AA17: 25.949872 | AB17: - | AC17: 16.643227 | AD17: - | AE17: 9.8726979 | AF17: - | AG17: 9.3059984
A18: ※国内客と外国客の合計。外国客は、乗務員等を含む数値。

Sheet グラフ
A1: =令和７年度!A1 -> 令和７年度
N17: （単位：千人）
B18: 4 | C18: 5 | D18: 6 | E18: 7 | F18: 8 | G18: 9 | H18: 10 | I18: 11 | J18: 12 | K18: 1 | L18: 2 | M18: 3 | N18: 計
A19: 平成30年度 | B19: 833.2 | C19: 830.9 | D19: 809.7 | E19: 885.8 | F19: 1041.5 | G19: 801.5 | H19: 849.3 | I19: 795.2 | J19: 747.5 | K19: 753.5 | L19: 772.2 | M19: 884 | N19: 10004.3
A20: 令和元年度 | B20: 851.4 | C20: 834.9 | D20: 868.2 | E20: 963.6 | F20: 1021.2 | G20: 809.3 | H20: 851.3 | I20: 799.2 | J20: 755.1 | K20: 727.8 | L20: 590.9 | M20: 396.3 | N20: 9469.2
A21: 令和２年度 | B21: 77.3 | C21: 44 | D21: 144.1 | E21: 277.3 | F21: 202.8 | G21: 227.6 | H21: 341.2 | I21: 381.1 | J21: 326.2 | K21: 144 | L21: 118.8 | M21: 299.2 | N21: 2583.6
A22: 令和３年度 | B22: 262.6 | C22: 195.2 | D22: 162.9 | E22: 250.4 | F22: 288.2 | G22: 204.9 | H22: 299 | I22: 368 | J22: 423.6 | K22: 224.6 | L22: 179.2 | M22: 415.7 | N22: 3274.3
A23: 令和４年度 | B23: 409 | C23: 396.8 | D23: 448.5 | E23: 607.8 | F23: 640.8 | G23: 494.7 | H23: 630.7 | I23: 615 | J23: 635 | K23: 532.2 | L23: 597.9 | M23: 766.2 | N23: 6774.6
A24: 令和５年度 | B24: 669.8 | C24: 645.2 | D24: 663.4 | E24: 778.8 | F24: 728.6 | G24: 710.1 | H24: 788.3 | I24: 688.2 | J24: 666.7 | K24: 629.2 | L24: 719.2 | M24: 845.1 | N24: 8532.6
A25: 令和６年度 | B25: 752.3 | C25: 710.4 | D25: 748 | E25: 915.4 | F25: 1003.8 | G25: 830.9 | H25: 886.9 | I25: 811.2 | J25: 816.4 | K25: 783.4 | L25: 781.4 | M25: 912.6 | N25: 9952.7
A26: 令和７年度 | B26: 882.6 | C26: 842.6 | D26: 838.9 | E26: 947.6 | F26: 1074.9 | G26: 948.6 | H26: 986.1 | I26: 894.5 | J26: 862.8 | K26: 836 | L26: 842.8 | M26: 977.9 | N26: 10935.3

Sheet グラフ（国内客）
A1: =令和７年度!A1 -> 令和７年度
N17: （単位：千人）
B18: 4 | C18: 5 | D18: 6 | E18: 7 | F18: 8 | G18: 9 | H18: 10 | I18: 11 | J18: 12 | K18: 1 | L18: 2 | M18: 3 | N18: 計
A19: 平成30年度 | B19: 556.4 | C19: 514.6 | D19: 534.6 | E19: 595 | F19: 741.5 | G19: 571 | H19: 602.8 | I19: 604.1 | J19: 570.3 | K19: 523.7 | L19: 532.1 | M19: 657.4 | N19: 7003.5
A20: 令和元年度 | B20: 601.1 | C20: 566.5 | D20: 569.8 | E20: 660.8 | F20: 738.3 | G20: 590.6 | H20: 620.8 | I20: 600.1 | J20: 572.7 | K20: 534.3 | L20: 529.9 | M20: 393.9 | N20: 6978.8
A21: 令和２年度 | B21: 77.3 | C21: 44 | D21: 144.1 | E21: 277.3 | F21: 202.8 | G21: 227.6 | H21: 341.2 | I21: 381.1 | J21: 326.2 | K21: 144 | L21: 118.8 | M21: 299.2 | N21: 2583.6
A22: 令和３年度 | B22: 262.6 | C22: 195.2 | D22: 162.9 | E22: 250.4 | F22: 288.2 | G22: 204.9 | H22: 299 | I22: 368 | J22: 423.6 | K22: 224.6 | L22: 179.2 | M22: 415.7 | N22: 3274.3
A23: 令和４年度 | B23: 409 | C23: 396.8 | D23: 448.5 | E23: 607.8 | F23: 640.7 | G23: 494.7 | H23: 628 | I23: 602.9 | J23: 602.2 | K23: 487.4 | L23: 554.5 | M23: 702 | N23: 6574.5
A24: 令和５年度 | B24: 603.1 | C24: 575.3 | D24: 585.7 | E24: 663.6 | F24: 632.2 | G24: 603.5 | H24: 672.9 | I24: 597.1 | J24: 571.5 | K24: 508.8 | L24: 574.4 | M24: 681 | N24: 7269.1
A25: 令和６年度 | B25: 593.4 | C25: 561.5 | D25: 577.6 | E25: 692.3 | F25: 768.8 | G25: 634.6 | H25: 694.5 | I25: 636.8 | J25: 612.3 | K25: 566.8 | L25: 606.4 | M25: 716.2 | N25: 7661.2
A26: 令和７年度 | B26: 620.9 | C26: 601 | D26: 599.7 | E26: 704.2 | F26: 783.5 | G26: 685.7 | H26: 725.2 | I26: 662.8 | J26: 648.2 | K26: 601.4 | L26: 623.5 | M26: 738.3 | N26: 7994.4

Sheet グラフ（外国客）
A1: =令和７年度!A1 -> 令和７年度
N17: （単位：千人）
B18: 4 | C18: 5 | D18: 6 | E18: 7 | F18: 8 | G18: 9 | H18: 10 | I18: 11 | J18: 12 | K18: 1 | L18: 2 | M18: 3 | N18: 計
A19: 平成30年度 | B19: 276.8 | C19: 316.3 | D19: 275.1 | E19: 290.8 | F19: 300 | G19: 230.5 | H19: 246.5 | I19: 191.1 | J19: 177.2 | K19: 229.8 | L19: 240.1 | M19: 226.6 | N19: 3000.8
A20: 令和元年度 | B20: 250.3 | C20: 268.4 | D20: 298.4 | E20: 302.8 | F20: 282.9 | G20: 218.7 | H20: 230.5 | I20: 199.1 | J20: 182.4 | K20: 193.5 | L20: 61 | M20: 2.4 | N20: 2490.4
A21: 令和２年度 | B21: 0 | C21: 0 | D21: 0 | E21: 0 | F21: 0 | G21: 0 | H21: 0 | I21: 0 | J21: 0 | K21: 0 | L21: 0 | M21: 0 | N21: 0
A22: 令和３年度 | B22: 0 | C22: 0 | D22: 0 | E22: 0 | F22: 0 | G22: 0 | H22: 0 | I22: 0 | J22: 0 | K22: 0 | L22: 0 | M22: 0 | N22: 0
A23: 令和４年度 | B23: 0 | C23: 0 | D23: 0 | E23: 0 | F23: 0.1 | G23: 0 | H23: 2.7 | I23: 12.1 | J23: 32.8 | K23: 44.8 | L23: 43.4 | M23: 64.2 | N23: 200.1
A24: 令和５年度 | B24: 66.7 | C24: 69.9 | D24: 77.7 | E24: 115.2 | F24: 96.4 | G24: 106.6 | H24: 115.4 | I24: 91.1 | J24: 95.2 | K24: 120.4 | L24: 144.8 | M24: 164.1 | N24: 1263.5
A25: 令和６年度 | B25: 158.9 | C25: 148.9 | D25: 170.4 | E25: 223.1 | F25: 235 | G25: 196.3 | H25: 192.4 | I25: 174.4 | J25: 204.1 | K25: 216.6 | L25: 175 | M25: 196.4 | N25: 2291.5
A26: 令和７年度 | B26: 261.7 | C26: 241.6 | D26: 239.2 | E26: 243.4 | F26: 291.4 | G26: 262.9 | H26: 260.9 | I26: 231.7 | J26: 214.6 | K26: 234.6 | L26: 219.3 | M26: 239.6 | N26: 2940.9
