Workbook

Sheet 疾病別報告状況
A1: =T1&K2&L2&M2&N2&O2&P2&Q2 -> 2026年第43週 (10/19～10/25) | H1: =TEXT(R2,"yyyy年mm月dd日現在") -> 2026年10月28日現在 | T1: 2026年
A2: インフルエンザ | K2: 第 | L2: 43 | M2: 週 ( | N2: =TEXT(INDEX(カレンダー!$C:$C,MATCH(疾病別報告状況!$L$2,カレンダー!$B:$B,0)),"m/d") -> 10/19 | O2: ～ | P2: =TEXT(INDEX(カレンダー!$D:$D,MATCH(疾病別報告状況!$L$2,カレンダー!$B:$B,0)),"m/d") -> 10/25 | Q2: ) | R2: 46323
L3: ↑当該週を入力 | R3: ↑データ確認日を入力
A82: =+A1 -> 2026年第43週 (10/19～10/25)
A83: ＲＳウイルス
A163: =+A1 -> 2026年第43週 (10/19～10/25)
A164: 咽頭結膜熱
A244: =+A1 -> 2026年第43週 (10/19～10/25)
A245: Ａ群溶血性レンサ球菌咽頭炎
A325: =+A1 -> 2026年第43週 (10/19～10/25)
A326: 感染性胃腸炎
A406: =+A1 -> 2026年第43週 (10/19～10/25)
A407: 水痘
A487: =+A1 -> 2026年第43週 (10/19～10/25)
A488: 手足口病
A568: =+A1 -> 2026年第43週 (10/19～10/25)
A569: 伝染性紅斑
A649: =+$A$1 -> 2026年第43週 (10/19～10/25)
A650: 突発性発疹
A730: =+$A$1 -> 2026年第43週 (10/19～10/25)
A731: ヘルパンギーナ
A811: =+$A$1 -> 2026年第43週 (10/19～10/25)
A812: 流行性耳下腺炎
A892: =+$A$1 -> 2026年第43週 (10/19～10/25)
A893: 急性出血性結膜炎
A973: =+$A$1 -> 2026年第43週 (10/19～10/25)
A974: 流行性角結膜炎
A1054: =+$A$1 -> 2026年第43週 (10/19～10/25)
A1055: 細菌性髄膜炎
A1135: =+$A$1 -> 2026年第43週 (10/19～10/25)
A1136: 無菌性髄膜炎
A1216: =+$A$1 -> 2026年第43週 (10/19～10/25)
A1217: マイコプラズマ肺炎
A1297: =+$A$1 -> 2026年第43週 (10/19～10/25)
A1298: クラミジア肺炎
A1378: =+$A$1 -> 2026年第43週 (10/19～10/25)
A1379: 感染性胃腸炎（ロタウイルス）
A1469: =+$A$1 -> 2026年第43週 (10/19～10/25)
A1470: COVID-19※
C1506: シーズン別の報告数合計

Sheet 令和8年各保健所毎集計
N1: 2025年 | BN1: 2026年
D2: 10 | E2: 10 | F2: 11 | G2: 11 | H2: 11 | I2: 11 | J2: 12 | K2: 12 | L2: 12 | M2: 12 | N2: =INDEX(カレンダー!$A:$A,MATCH(令和8年各保健所毎集計!N$4,カレンダー!$B:$B,0)) -> 1 | O2: =INDEX(カレンダー!$A:$A,MATCH(令和8年各保健所毎集計!O$4,カレンダー!$B:$B,0)) -> 1 | P2: =INDEX(カレンダー!$A:$A,MATCH(令和8年各保健所毎集計!P$4,カレンダー!$B:$B,0)) -> 1 | Q2: =INDEX(カレンダー!$A:$A,MATCH(令和8年各保健所毎集計!Q$4,カレンダー!$B:$B,0)) -> 1 | R2: =INDEX(カレンダー!$A:$A,MATCH(令和8年各保健所毎集計!R$4,カレンダー!$B:$B,0)) -> 1 | S2: =INDEX(カレンダー!$A:$A,MATCH(令和8年各保健所毎集計!S$4,カレンダー!$B:$B,0)) -> 2 | T2: =INDEX(カレンダー!$A:$A,MATCH(令和8年各保健所毎集計!T$4,カレンダー!$B:$B,0)) -> 2 | U2: =INDEX(カレンダー!$A:$A,MATCH(令和8年各保健所毎集計!U$4,カレンダー!$B:$B,0)) -> 2 | ... DM2: =INDEX(カレンダー!$A:$A,MATCH(令和8年各保健所毎集計!DM$4,カレンダー!$B:$B,0)) -> 12
B3: 週別疾病別患者数・定点数 | E3: 45566 | F3: 45597 | J3: 45627 | N3: 45658 | S3: 45689 | V3: 45689 | W3: 45717 | AA3: 45717 | AB3: 45748 | AF3: 45778 | AJ3: 45809 | AO3: 45839 | AS3: 45870 | AW3: 45901 | BB3: 45931 | BF3: 45962 | BJ3: 45992 | BM3: 45992 | BN3: 46023 | BS3: 46054 | BV3: 45689 | BW3: 46082 | BY3: 3月 | CA3: 3月 | CB3: 46113 | CD3: 45748 | CF3: 46143 | CJ3: 46174 | CO3: 46204 | CS3: 46235 | CU3: 46235 | CW3: 46266 | DB3: 46296 | DF3: 46327 | DJ3: 46357
B4: 疾病名 | C4: 保健所等＼週 | D4: 43 | E4: 44 | F4: 45 | G4: 46 | H4: 47 | I4: 48 | J4: 49 | K4: 50 | L4: 51 | M4: 52 | N4: 1 | O4: 2 | P4: 3 | Q4: 4 | R4: 5 | S4: 6 | T4: 7 | U4: 8 | V4: 9 | W4: 10 | X4: 11 | Y4: 12 | Z4: 13 | AA4: 14 | AB4: 15 | AC4: 16 | AD4: 17 | AE4: 18 | AF4: 19 | AG4: 20 | AH4: 21 | AI4: 22 | AJ4: 23 | AK4: 24 | AL4: 25 | AM4: 26 | AN4: 27 | AO4: 28 | AP4: 29 | AQ4: 30 | AR4: 31 | AS4: 32 | AT4: 33 | AU4: 34 | AV4: 35 | AW4: 36 | AX4: 37 | AY4: 38 | AZ4: 39 | BA4: 40 | BB4: 41 | BC4: 42 | BD4: 43 | BE4: 44 | BF4: 45 | BG4: 46 | BH4: 47 | BI4: 48 | BJ4: 49 | BK4: 50 | BL4: 51 | BM4: 52 | BN4: 1 | BO4: 2 | BP4: 3 | BQ4: 4 | BR4: 5 | BS4: 6 | BT4: 7 | BU4: 8 | BV4: 9 | BW4: 10 | BX4: 11 | BY4: 12 | BZ4: 13 | CA4: 14 | CB4: 15 | CC4: 16 | CD4: 17 | CE4: 18 | CF4: 19 | CG4: 20 | CH4: 21 | CI4: 22 | CJ4: 23 | CK4: 24 | CL4: 25 | CM4: 26 | CN4: 27 | CO4: 28 | CP4: 29 | CQ4: 30 | CR4: 31 | CS4: 32 | CT4: 33 | CU4: 34 | CV4: 35 | CW4: 36 | CX4: 37 | CY4: 38 | CZ4: 39 | DA4: 40 | DB4: 41 | DC4: 42 | DD4: 43 | DE4: 44 | DF4: 45 | DG4: 46 | DH4: 47 | DI4: 48 | DJ4: 49 | DK4: 50 | DL4: 51 | DM4: 52 | DN4: 合計 | DO4: 保健所等＼週
B5: インフルエンザ | C5: 北部 | D5: 24 | E5: 15 | F5: 4 | G5: 8 | H5: 9 | I5: 26 | J5: 15 | K5: 21 | L5: 19 | M5: 94 | N5: 114 | O5: 117 | P5: 128 | Q5: 66 | R5: 43 | S5: 27 | T5: 21 | U5: 7 | V5: 4 | W5: 13 | X5: 11 | Y5: 10 | Z5: 7 | AA5: 4 | AB5: 3 | AC5: 5 | AD5: 21 | AE5: 16 | AF5: 17 | AG5: 8 | AH5: 10 | AI5: 17 | AJ5: 15 | AK5: 8 | AL5: 6 | AM5: 4 | AN5: 2 | AO5: 0 | AP5: 4 | AQ5: 7 | AR5: 16 | AS5: 4 | AT5: 8 | AU5: 6 | AV5: 5 | AW5: 10 | AX5: 13 | AY5: 21 | AZ5: 18 | BA5: 32 | BB5: 45 | BC5: 56 | BD5: 115 | BE5: 120 | BF5: 176 | BG5: 150 | BH5: 90 | BI5: 97 | BJ5: 109 | BK5: 105 | BL5: 94 | BM5: 76 | BN5: 156 | BO5: 64 | BP5: 76 | BQ5: 60 | BR5: 66 | BS5: 77 | BT5: 90 | BU5: 66 | BV5: 93 | BW5: 65 | BX5: 62 | BY5: 55 | BZ5: 29 | CA5: 15 | CB5: 19 | CC5: 6 | CD5: 4 | CE5: 5 | CF5: 5 | CG5: 2 | CH5: 3 | CI5: 2 | CJ5: 1 | CK5: 2 | CL5: 0 | CM5: 2 | CN5: 0 | CO5: 0 | CP5: 3 | CQ5: 6 | CR5: 2 | CS5: 5 | CT5: 12 | CU5: 10 | CV5: 16 | CW5: 24 | CX5: 44 | CY5: 130 | CZ5: 178 | DA5: 139 | DB5: 137 | DC5: 52 | DD5: 42 | DN5: =SUM(BN5:DM5) -> 1825 | DO5: 北部
B6: （報告数） | C6: 中部 | D6: 194 | E6: 251 | F6: 143 | G6: 109 | H6: 100 | I6: 61 | J6: 60 | K6: 75 | L6: 150 | M6: 310 | N6: 258 | O6: 560 | P6: 565 | Q6: 398 | R6: 263 | S6: 287 | T6: 252 | U6: 224 | V6: 168 | W6: 132 | X6: 120 | Y6: 76 | Z6: 106 | AA6: 78 | AB6: 48 | AC6: 41 | AD6: 53 | AE6: 41 | AF6: 55 | AG6: 55 | AH6: 22 | AI6: 26 | AJ6: 24 | AK6: 22 | AL6: 45 | AM6: 69 | AN6: 72 | AO6: 48 | AP6: 32 | AQ6: 20 | AR6: 34 | AS6: 41 | AT6: 39 | AU6: 58 | AV6: 35 | AW6: 80 | AX6: 142 | AY6: 192 | AZ6: 206 | BA6: 336 | BB6: 325 | BC6: 242 | BD6: 270 | BE6: 295 | BF6: 249 | BG6: 248 | BH6: 277 | BI6: 275 | BJ6: 255 | BK6: 200 | BL6: 214 | BM6: 204 | BN6: 149 | BO6: 277 | BP6: 265 | BQ6: 282 | BR6: 354 | BS6: 313 | BT6: 350 | BU6: 394 | BV6: 250 | BW6: 213 | BX6: 172 | BY6: 167 | BZ6: 173 | CA6: 128 | CB6: 68 | CC6: 64 | CD6: 79 | CE6: 32 | CF6: 19 | CG6: 49 | CH6: 26 | CI6: 20 | CJ6: 9 | CK6: 16 | CL6: 8 | CM6: 7 | CN6: 9 | CO6: 2 | CP6: 9 | CQ6: 19 | CR6: 25 | CS6: 21 | CT6: 40 | CU6: 48 | CV6: 90 | CW6: 142 | CX6: 283 | CY6: 371 | CZ6: 335 | DA6: 504 | DB6: 455 | DC6: 302 | DD6: 303 | DN6: =SUM(BN6:DM6) -> 6842 | DO6: 中部
C7: 那覇市 | D7: 129 | E7: 117 | F7: 93 | G7: 42 | H7: 45 | I7: 35 | J7: 49 | K7: 82 | L7: 148 | M7: 297 | N7: 711 | O7: 431 | P7: 450 | Q7: 226 | R7: 136 | S7: 91 | T7: 164 | U7: 91 | V7: 101 | W7: 59 | X7: 43 | Y7: 51 | Z7: 35 | AA7: 19 | AB7: 23 | AC7: 22 | AD7: 16 | AE7: 35 | AF7: 48 | AG7: 15 | AH7: 19 | AI7: 27 | AJ7: 33 | AK7: 28 | AL7: 51 | AM7: 56 | AN7: 64 | AO7: 75 | AP7: 33 | AQ7: 53 | AR7: 54 | AS7: 46 | AT7: 41 | AU7: 22 | AV7: 19 | AW7: 17 | AX7: 26 | AY7: 44 | AZ7: 86 | BA7: 83 | BB7: 114 | BC7: 161 | BD7: 166 | BE7: 183 | BF7: 203 | BG7: 177 | BH7: 202 | BI7: 207 | BJ7: 160 | BK7: 144 | BL7: 127 | BM7: 148 | BN7: 328 | BO7: 133 | BP7: 208 | BQ7: 138 | BR7: 162 | BS7: 154 | BT7: 253 | BU7: 203 | BV7: 217 | BW7: 119 | BX7: 90 | BY7: 112 | BZ7: 88 | CA7: 51 | CB7: 24 | CC7: 14 | CD7: 12 | CE7: 19 | CF7: 22 | CG7: 16 | CH7: 8 | CI7: 4 | CJ7: 3 | CK7: 3 | CL7: 5 | CM7: 6 | CN7: 0 | CO7: 13 | CP7: 8 | CQ7: 17 | CR7: 29 | CS7: 26 | CT7: 31 | CU7: 48 | CV7: 81 | CW7: 82 | CX7: 136 | CY7: 261 | CZ7: 547 | DA7: 294 | DB7: 212 | DC7: 157 | DD7: 135 | DN7: =SUM(BN7:DM7) -> 4469 | DO7: 那覇市
C8: 南部 | D8: 183 | E8: 143 | F8: 93 | G8: 68 | H8: 101 | I8: 48 | J8: 71 | K8: 83 | L8: 127 | M8: 373 | N8: 749 | O8: 538 | P8: 597 | Q8: 300 | R8: 261 | S8: 212 | T8: 193 | U8: 148 | V8: 149 | W8: 107 | X8: 100 | Y8: 96 | Z8: 65 | AA8: 38 | AB8: 35 | AC8: 31 | AD8: 29 | AE8: 53 | AF8: 41 | AG8: 29 | AH8: 32 | AI8: 30 | AJ8: 52 | AK8: 34 | AL8: 36 | AM8: 43 | AN8: 36 | AO8: 53 | AP8: 75 | AQ8: 82 | AR8: 71 | AS8: 84 | AT8: 72 | AU8: 37 | AV8: 37 | AW8: 21 | AX8: 33 | AY8: 49 | AZ8: 64 | BA8: 81 | BB8: 123 | BC8: 167 | BD8: 187 | BE8: 219 | BF8: 228 | BG8: 246 | BH8: 273 | BI8: 247 | BJ8: 171 | BK8: 125 | BL8: 162 | BM8: 167 | BN8: 377 | BO8: 269 | BP8: 290 | BQ8: 201 | BR8: 265 | BS8: 251 | BT8: 307 | BU8: 255 | BV8: 273 | BW8: 157 | BX8: 136 | BY8: 129 | BZ8: 124 | CA8: 51 | CB8: 53 | CC8: 28 | CD8: 26 | CE8: 43 | CF8: 47 | CG8: 36 | CH8: 28 | CI8: 23 | CJ8: 21 | CK8: 13 | CL8: 6 | CM8: 17 | CN8: 11 | CO8: 11 | CP8: 18 | CQ8: 33 | CR8: 37 | CS8: 48 | CT8: 43 | CU8: 87 | CV8: 173 | CW8: 158 | CX8: 244 | CY8: 341 | CZ8: 686 | DA8: 518 | DB8: 403 | DC8: 259 | DD8: 218 | DN8: =SUM(BN8:DM8) -> 6714 | DO8: 南部
C9: 宮古 | D9: 79 | E9: 43 | F9: 50 | G9: 32 | H9: 29 | I9: 17 | J9: 18 | K9: 10 | L9: 33 | M9: 123 | N9: 121 | O9: 140 | P9: 62 | Q9: 39 | R9: 22 | S9: 22 | T9: 16 | U9: 8 | V9: 1 | W9: 1 | X9: 0 | Y9: 0 | Z9: 2 | AA9: 6 | AB9: 3 | AC9: 1 | AD9: 1 | AE9: 0 | AF9: 0 | AG9: 0 | AH9: 2 | AI9: 0 | AJ9: 1 | AK9: 1 | AL9: 6 | AM9: 13 | AN9: 8 | AO9: 6 | AP9: 2 | AQ9: 1 | AR9: 0 | AS9: 1 | AT9: 0 | AU9: 0 | AV9: 1 | AW9: 0 | AX9: 1 | AY9: 0 | AZ9: 1 | BA9: 2 | BB9: 10 | BC9: 6 | BD9: 39 | BE9: 64 | BF9: 89 | BG9: 40 | BH9: 40 | BI9: 28 | BJ9: 18 | BK9: 7 | BL9: 18 | BM9: 17 | BN9: 15 | BO9: 24 | BP9: 9 | BQ9: 15 | BR9: 9 | BS9: 11 | BT9: 19 | BU9: 23 | BV9: 15 | BW9: 16 | BX9: 4 | BY9: 9 | BZ9: 9 | CA9: 2 | CB9: 3 | CC9: 3 | CD9: 1 | CE9: 1 | CF9: 0 | CG9: 0 | CH9: 1 | CI9: 0 | CJ9: 0 | CK9: 0 | CL9: 0 | CM9: 0 | CN9: 1 | CO9: 0 | CP9: 0 | CQ9: 5 | CR9: 1 | CS9: 1 | CT9: 0 | CU9: 2 | CV9: 4 | CW9: 9 | CX9: 10 | CY9: 32 | CZ9: 49 | DA9: 45 | DB9: 36 | DC9: 32 | DD9: 34 | DN9: =SUM(BN9:DM9) -> 450 | DO9: 宮古
C10: 八重山 | D10: 13 | E10: 27 | F10: 30 | G10: 22 | H10: 25 | I10: 15 | J10: 11 | K10: 19 | L10: 107 | M10: 164 | N10: 121 | O10: 138 | P10: 63 | Q10: 22 | R10: 21 | S10: 3 | T10: 1 | U10: 7 | V10: 3 | W10: 0 | X10: 4 | Y10: 2 | Z10: 0 | AA10: 6 | AB10: 1 | AC10: 4 | AD10: 0 | AE10: 1 | AF10: 1 | AG10: 0 | AH10: 12 | AI10: 70 | AJ10: 40 | AK10: 50 | AL10: 28 | AM10: 45 | AN10: 41 | AO10: 23 | AP10: 19 | AQ10: 5 | AR10: 2 | AS10: 1 | AT10: 4 | AU10: 1 | AV10: 6 | AW10: 14 | AX10: 7 | AY10: 14 | AZ10: 29 | BA10: 14 | BB10: 30 | BC10: 45 | BD10: 96 | BE10: 190 | BF10: 110 | BG10: 116 | BH10: 148 | BI10: 128 | BJ10: 100 | BK10: 56 | BL10: 49 | BM10: 56 | BN10: 18 | BO10: 48 | BP10: 42 | BQ10: 25 | BR10: 16 | BS10: 26 | BT10: 27 | BU10: 26 | BV10: 40 | BW10: 52 | BX10: 30 | BY10: 86 | BZ10: 86 | CA10: 45 | CB10: 25 | CC10: 38 | CD10: 50 | CE10: 22 | CF10: 9 | CG10: 8 | CH10: 3 | CI10: 0 | CJ10: 1 | CK10: 0 | CL10: 0 | CM10: 1 | CN10: 3 | CO10: 1 | CP10: 0 | CQ10: 0 | CR10: 3 | CS10: 0 | CT10: 1 | CU10: 0 | CV10: 10 | CW10: 40 | CX10: 14 | CY10: 22 | CZ10: 75 | DA10: 131 | DB10: 136 | DC10: 64 | DD10: 33 | DN10: =SUM(BN10:DM10) -> 1257 | DO10: 八重山
C11: 沖縄県 | D11: 622 | E11: 596 | F11: 413 | G11: 281 | H11: 309 | I11: 202 | J11: 224 | K11: 290 | L11: 584 | M11: 1361 | N11: 2074 | O11: 1924 | P11: 1865 | Q11: 1051 | R11: 746 | S11: 642 | T11: 647 | U11: 485 | V11: 426 | W11: 312 | X11: 278 | Y11: 235 | Z11: 215 | AA11: 151 | AB11: 113 | AC11: 104 | AD11: 120 | AE11: 146 | AF11: 162 | AG11: 107 | AH11: 97 | AI11: 170 | AJ11: 165 | AK11: 143 | AL11: 172 | AM11: 230 | AN11: 223 | AO11: 205 | AP11: 165 | AQ11: 168 | AR11: 177 | AS11: 177 | AT11: 164 | AU11: 124 | AV11: 103 | AW11: 142 | AX11: 222 | AY11: 320 | AZ11: 404 | BA11: 548 | BB11: 647 | BC11: 677 | BD11: 873 | BE11: 1071 | BF11: 1055 | BG11: 977 | BH11: 1030 | BI11: 982 | BJ11: 813 | BK11: 637 | BL11: 664 | BM11: 668 | BN11: 1043 | BO11: 815 | BP11: 890 | BQ11: 721 | BR11: 872 | BS11: 832 | BT11: 1046 | BU11: 967 | BV11: 888 | BW11: 622 | BX11: 494 | BY11: 558 | BZ11: 509 | CA11: 292 | CB11: 192 | CC11: 153 | CD11: 172 | CE11: 122 | CF11: 102 | CG11: 111 | CH11: 69 | CI11: 49 | CJ11: 35 | CK11: 34 | CL11: 19 | CM11: 33 | CN11: 24 | CO11: 27 | CP11: 38 | CQ11: 80 | CR11: 97 | CS11: 101 | CT11: 127 | CU11: 195 | CV11: 374 | CW11: 455 | CX11: 731 | CY11: 1157 | CZ11: 1870 | DA11: 1631 | DB11: 1379 | DC11: 866 | DD11: 765 | DN11: =SUM(BN11:DM11) -> 21557 | DO11: 沖縄県
C12: 全国 | D12: 4298 | E12: 5127 | F12: 5252 | G12: 9309 | H12: 11678 | I12: 24027 | J12: 44673 | K12: 94259 | L12: 211049 | M12: 317812 | N12: 141998 | O12: 172417 | P12: 90712 | Q12: 54594 | R12: 28943 | S12: 18592 | T12: 12964 | U12: 10866 | V12: 9302 | W12: 9941 | X12: 10960 | Y12: 9714 | Z12: 9093 | AA12: 5667 | AB12: 4621 | AC12: 4627 | AD12: 4209 | AE12: 3039 | AF12: 2580 | AG12: 2910 | AH12: 2035 | AI12: 1677 | AJ12: 1415 | AK12: 1141 | AL12: 1048 | AM12: 1023 | AN12: 1095 | AO12: 956 | AP12: 1146 | AQ12: 1223 | AR12: 1153 | AS12: 1131 | AT12: 980 | AU12: 1183 | AV12: 1347 | AW12: 1949 | AX12: 2732 | AY12: 3073 | AZ12: 4030 | BA12: 6013 | BB12: 9074 | BC12: 12576 | BD12: 24276 | BE12: 57424 | BF12: 84183 | BG12: 145526 | BH12: 196895 | BI12: 173380 | BJ12: 148314 | BK12: 142434 | BL12: 126127 | BM12: 87534 | BN12: 33217 | BO12: 39996 | BP12: 43027 | BQ12: 63326 | BR12: 114291 | BS12: 164744 | BT12: 157713 | BU12: 131200 | BV12: 86175 | BW12: 54516 | BX12: 44322 | BY12: 37043 | BZ12: 24536 | CA12: 12086 | CB12: 5444 | CC12: 3457 | CD12: 2295 | CE12: 1500 | CF12: 662 | CG12: 527 | CH12: 346 | CI12: 261 | CJ12: 239 | CK12: 272 | CL12: 251 | CM12: 310 | CN12: 446 | CO12: 486 | CP12: 749 | CQ12: 886 | CR12: 1384 | CS12: 1926 | CT12: 2417 | CU12: 4094 | CV12: 6543 | CW12: 12299 | CX12: 20697 | CY12: 31428 | CZ12: 26678 | DA12: 42320 | DB12: 47746 | DC12: 33864 | DD12: 35440 | DN12: =SUM(BN12:DM12) -> 1291159 | DO12: 全国
B13: インフルエンザ | C13: 北部 | D13: 4.8 | E13: 3 | F13: 0.8 | G13: 1.6 | H13: 1.8 | I13: 5.2 | J13: 3 | K13: 4.2 | L13: 3.8 | M13: 18.8 | N13: 22.8 | O13: 23.4 | P13: 25.6 | Q13: 13.2 | R13: 8.6 | S13: 5.4 | T13: 4.2 | U13: 1.4 | V13: 0.8 | W13: 2.6 | X13: 2.2 | Y13: 2 | Z13: 1.4 | AA13: 0.8 | AB13: 0.6 | AC13: 1 | AD13: 4.2 | AE13: 3.2 | AF13: 3.4 | AG13: 1.6 | AH13: 2 | AI13: 3.4 | AJ13: 3 | AK13: 1.6 | AL13: 1.2 | AM13: 0.8 | AN13: 0.4 | AO13: 0 | AP13: 0.8 | AQ13: 1.4 | AR13: 3.2 | AS13: 0.8 | AT13: 1.6 | AU13: 1.2 | AV13: 1 | AW13: 2 | AX13: 2.6 | AY13: 4.2 | AZ13: 3.6 | BA13: 6.4 | BB13: 9 | BC13: 11.2 | BD13: 23 | BE13: 24 | BF13: 35.2 | BG13: 30 | BH13: 18 | BI13: 19.4 | BJ13: 21.8 | BK13: 21 | BL13: 18.8 | BM13: 15.2 | BN13: 31.2 | BO13: 12.8 | BP13: 15.2 | BQ13: 12 | BR13: 13.2 | BS13: 15.4 | BT13: 18 | BU13: 13.2 | BV13: 18.6 | BW13: 13 | BX13: 12.4 | BY13: 11 | BZ13: 5.8 | CA13: 3 | CB13: 3.8 | CC13: 1.2 | CD13: 0.8 | CE13: 1 | CF13: 1 | CG13: 0.4 | CH13: 0.6 | CI13: 0.4 | CJ13: 0.2 | CK13: 0.4 | CL13: 0 | CM13: 0.4 | CN13: 0 | CO13: 0 | CP13: 0.6 | CQ13: 1.2 | CR13: 0.4 | CS13: 1 | CT13: 2.4 | CU13: 2 | CV13: 3.2 | CW13: 4.8 | CX13: 8.8 | CY13: 26 | CZ13: 35.6 | DA13: 27.8 | DB13: 27.4 | DC13: 10.4 | DD13: 8.4 | DN13: =SUM(BN13:DM13) -> 365 | DO13: 北部
B14: （定点あたり報告数） | C14: 中部 | D14: 10.78 | E14: 13.94 | F14: 7.94 | G14: 6.06 | H14: 5.56 | I14: 3.39 | J14: 3.33 | K14: 4.17 | L14: 8.33 | M14: 17.22 | N14: 14.33 | O14: 31.11 | P14: 31.39 | Q14: 22.11 | R14: 14.61 | S14: 15.94 | T14: 14 | U14: 12.44 | V14: 9.33 | W14: 7.33 | X14: 6.67 | Y14: 4.22 | Z14: 5.89 | AA14: 4.33 | AB14: 3.69 | AC14: 3.15 | AD14: 4.08 | AE14: 3.15 | AF14: 4.23 | AG14: 4.23 | AH14: 1.69 | AI14: 2 | AJ14: 1.85 | AK14: 1.69 | AL14: 3.46 | AM14: 5.31 | AN14: 5.54 | AO14: 3.69 | AP14: 2.46 | AQ14: 1.54 | AR14: 2.62 | AS14: 3.15 | AT14: 3 | AU14: 4.46 | AV14: 2.69 | AW14: 6.15 | AX14: 10.92 | AY14: 14.77 | AZ14: 15.85 | BA14: 25.85 | BB14: 25 | BC14: 18.62 | BD14: 20.77 | BE14: 22.69 | BF14: 19.15 | BG14: 19.08 | BH14: 21.31 | BI14: 21.15 | BJ14: 19.62 | BK14: 15.38 | BL14: 16.46 | BM14: 15.69 | BN14: 11.46 | BO14: 21.31 | BP14: 20.38 | BQ14: 21.69 | BR14: 27.23 | BS14: 24.08 | BT14: 26.92 | BU14: 30.31 | BV14: 19.23 | BW14: 16.38 | BX14: 13.23 | BY14: 12.85 | BZ14: 13.31 | CA14: 9.85 | CB14: 5.23 | CC14: 4.92 | CD14: 6.08 | CE14: 2.46 | CF14: 1.46 | CG14: 3.77 | CH14: 2 | CI14: 1.54 | CJ14: 0.69 | CK14: 1.23 | CL14: 0.62 | CM14: 0.54 | CN14: 0.69 | CO14: 0.15 | CP14: 0.69 | CQ14: 1.46 | CR14: 1.92 | CS14: 1.62 | CT14: 3.08 | CU14: 3.69 | CV14: 6.92 | CW14: 10.92 | CX14: 21.77 | CY14: 28.54 | CZ14: 25.77 | DA14: 38.77 | DB14: 35 | DC14: 23.23 | DD14: 23.31 | DN14: =SUM(BN14:DM14) -> 526.3 | DO14: 中部
B15: 警報（30以上。終息基準値は10未満） | C15: 那覇市 | D15: 10.75 | E15: 9.75 | F15: 7.75 | G15: 3.5 | H15: 3.75 | I15: 2.92 | J15: 4.08 | K15: 6.83 | L15: 12.33 | M15: 24.75 | N15: 59.25 | O15: 35.92 | P15: 37.5 | Q15: 18.83 | R15: 11.33 | S15: 7.58 | T15: 13.67 | U15: 7.58 | V15: 8.42 | W15: 4.92 | X15: 3.58 | Y15: 4.25 | Z15: 2.92 | AA15: 1.58 | AB15: 2.3 | AC15: 2.2 | AD15: 1.6 | AE15: 3.5 | AF15: 4.8 | AG15: 1.5 | AH15: 1.9 | AI15: 2.7 | AJ15: 3.3 | AK15: 2.8 | AL15: 5.1 | AM15: 5.6 | AN15: 6.4 | AO15: 7.5 | AP15: 3.3 | AQ15: 5.3 | AR15: 5.4 | AS15: 4.6 | AT15: 4.1 | AU15: 2.2 | AV15: 1.9 | AW15: 1.7 | AX15: 2.6 | AY15: 4.4 | AZ15: 8.6 | BA15: 8.3 | BB15: 11.4 | BC15: 16.1 | BD15: 16.6 | BE15: 18.3 | BF15: 20.3 | BG15: 17.7 | BH15: 20.2 | BI15: 20.7 | BJ15: 16 | BK15: 14.4 | BL15: 12.7 | BM15: 14.8 | BN15: 32.8 | BO15: 13.3 | BP15: 20.8 | BQ15: 13.8 | BR15: 16.2 | BS15: 15.4 | BT15: 25.3 | BU15: 20.3 | BV15: 21.7 | BW15: 11.9 | BX15: 9 | BY15: 11.2 | BZ15: 8.8 | CA15: 5.67 | CB15: 2.67 | CC15: 1.56 | CD15: 1.33 | CE15: 2.11 | CF15: 2.44 | CG15: 1.78 | CH15: 0.89 | CI15: 0.44 | CJ15: 0.33 | CK15: 0.33 | CL15: 0.56 | CM15: 0.67 | CN15: 0 | CO15: 1.44 | CP15: 0.89 | CQ15: 1.89 | CR15: 3.22 | CS15: 2.89 | CT15: 3.44 | CU15: 5.33 | CV15: 9 | CW15: 9.11 | CX15: 15.11 | CY15: 29 | CZ15: 60.78 | DA15: 32.67 | DB15: 23.56 | DC15: 17.44 | DD15: 15 | DN15: =SUM(BN15:DM15) -> 472.05 | DO15: 那覇市
B16: 注意報(10以上) | C16: 南部 | D16: 13.07 | E16: 10.21 | F16: 6.64 | G16: 4.86 | H16: 7.21 | I16: 3.43 | J16: 5.07 | K16: 5.93 | L16: 9.07 | M16: 26.64 | N16: 53.5 | O16: 38.43 | P16: 42.64 | Q16: 21.43 | R16: 18.64 | S16: 15.14 | T16: 13.79 | U16: 10.57 | V16: 10.64 | W16: 7.64 | X16: 7.14 | Y16: 6.86 | Z16: 4.64 | AA16: 2.71 | AB16: 2.92 | AC16: 2.58 | AD16: 2.42 | AE16: 4.42 | AF16: 3.42 | AG16: 2.42 | AH16: 2.67 | AI16: 2.5 | AJ16: 4.33 | AK16: 2.83 | AL16: 3 | AM16: 3.58 | AN16: 3 | AO16: 4.42 | AP16: 6.25 | AQ16: 6.83 | AR16: 5.92 | AS16: 7 | AT16: 6 | AU16: 3.08 | AV16: 3.08 | AW16: 1.75 | AX16: 2.75 | AY16: 4.08 | AZ16: 5.33 | BA16: 6.75 | BB16: 10.25 | BC16: 13.92 | BD16: 15.58 | BE16: 18.25 | BF16: 19 | BG16: 20.5 | BH16: 22.75 | BI16: 20.58 | BJ16: 14.25 | BK16: 10.42 | BL16: 13.5 | BM16: 13.92 | BN16: 31.42 | BO16: 22.42 | BP16: 24.17 | BQ16: 16.75 | BR16: 22.08 | BS16: 20.92 | BT16: 25.58 | BU16: 21.25 | BV16: 22.75 | BW16: 13.08 | BX16: 11.33 | BY16: 10.75 | BZ16: 10.33 | CA16: 4.25 | CB16: 4.42 | CC16: 2.33 | CD16: 2.17 | CE16: 3.58 | CF16: 3.92 | CG16: 3 | CH16: 2.33 | CI16: 1.92 | CJ16: 1.75 | CK16: 1.08 | CL16: 0.5 | CM16: 1.42 | CN16: 0.92 | CO16: 0.92 | CP16: 1.5 | CQ16: 2.75 | CR16: 3.08 | CS16: 4 | CT16: 3.58 | CU16: 7.25 | CV16: 14.42 | CW16: 13.17 | CX16: 20.33 | CY16: 28.42 | CZ16: 57.17 | DA16: 43.17 | DB16: 33.58 | DC16: 21.58 | DD16: 18.17 | DN16: =SUM(BN16:DM16) -> 559.51 | DO16: 南部
C17: 宮古 | D17: 19.75 | E17: 10.75 | F17: 12.5 | G17: 8 | H17: 7.25 | I17: 4.25 | J17: 4.5 | K17: 2.5 | L17: 8.25 | M17: 30.75 | N17: 30.25 | O17: 35 | P17: 15.5 | Q17: 9.75 | R17: 5.5 | S17: 5.5 | T17: 4 | U17: 2 | V17: 0.25 | W17: 0.25 | X17: 0 | Y17: 0 | Z17: 0.5 | AA17: 1.5 | AB17: 1.5 | AC17: 0.5 | AD17: 0.5 | AE17: 0 | AF17: 0 | AG17: 0 | AH17: 1 | AI17: 0 | AJ17: 0.5 | AK17: 0.5 | AL17: 3 | AM17: 6.5 | AN17: 4 | AO17: 3 | AP17: 1 | AQ17: 0.5 | AR17: 0 | AS17: 0.5 | AT17: 0 | AU17: 0 | AV17: 0.5 | AW17: 0 | AX17: 0.5 | AY17: 0 | AZ17: 0.5 | BA17: 1 | BB17: 5 | BC17: 3 | BD17: 19.5 | BE17: 32 | BF17: 44.5 | BG17: 20 | BH17: 20 | BI17: 14 | BJ17: 9 | BK17: 3.5 | BL17: 9 | BM17: 8.5 | BN17: 7.5 | BO17: 12 | BP17: 4.5 | BQ17: 7.5 | BR17: 4.5 | BS17: 5.5 | BT17: 9.5 | BU17: 11.5 | BV17: 7.5 | BW17: 8 | BX17: 2 | BY17: 4.5 | BZ17: 4.5 | CA17: 1 | CB17: 1.5 | CC17: 1.5 | CD17: 0.5 | CE17: 0.5 | CF17: 0 | CG17: 0 | CH17: 0.5 | CI17: 0 | CJ17: 0 | CK17: 0 | CL17: 0 | CM17: 0 | CN17: 0.5 | CO17: 0 | CP17: 0 | CQ17: 2.5 | CR17: 0.5 | CS17: 0.5 | CT17: 0 | CU17: 1 | CV17: 2 | CW17: 4.5 | CX17: 5 | CY17: 16 | CZ17: 24.5 | DA17: 22.5 | DB17: 18 | DC17: 16 | DD17: 17 | DN17: =SUM(BN17:DM17) -> 225 | DO17: 宮古
C18: 八重山 | D18: 4.33 | E18: 9 | F18: 10 | G18: 7.33 | H18: 8.33 | I18: 5 | J18: 3.67 | K18: 6.33 | L18: 35.67 | M18: 54.67 | N18: 40.33 | O18: 46 | P18: 21 | Q18: 7.33 | R18: 7 | S18: 1 | T18: 0.33 | U18: 2.33 | V18: 1 | W18: 0 | X18: 1.33 | Y18: 0.67 | Z18: 0 | AA18: 2 | AB18: 0.33 | AC18: 1.33 | AD18: 0 | AE18: 0.33 | AF18: 0.33 | AG18: 0 | AH18: 4 | AI18: 23.33 | AJ18: 13.33 | AK18: 16.67 | AL18: 9.33 | AM18: 15 | AN18: 13.67 | AO18: 7.67 | AP18: 6.33 | AQ18: 1.67 | AR18: 0.67 | AS18: 0.33 | AT18: 1.33 | AU18: 0.33 | AV18: 2 | AW18: 4.67 | AX18: 2.33 | AY18: 4.67 | AZ18: 9.67 | BA18: 4.67 | BB18: 10 | BC18: 15 | BD18: 32 | BE18: 63.33 | BF18: 36.67 | BG18: 38.67 | BH18: 49.33 | BI18: 42.67 | BJ18: 33.33 | BK18: 18.67 | BL18: 16.33 | BM18: 18.67 | BN18: 6 | BO18: 16 | BP18: 14 | BQ18: 8.33 | BR18: 5.33 | BS18: 8.67 | BT18: 9 | BU18: 8.67 | BV18: 13.33 | BW18: 17.33 | BX18: 10 | BY18: 28.67 | BZ18: 28.67 | CA18: 15 | CB18: 8.33 | CC18: 12.67 | CD18: 16.67 | CE18: 7.33 | CF18: 3 | CG18: 2.67 | CH18: 1 | CI18: 0 | CJ18: 0.33 | CK18: 0 | CL18: 0 | CM18: 0.33 | CN18: 1 | CO18: 0.33 | CP18: 0 | CQ18: 0 | CR18: 1 | CS18: 0 | CT18: 0.33 | CU18: 0 | CV18: 3.33 | CW18: 13.33 | CX18: 4.67 | CY18: 7.33 | CZ18: 25 | DA18: 43.67 | DB18: 45.33 | DC18: 21.33 | DD18: 11 | DN18: =SUM(BN18:DM18) -> 418.98 | DO18: 八重山
C19: 沖縄県 | D19: 11.11 | E19: 10.64 | F19: 7.38 | G19: 5.02 | H19: 5.52 | I19: 3.61 | J19: 4 | K19: 5.18 | L19: 10.43 | M19: 24.3 | N19: 37.04 | O19: 34.36 | P19: 33.3 | Q19: 18.77 | R19: 13.32 | S19: 11.46 | T19: 11.55 | U19: 8.66 | V19: 7.61 | W19: 5.57 | X19: 4.96 | Y19: 4.2 | Z19: 3.84 | AA19: 2.7 | AB19: 2.51 | AC19: 2.31 | AD19: 2.67 | AE19: 3.24 | AF19: 3.6 | AG19: 2.38 | AH19: 2.16 | AI19: 3.78 | AJ19: 3.67 | AK19: 3.18 | AL19: 3.82 | AM19: 5.11 | AN19: 4.96 | AO19: 4.56 | AP19: 3.67 | AQ19: 3.73 | AR19: 3.93 | AS19: 3.93 | AT19: 3.64 | AU19: 2.76 | AV19: 2.29 | AW19: 3.16 | AX19: 4.93 | AY19: 7.11 | AZ19: 8.98 | BA19: 12.18 | BB19: 14.38 | BC19: 15.04 | BD19: 19.4 | BE19: 23.8 | BF19: 23.44 | BG19: 21.71 | BH19: 22.89 | BI19: 21.82 | BJ19: 18.07 | BK19: 14.16 | BL19: 14.76 | BM19: 14.84 | BN19: 23.18 | BO19: 18.11 | BP19: 19.78 | BQ19: 16.02 | BR19: 19.38 | BS19: 18.49 | BT19: 23.24 | BU19: 21.49 | BV19: 19.73 | BW19: 13.82 | BX19: 10.98 | BY19: 12.4 | BZ19: 11.31 | CA19: 6.64 | CB19: 4.36 | CC19: 3.48 | CD19: 3.91 | CE19: 2.77 | CF19: 2.32 | CG19: 2.52 | CH19: 1.57 | CI19: 1.11 | CJ19: 0.8 | CK19: 0.77 | CL19: 0.43 | CM19: 0.75 | CN19: 0.55 | CO19: 0.61 | CP19: 0.86 | CQ19: 1.82 | CR19: 2.2 | CS19: 2.3 | CT19: 2.89 | CU19: 4.43 | CV19: 8.5 | CW19: 10.34 | CX19: 16.61 | CY19: 26.3 | CZ19: 42.5 | DA19: 37.07 | DB19: 31.34 | DC19: 19.68 | DD19: 17.39 | DN19: =SUM(BN19:DM19) -> 484.75 | DO19: 沖縄県
C20: 全国 | D20: 0.87 | E20: 1.04 | F20: 1.06 | G20: 1.88 | H20: 2.36 | I20: 4.86 | J20: 9.03 | K20: 19.06 | L20: 42.66 | M20: 64.39 | N20: 33.82 | O20: 35.02 | P20: 18.38 | Q20: 11.06 | R20: 5.87 | S20: 3.78 | T20: 2.63 | U20: 2.21 | V20: 1.89 | W20: 2.02 | X20: 2.23 | Y20: 1.98 | Z20: 1.85 | AA20: 1.2 | AB20: 1.19 | AC20: 1.2 | AD20: 1.09 | AE20: 0.79 | AF20: 0.67 | AG20: 0.75 | AH20: 0.53 | AI20: 0.44 | AJ20: 0.37 | AK20: 0.3 | AL20: 0.27 | AM20: 0.27 | AN20: 0.28 | AO20: 0.25 | AP20: 0.3 | AQ20: 0.32 | AR20: 0.3 | AS20: 0.3 | AT20: 0.28 | AU20: 0.31 | AV20: 0.35 | AW20: 0.5 | AX20: 0.72 | AY20: 0.8 | AZ20: 1.04 | BA20: 1.56 | BB20: 2.36 | BC20: 3.26 | BD20: 6.29 | BE20: 14.9 | BF20: 21.82 | BG20: 37.73 | BH20: 51.12 | BI20: 44.99 | BJ20: 38.51 | BK20: 36.96 | BL20: 32.73 | BM20: 22.77 | BN20: 10.35 | BO20: 10.54 | BP20: 11.33 | BQ20: 16.64 | BR20: 30.03 | BS20: 43.34 | BT20: 41.44 | BU20: 34.54 | BV20: 22.66 | BW20: 14.33 | BX20: 11.66 | BY20: 9.75 | BZ20: 6.46 | CA20: 3.21 | CB20: 1.46 | CC20: 0.92 | CD20: 0.61 | CE20: 0.41 | CF20: 0.18 | CG20: 0.14 | CH20: 0.09 | CI20: 0.07 | CJ20: 0.06 | CK20: 0.07 | CL20: 0.07 | CM20: 0.08 | CN20: 0.12 | CO20: 0.13 | CP20: 0.2 | CQ20: 0.24 | CR20: 0.37 | CS20: 0.52 | CT20: 0.69 | CU20: 1.11 | CV20: 1.76 | CW20: 3.29 | CX20: 5.54 | CY20: 8.48 | CZ20: 7.17 | DA20: 11.35 | DB20: 12.81 | DC20: 9.08 | DD20: 9.49 | DN20: =SUM(BN20:DM20) -> 342.79 | DO20: 全国
B21: RSウイルス感染症 | C21: 北部 | D21: 0 | E21: 0 | F21: 0 | G21: 0 | H21: 0 | I21: 0 | J21: 0 | K21: 1 | L21: 1 | M21: 3 | N21: 0 | O21: 0 | P21: 0 | Q21: 0 | R21: 0 | S21: 0 | T21: 0 | U21: 0 | V21: 0 | W21: 0 | X21: 3 | Y21: 1 | Z21: 5 | AA21: 2 | AB21: 5 | AC21: 3 | AD21: 5 | AE21: 6 | AF21: 7 | AG21: 4 | AH21: 12 | AI21: 10 | AJ21: 15 | AK21: 17 | AL21: 27 | AM21: 28 | AN21: 19 | AO21: 19 | AP21: 8 | AQ21: 6 | AR21: 7 | AS21: 12 | AT21: 3 | AU21: 3 | AV21: 4 | AW21: 1 | AX21: 1 | AY21: 4 | AZ21: 1 | BA21: 1 | BB21: 0 | BC21: 2 | BD21: 1 | BE21: 1 | BF21: 1 | BG21: 4 | BH21: 2 | BI21: 4 | BJ21: 3 | BK21: 0 | BL21: 0 | BM21: 1 | BN21: 1 | BO21: 1 | BP21: 2 | BQ21: 0 | BR21: 0 | BS21: 0 | BT21: 1 | BU21: 0 | BV21: 3 | BW21: 0 | BX21: 0 | BY21: 1 | BZ21: 0 | CA21: 0 | CB21: 1 | CC21: 0 | CD21: 0 | CE21: 0 | CF21: 0 | CG21: 2 | CH21: 0 | CI21: 1 | CJ21: 7 | CK21: 3 | CL21: 22 | CM21: 20 | CN21: 18 | CO21: 22 | CP21: 29 | CQ21: 16 | CR21: 14 | CS21: 12 | CT21: 16 | CU21: 9 | CV21: 10 | CW21: 7 | CX21: 2 | CY21: 1 | CZ21: 3 | DA21: 1 | DB21: 1 | DC21: 0 | DD21: 0 | DN21: =SUM(BN21:DM21) -> 226 | DO21: 北部
B22: （報告数） | C22: 中部 | D22: 0 | E22: 0 | F22: 0 | G22: 2 | H22: 2 | I22: 4 | J22: 3 | K22: 1 | L22: 2 | M22: 4 | N22: 0 | O22: 0 | P22: 1 | Q22: 0 | R22: 2 | S22: 1 | T22: 1 | U22: 4 | V22: 1 | W22: 5 | X22: 8 | Y22: 9 | Z22: 12 | AA22: 12 | AB22: 16 | AC22: 17 | AD22: 12 | AE22: 10 | AF22: 6 | AG22: 17 | AH22: 30 | AI22: 21 | AJ22: 28 | AK22: 36 | AL22: 40 | AM22: 27 | AN22: 31 | AO22: 22 | AP22: 25 | AQ22: 11 | AR22: 10 | AS22: 14 | AT22: 7 | AU22: 2 | AV22: 17 | AW22: 2 | AX22: 0 | AY22: 0 | AZ22: 3 | BA22: 1 | BB22: 2 | BC22: 1 | BD22: 1 | BE22: 2 | BF22: 0 | BG22: 3 | BH22: 2 | BI22: 0 | BJ22: 0 | BK22: 0 | BL22: 0 | BM22: 1 | BN22: 0 | BO22: 1 | BP22: 0 | BQ22: 0 | BR22: 0 | BS22: 0 | BT22: 0 | BU22: 0 | BV22: 0 | BW22: 0 | BX22: 1 | BY22: 0 | BZ22: 1 | CA22: 0 | CB22: 2 | CC22: 6 | CD22: 12 | CE22: 4 | CF22: 2 | CG22: 10 | CH22: 12 | CI22: 13 | CJ22: 7 | CK22: 7 | CL22: 25 | CM22: 34 | CN22: 35 | CO22: 69 | CP22: 39 | CQ22: 31 | CR22: 28 | CS22: 13 | CT22: 16 | CU22: 9 | CV22: 4 | CW22: 2 | CX22: 2 | CY22: 1 | CZ22: 0 | DA22: 0 | DB22: 0 | DC22: 1 | DD22: 0 | DN22: =SUM(BN22:DM22) -> 387 | DO22: 中部
C23: 那覇市 | D23: 0 | E23: 6 | F23: 1 | G23: 0 | H23: 1 | I23: 1 | J23: 0 | K23: 1 | L23: 0 | M23: 0 | N23: 0 | O23: 0 | P23: 0 | Q23: 3 | R23: 1 | S23: 3 | T23: 1 | U23: 0 | V23: 5 | W23: 2 | X23: 1 | Y23: 1 | Z23: 1 | AA23: 3 | AB23: 8 | AC23: 5 | AD23: 1 | AE23: 9 | AF23: 10 | AG23: 8 | AH23: 8 | AI23: 21 | AJ23: 16 | AK23: 9 | AL23: 12 | AM23: 15 | AN23: 10 | AO23: 6 | AP23: 17 | AQ23: 4 | AR23: 3 | AS23: 9 | AT23: 4 | AU23: 5 | AV23: 2 | AW23: 2 | AX23: 2 | AY23: 2 | AZ23: 5 | BA23: 1 | BB23: 0 | BC23: 1 | BD23: 1 | BE23: 1 | BF23: 2 | BG23: 1 | BH23: 1 | BI23: 0 | BJ23: 1 | BK23: 0 | BL23: 0 | BM23: 0 | BN23: 0 | BO23: 3 | BP23: 0 | BQ23: 0 | BR23: 0 | BS23: 2 | BT23: 0 | BU23: 1 | BV23: 0 | BW23: 0 | BX23: 1 | BY23: 0 | BZ23: 0 | CA23: 0 | CB23: 0 | CC23: 5 | CD23: 5 | CE23: 3 | CF23: 4 | CG23: 2 | CH23: 5 | CI23: 7 | CJ23: 11 | CK23: 12 | CL23: 15 | CM23: 14 | CN23: 20 | CO23: 23 | CP23: 32 | CQ23: 20 | CR23: 23 | CS23: 15 | CT23: 14 | CU23: 15 | CV23: 5 | CW23: 5 | CX23: 6 | CY23: 1 | CZ23: 0 | DA23: 2 | DB23: 2 | DC23: 1 | DD23: 0 | DN23: =SUM(BN23:DM23) -> 274 | DO23: 那覇市
C24: 南部 | D24: 0 | E24: 1 | F24: 1 | G24: 1 | H24: 0 | I24: 0 | J24: 1 | K24: 1 | L24: 1 | M24: 0 | N24: 0 | O24: 1 | P24: 0 | Q24: 1 | R24: 1 | S24: 2 | T24: 3 | U24: 1 | V24: 3 | W24: 1 | X24: 4 | Y24: 6 | Z24: 4 | AA24: 9 | AB24: 6 | AC24: 7 | AD24: 5 | AE24: 8 | AF24: 11 | AG24: 11 | AH24: 19 | AI24: 21 | AJ24: 17 | AK24: 31 | AL24: 29 | AM24: 34 | AN24: 17 | AO24: 22 | AP24: 14 | AQ24: 16 | AR24: 5 | AS24: 1 | AT24: 3 | AU24: 4 | AV24: 2 | AW24: 0 | AX24: 0 | AY24: 2 | AZ24: 1 | BA24: 2 | BB24: 1 | BC24: 1 | BD24: 3 | BE24: 2 | BF24: 0 | BG24: 0 | BH24: 5 | BI24: 2 | BJ24: 1 | BK24: 0 | BL24: 0 | BM24: 0 | BN24: 0 | BO24: 3 | BP24: 1 | BQ24: 1 | BR24: 1 | BS24: 5 | BT24: 2 | BU24: 2 | BV24: 1 | BW24: 2 | BX24: 0 | BY24: 1 | BZ24: 0 | CA24: 1 | CB24: 0 | CC24: 2 | CD24: 4 | CE24: 5 | CF24: 9 | CG24: 10 | CH24: 14 | CI24: 15 | CJ24: 12 | CK24: 10 | CL24: 26 | CM24: 29 | CN24: 26 | CO24: 27 | CP24: 25 | CQ24: 29 | CR24: 12 | CS24: 18 | CT24: 14 | CU24: 5 | CV24: 3 | CW24: 3 | CX24: 1 | CY24: 1 | CZ24: 1 | DA24: 1 | DB24: 0 | DC24: 2 | DD24: 0 | DN24: =SUM(BN24:DM24) -> 324 | DO24: 南部
C25: 宮古 | D25: 1 | E25: 0 | F25: 2 | G25: 0 | H25: 0 | I25: 0 | J25: 0 | K25: 0 | L25: 0 | M25: 0 | N25: 0 | O25: 0 | P25: 0 | Q25: 0 | R25: 0 | S25: 0 | T25: 0 | U25: 0 | V25: 1 | W25: 0 | X25: 0 | Y25: 0 | Z25: 0 | AA25: 0 | AB25: 0 | AC25: 0 | AD25: 1 | AE25: 1 | AF25: 1 | AG25: 0 | AH25: 0 | AI25: 1 | AJ25: 2 | AK25: 4 | AL25: 2 | AM25: 5 | AN25: 2 | AO25: 1 | AP25: 0 | AQ25: 0 | AR25: 1 | AS25: 0 | AT25: 0 | AU25: 0 | AV25: 1 | AW25: 0 | AX25: 0 | AY25: 0 | AZ25: 0 | BA25: 0 | BB25: 0 | BC25: 0 | BD25: 0 | BE25: 0 | BF25: 0 | BG25: 0 | BH25: 0 | BI25: 0 | BJ25: 0 | BK25: 0 | BL25: 0 | BM25: 0 | BN25: 0 | BO25: 0 | BP25: 0 | BQ25: 1 | BR25: 1 | BS25: 0 | BT25: 0 | BU25: 0 | BV25: 0 | BW25: 0 | BX25: 0 | BY25: 0 | BZ25: 0 | CA25: 0 | CB25: 0 | CC25: 0 | CD25: 0 | CE25: 0 | CF25: 0 | CG25: 1 | CH25: 4 | CI25: 0 | CJ25: 0 | CK25: 0 | CL25: 0 | CM25: 0 | CN25: 1 | CO25: 0 | CP25: 1 | CQ25: 2 | CR25: 3 | CS25: 3 | CT25: 0 | CU25: 1 | CV25: 0 | CW25: 2 | CX25: 3 | CY25: 2 | CZ25: 1 | DA25: 0 | DB25: 0 | DC25: 0 | DD25: 0 | DN25: =SUM(BN25:DM25) -> 26 | DO25: 宮古
C26: 八重山 | D26: 0 | E26: 0 | F26: 0 | G26: 0 | H26: 0 | I26: 0 | J26: 0 | K26: 0 | L26: 0 | M26: 0 | N26: 0 | O26: 0 | P26: 0 | Q26: 1 | R26: 1 | S26: 0 | T26: 0 | U26: 0 | V26: 0 | W26: 0 | X26: 0 | Y26: 0 | Z26: 0 | AA26: 0 | AB26: 0 | AC26: 2 | AD26: 0 | AE26: 1 | AF26: 0 | AG26: 4 | AH26: 10 | AI26: 3 | AJ26: 4 | AK26: 0 | AL26: 2 | AM26: 5 | AN26: 14 | AO26: 9 | AP26: 11 | AQ26: 6 | AR26: 13 | AS26: 6 | AT26: 8 | AU26: 6 | AV26: 2 | AW26: 1 | AX26: 0 | AY26: 0 | AZ26: 2 | BA26: 0 | BB26: 1 | BC26: 0 | BD26: 0 | BE26: 0 | BF26: 1 | BG26: 0 | BH26: 0 | BI26: 0 | BJ26: 0 | BK26: 0 | BL26: 0 | BM26: 0 | BN26: 0 | BO26: 0 | BP26: 0 | BQ26: 0 | BR26: 0 | BS26: 0 | BT26: 0 | BU26: 0 | BV26: 0 | BW26: 0 | BX26: 0 | BY26: 0 | BZ26: 0 | CA26: 1 | CB26: 0 | CC26: 0 | CD26: 0 | CE26: 0 | CF26: 0 | CG26: 1 | CH26: 0 | CI26: 0 | CJ26: 1 | CK26: 0 | CL26: 0 | CM26: 3 | CN26: 5 | CO26: 4 | CP26: 3 | CQ26: 3 | CR26: 5 | CS26: 0 | CT26: 2 | CU26: 0 | CV26: 0 | CW26: 2 | CX26: 0 | CY26: 3 | CZ26: 0 | DA26: 1 | DB26: 1 | DC26: 1 | DD26: 0 | DN26: =SUM(BN26:DM26) -> 36 | DO26: 八重山
C27: 沖縄県 | D27: 1 | E27: 7 | F27: 4 | G27: 3 | H27: 3 | I27: 5 | J27: 4 | K27: 4 | L27: 4 | M27: 7 | N27: 0 | O27: 1 | P27: 1 | Q27: 5 | R27: 5 | S27: 6 | T27: 5 | U27: 5 | V27: 10 | W27: 8 | X27: 16 | Y27: 17 | Z27: 22 | AA27: 26 | AB27: 35 | AC27: 34 | AD27: 24 | AE27: 35 | AF27: 35 | AG27: 44 | AH27: 79 | AI27: 77 | AJ27: 82 | AK27: 97 | AL27: 112 | AM27: 114 | AN27: 93 | AO27: 79 | AP27: 75 | AQ27: 43 | AR27: 39 | AS27: 42 | AT27: 25 | AU27: 20 | AV27: 28 | AW27: 6 | AX27: 3 | AY27: 8 | AZ27: 12 | BA27: 5 | BB27: 4 | BC27: 5 | BD27: 6 | BE27: 6 | BF27: 4 | BG27: 8 | BH27: 10 | BI27: 6 | BJ27: 5 | BK27: 0 | BL27: 0 | BM27: 2 | BN27: 1 | BO27: 8 | BP27: 3 | BQ27: 2 | BR27: 2 | BS27: 7 | BT27: 3 | BU27: 3 | BV27: 4 | BW27: 2 | BX27: 2 | BY27: 2 | BZ27: 1 | CA27: 2 | CB27: 3 | CC27: 13 | CD27: 21 | CE27: 12 | CF27: 15 | CG27: 26 | CH27: 35 | CI27: 36 | CJ27: 38 | CK27: 32 | CL27: 88 | CM27: 100 | CN27: 105 | CO27: 145 | CP27: 129 | CQ27: 101 | CR27: 85 | CS27: 61 | CT27: 62 | CU27: 39 | CV27: 22 | CW27: 21 | CX27: 14 | CY27: 9 | CZ27: 5 | DA27: 5 | DB27: 4 | DC27: 5 | DD27: 0 | DN27: =SUM(BN27:DM27) -> 1273 | DO27: 沖縄県
C28: 全国 | D28: 743 | E28: 822 | F28: 739 | G28: 805 | H28: 734 | I28: 858 | J28: 961 | K28: 1048 | L28: 1164 | M28: 1272 | N28: 446 | O28: 1058 | P28: 1273 | Q28: 2283 | R28: 2677 | S28: 2989 | T28: 3315 | U28: 3775 | V28: 3984 | W28: 4391 | X28: 4611 | Y28: 3663 | Z28: 3177 | AA28: 2404 | AB28: 2205 | AC28: 2012 | AD28: 1686 | AE28: 1160 | AF28: 710 | AG28: 726 | AH28: 746 | AI28: 619 | AJ28: 590 | AK28: 528 | AL28: 560 | AM28: 661 | AN28: 821 | AO28: 905 | AP28: 1180 | AQ28: 1239 | AR28: 1629 | AS28: 1976 | AT28: 1358 | AU28: 1790 | AV28: 3013 | AW28: 3896 | AX28: 3781 | AY28: 3834 | AZ28: 3546 | BA28: 3631 | BB28: 3806 | BC28: 2966 | BD28: 2924 | BE28: 2821 | BF28: 2067 | BG28: 1809 | BH28: 1699 | BI28: 1362 | BJ28: 1342 | BK28: 1366 | BL28: 1480 | BM28: 1709 | BN28: 677 | BO28: 1209 | BP28: 1430 | BQ28: 1803 | BR28: 1771 | BS28: 1741 | BT28: 1362 | BU28: 1276 | BV28: 1134 | BW28: 1307 | BX28: 1354 | BY28: 1240 | BZ28: 1143 | CA28: 1059 | CB28: 1186 | CC28: 1337 | CD28: 1201 | CE28: 982 | CF28: 615 | CG28: 633 | CH28: 678 | CI28: 737 | CJ28: 682 | CK28: 788 | CL28: 885 | CM28: 764 | CN28: 826 | CO28: 976 | CP28: 1082 | CQ28: 1027 | CR28: 1155 | CS28: 1417 | CT28: 1067 | CU28: 1090 | CV28: 1755 | CW28: 2289 | CX28: 2522 | CY28: 2787 | CZ28: 1882 | DA28: 2327 | DB28: 3192 | DC28: 2446 | DD28: 2528 | DN28: =SUM(BN28:DM28) -> 59362 | DO28: 全国
B29: RSウイルス感染症 | C29: 北部 | D29: 0 | E29: 0 | F29: 0 | G29: 0 | H29: 0 | I29: 0 | J29: 0 | K29: 0.33 | L29: 0.33 | M29: 1 | N29: 0 | O29: 0 | P29: 0 | Q29: 0 | R29: 0 | S29: 0 | T29: 0 | U29: 0 | V29: 0 | W29: 0 | X29: 1 | Y29: 0.33 | Z29: 1.67 | AA29: 0.67 | AB29: 1.67 | AC29: 1 | AD29: 1.67 | AE29: 2 | AF29: 2.33 | AG29: 1.33 | AH29: 4 | AI29: 3.33 | AJ29: 5 | AK29: 5.67 | AL29: 9 | AM29: 9.33 | AN29: 6.33 | AO29: 6.33 | AP29: 2.67 | AQ29: 2 | AR29: 2.33 | AS29: 4 | AT29: 1 | AU29: 1 | AV29: 1.33 | AW29: 0.33 | AX29: 0.33 | AY29: 1.33 | AZ29: 0.33 | BA29: 0.33 | BB29: 0 | BC29: 0.67 | BD29: 0.33 | BE29: 0.33 | BF29: 0.33 | BG29: 1.33 | BH29: 0.67 | BI29: 1.33 | BJ29: 1 | BK29: 0 | BL29: 0 | BM29: 0.33 | BN29: 0.33 | BO29: 0.33 | BP29: 0.67 | BQ29: 0 | BR29: 0 | BS29: 0 | BT29: 0.33 | BU29: 0 | BV29: 1 | BW29: 0 | BX29: 0 | BY29: 0.33 | BZ29: 0 | CA29: 0 | CB29: 0.33 | CC29: 0 | CD29: 0 | CE29: 0 | CF29: 0 | CG29: 0.67 | CH29: 0 | CI29: 0.33 | CJ29: 2.33 | CK29: 1 | CL29: 7.33 | CM29: 6.67 | CN29: 6 | CO29: 7.33 | CP29: 9.67 | CQ29: 5.33 | CR29: 4.67 | CS29: 4 | CT29: 5.33 | CU29: 3 | CV29: 3.33 | CW29: 2.33 | CX29: 0.67 | CY29: 0.33 | CZ29: 1 | DA29: 0.33 | DB29: 0.33 | DC29: 0 | DD29: 0 | DN29: =SUM(BN29:DM29) -> 75.3 | DO29: 北部
B30: （定点あたり報告数） | C30: 中部 | D30: 0 | E30: 0 | F30: 0 | G30: 0.2 | H30: 0.2 | I30: 0.4 | J30: 0.3 | K30: 0.1 | L30: 0.2 | M30: 0.4 | N30: 0 | O30: 0 | P30: 0.1 | Q30: 0 | R30: 0.2 | S30: 0.1 | T30: 0.1 | U30: 0.4 | V30: 0.1 | W30: 0.5 | X30: 0.8 | Y30: 0.9 | Z30: 1.2 | AA30: 1.2 | AB30: 2.29 | AC30: 2.43 | AD30: 1.71 | AE30: 1.43 | AF30: 0.86 | AG30: 2.43 | AH30: 4.29 | AI30: 3 | AJ30: 4 | AK30: 5.14 | AL30: 5.71 | AM30: 3.86 | AN30: 4.43 | AO30: 3.14 | AP30: 3.57 | AQ30: 1.57 | AR30: 1.43 | AS30: 2 | AT30: 1 | AU30: 0.29 | AV30: 2.43 | AW30: 0.29 | AX30: 0 | AY30: 0 | AZ30: 0.43 | BA30: 0.14 | BB30: 0.29 | BC30: 0.14 | BD30: 0.14 | BE30: 0.29 | BF30: 0 | BG30: 0.43 | BH30: 0.29 | BI30: 0 | BJ30: 0 | BK30: 0 | BL30: 0 | BM30: 0.14 | BN30: 0 | BO30: 0.14 | BP30: 0 | BQ30: 0 | BR30: 0 | BS30: 0 | BT30: 0 | BU30: 0 | BV30: 0 | BW30: 0 | BX30: 0.14 | BY30: 0 | BZ30: 0.14 | CA30: 0 | CB30: 0.29 | CC30: 0.86 | CD30: 1.71 | CE30: 0.57 | CF30: 0.29 | CG30: 1.43 | CH30: 1.71 | CI30: 1.86 | CJ30: 1 | CK30: 1 | CL30: 3.57 | CM30: 4.86 | CN30: 5 | CO30: 9.86 | CP30: 5.57 | CQ30: 4.43 | CR30: 4 | CS30: 1.86 | CT30: 2.29 | CU30: 1.29 | CV30: 0.57 | CW30: 0.29 | CX30: 0.29 | CY30: 0.14 | CZ30: 0 | DA30: 0 | DB30: 0 | DC30: 0.14 | DD30: 0 | DN30: =SUM(BN30:DM30) -> 55.3 | DO30: 中部
C31: 那覇市 | D31: 0 | E31: 0.86 | F31: 0.14 | G31: 0 | H31: 0.14 | I31: 0.14 | J31: 0 | K31: 0.14 | L31: 0 | M31: 0 | N31: 0 | O31: 0 | P31: 0 | Q31: 0.43 | R31: 0.14 | S31: 0.43 | T31: 0.14 | U31: 0 | V31: 0.71 | W31: 0.29 | X31: 0.14 | Y31: 0.14 | Z31: 0.14 | AA31: 0.43 | AB31: 1.33 | AC31: 0.83 | AD31: 0.17 | AE31: 1.5 | AF31: 1.67 | AG31: 1.33 | AH31: 1.33 | AI31: 3.5 | AJ31: 2.67 | AK31: 1.5 | AL31: 2 | AM31: 2.5 | AN31: 1.67 | AO31: 1 | AP31: 2.83 | AQ31: 0.67 | AR31: 0.5 | AS31: 1.5 | AT31: 0.67 | AU31: 0.83 | AV31: 0.33 | AW31: 0.33 | AX31: 0.33 | AY31: 0.33 | AZ31: 0.83 | BA31: 0.17 | BB31: 0 | BC31: 0.17 | BD31: 0.17 | BE31: 0.17 | BF31: 0.33 | BG31: 0.17 | BH31: 0.17 | BI31: 0 | BJ31: 0.17 | BK31: 0 | BL31: 0 | BM31: 0 | BN31: 0 | BO31: 0.5 | BP31: 0 | BQ31: 0 | BR31: 0 | BS31: 0.33 | BT31: 0 | BU31: 0.17 | BV31: 0 | BW31: 0 | BX31: 0.17 | BY31: 0 | BZ31: 0 | CA31: 0 | CB31: 0 | CC31: 1 | CD31: 1 | CE31: 0.6 | CF31: 0.8 | CG31: 0.4 | CH31: 1 | CI31: 1.4 | CJ31: 2.2 | CK31: 2.4 | CL31: 3 | CM31: 2.8 | CN31: 4 | CO31: 4.6 | CP31: 6.4 | CQ31: 4 | CR31: 4.6 | CS31: 3 | CT31: 2.8 | CU31: 3 | CV31: 1 | CW31: 1 | CX31: 1.2 | CY31: 0.2 | CZ31: 0 | DA31: 0.4 | DB31: 0.4 | DC31: 0.2 | DD31: 0 | DN31: =SUM(BN31:DM31) -> 54.57 | DO31: 那覇市
C32: 南部 | D32: 0 | E32: 0.13 | F32: 0.13 | G32: 0.13 | H32: 0 | I32: 0 | J32: 0.13 | K32: 0.13 | L32: 0.13 | M32: 0 | N32: 0 | O32: 0.13 | P32: 0 | Q32: 0.13 | R32: 0.13 | S32: 0.25 | T32: 0.38 | U32: 0.13 | V32: 0.38 | W32: 0.13 | X32: 0.5 | Y32: 0.75 | Z32: 0.5 | AA32: 1.13 | AB32: 1 | AC32: 1.17 | AD32: 0.83 | AE32: 1.33 | AF32: 1.83 | AG32: 1.83 | AH32: 3.17 | AI32: 3.5 | AJ32: 3.4 | AK32: 5.17 | AL32: 4.83 | AM32: 5.67 | AN32: 2.83 | AO32: 3.67 | AP32: 2.33 | AQ32: 2.67 | AR32: 0.83 | AS32: 0.17 | AT32: 0.5 | AU32: 0.67 | AV32: 0.33 | AW32: 0 | AX32: 0 | AY32: 0.33 | AZ32: 0.17 | BA32: 0.33 | BB32: 0.17 | BC32: 0.17 | BD32: 0.5 | BE32: 0.33 | BF32: 0 | BG32: 0 | BH32: 0.83 | BI32: 0.33 | BJ32: 0.17 | BK32: 0 | BL32: 0 | BM32: 0 | BN32: 0 | BO32: 0.5 | BP32: 0.17 | BQ32: 0.17 | BR32: 0.17 | BS32: 0.83 | BT32: 0.33 | BU32: 0.33 | BV32: 0.17 | BW32: 0.33 | BX32: 0 | BY32: 0.17 | BZ32: 0 | CA32: 0.17 | CB32: 0 | CC32: 0.33 | CD32: 0.67 | CE32: 0.83 | CF32: 1.5 | CG32: 1.67 | CH32: 2.33 | CI32: 2.5 | CJ32: 2 | CK32: 1.67 | CL32: 4.33 | CM32: 4.83 | CN32: 4.33 | CO32: 4.5 | CP32: 4.17 | CQ32: 4.83 | CR32: 2 | CS32: 3 | CT32: 2.33 | CU32: 0.83 | CV32: 0.5 | CW32: 0.5 | CX32: 0.17 | CY32: 0.17 | CZ32: 0.17 | DA32: 0.17 | DB32: 0 | DC32: 0.33 | DD32: 0 | DN32: =SUM(BN32:DM32) -> 54 | DO32: 南部
C33: 宮古 | D33: 0.5 | E33: 0 | F33: 1 | G33: 0 | H33: 0 | I33: 0 | J33: 0 | K33: 0 | L33: 0 | M33: 0 | N33: 0 | O33: 0 | P33: 0 | Q33: 0 | R33: 0 | S33: 0 | T33: 0 | U33: 0 | V33: 0.5 | W33: 0 | X33: 0 | Y33: 0 | Z33: 0 | AA33: 0 | AB33: 0 | AC33: 0 | AD33: 1 | AE33: 1 | AF33: 1 | AG33: 0 | AH33: 0 | AI33: 1 | AJ33: 2 | AK33: 4 | AL33: 2 | AM33: 5 | AN33: 2 | AO33: 1 | AP33: 0 | AQ33: 0 | AR33: 1 | AS33: 0 | AT33: 0 | AU33: 0 | AV33: 1 | AW33: 0 | AX33: 0 | AY33: 0 | AZ33: 0 | BA33: 0 | BB33: 0 | BC33: 0 | BD33: 0 | BE33: 0 | BF33: 0 | BG33: 0 | BH33: 0 | BI33: 0 | BJ33: 0 | BK33: 0 | BL33: 0 | BM33: 0 | BN33: 0 | BO33: 0 | BP33: 0 | BQ33: 1 | BR33: 1 | BS33: 0 | BT33: 0 | BU33: 0 | BV33: 0 | BW33: 0 | BX33: 0 | BY33: 0 | BZ33: 0 | CA33: 0 | CB33: 0 | CC33: 0 | CD33: 0 | CE33: 0 | CF33: 0 | CG33: 1 | CH33: 4 | CI33: 0 | CJ33: 0 | CK33: 0 | CL33: 0 | CM33: 0 | CN33: 1 | CO33: 0 | CP33: 1 | CQ33: 2 | CR33: 3 | CS33: 3 | CT33: 0 | CU33: 1 | CV33: 0 | CW33: 2 | CX33: 3 | CY33: 2 | CZ33: 1 | DA33: 0 | DB33: 0 | DC33: 0 | DD33: 0 | DN33: =SUM(BN33:DM33) -> 26 | DO33: 宮古
C34: 八重山 | D34: 0 | E34: 0 | F34: 0 | G34: 0 | H34: 0 | I34: 0 | J34: 0 | K34: 0 | L34: 0 | M34: 0 | N34: 0 | O34: 0 | P34: 0 | Q34: 0.5 | R34: 0.5 | S34: 0 | T34: 0 | U34: 0 | V34: 0 | W34: 0 | X34: 0 | Y34: 0 | Z34: 0 | AA34: 0 | AB34: 0 | AC34: 1 | AD34: 0 | AE34: 0.5 | AF34: 0 | AG34: 2 | AH34: 5 | AI34: 1.5 | AJ34: 2 | AK34: 0 | AL34: 1 | AM34: 2.5 | AN34: 7 | AO34: 4.5 | AP34: 5.5 | AQ34: 3 | AR34: 6.5 | AS34: 3 | AT34: 4 | AU34: 3 | AV34: 1 | AW34: 0.5 | AX34: 0 | AY34: 0 | AZ34: 1 | BA34: 0 | BB34: 0.5 | BC34: 0 | BD34: 0 | BE34: 0 | BF34: 0.5 | BG34: 0 | BH34: 0 | BI34: 0 | BJ34: 0 | BK34: 0 | BL34: 0 | BM34: 0 | BN34: 0 | BO34: 0 | BP34: 0 | BQ34: 0 | BR34: 0 | BS34: 0 | BT34: 0 | BU34: 0 | BV34: 0 | BW34: 0 | BX34: 0 | BY34: 0 | BZ34: 0 | CA34: 0.5 | CB34: 0 | CC34: 0 | CD34: 0 | CE34: 0 | CF34: 0 | CG34: 0.5 | CH34: 0 | CI34: 0 | CJ34: 0.5 | CK34: 0 | CL34: 0 | CM34: 1.5 | CN34: 2.5 | CO34: 2 | CP34: 1.5 | CQ34: 1.5 | CR34: 2.5 | CS34: 0 | CT34: 1 | CU34: 0 | CV34: 0 | CW34: 1 | CX34: 0 | CY34: 1.5 | CZ34: 0 | DA34: 0.5 | DB34: 0.5 | DC34: 0.5 | DD34: 0 | DN34: =SUM(BN34:DM34) -> 18 | DO34: 八重山
C35: 沖縄県 | D35: 0.03 | E35: 0.22 | F35: 0.13 | G35: 0.09 | H35: 0.09 | I35: 0.16 | J35: 0.13 | K35: 0.13 | L35: 0.13 | M35: 0.22 | N35: 0 | O35: 0.03 | P35: 0.03 | Q35: 0.16 | R35: 0.16 | S35: 0.19 | T35: 0.16 | U35: 0.16 | V35: 0.31 | W35: 0.25 | X35: 0.5 | Y35: 0.53 | Z35: 0.69 | AA35: 0.81 | AB35: 1.4 | AC35: 1.36 | AD35: 0.96 | AE35: 1.4 | AF35: 1.4 | AG35: 1.76 | AH35: 3.16 | AI35: 3.08 | AJ35: 3.42 | AK35: 3.88 | AL35: 4.48 | AM35: 4.56 | AN35: 3.72 | AO35: 3.16 | AP35: 3 | AQ35: 1.72 | AR35: 1.56 | AS35: 1.68 | AT35: 1 | AU35: 0.8 | AV35: 1.12 | AW35: 0.24 | AX35: 0.12 | AY35: 0.32 | AZ35: 0.48 | BA35: 0.2 | BB35: 0.16 | BC35: 0.2 | BD35: 0.24 | BE35: 0.24 | BF35: 0.16 | BG35: 0.32 | BH35: 0.4 | BI35: 0.24 | BJ35: 0.2 | BK35: 0 | BL35: 0 | BM35: 0.08 | BN35: 0.04 | BO35: 0.32 | BP35: 0.12 | BQ35: 0.08 | BR35: 0.08 | BS35: 0.28 | BT35: 0.12 | BU35: 0.12 | BV35: 0.16 | BW35: 0.08 | BX35: 0.08 | BY35: 0.08 | BZ35: 0.04 | CA35: 0.08 | CB35: 0.13 | CC35: 0.54 | CD35: 0.88 | CE35: 0.5 | CF35: 0.63 | CG35: 1.08 | CH35: 1.46 | CI35: 1.5 | CJ35: 1.58 | CK35: 1.33 | CL35: 3.67 | CM35: 4.17 | CN35: 4.38 | CO35: 6.04 | CP35: 5.38 | CQ35: 4.21 | CR35: 3.54 | CS35: 2.54 | CT35: 2.58 | CU35: 1.63 | CV35: 0.92 | CW35: 0.88 | CX35: 0.58 | CY35: 0.38 | CZ35: 0.21 | DA35: 0.21 | DB35: 0.17 | DC35: 0.21 | DD35: 0 | DN35: =SUM(BN35:DM35) -> 53.01 | DO35: 沖縄県
C36: 全国 | D36: 0.24 | E36: 0.26 | F36: 0.24 | G36: 0.26 | H36: 0.23 | I36: 0.27 | J36: 0.31 | K36: 0.33 | L36: 0.37 | M36: 0.41 | N36: 0.17 | O36: 0.34 | P36: 0.41 | Q36: 0.73 | R36: 0.86 | S36: 0.96 | T36: 1.06 | U36: 1.21 | V36: 1.27 | W36: 1.41 | X36: 1.48 | Y36: 1.18 | Z36: 1.02 | AA36: 0.8 | AB36: 0.93 | AC36: 0.85 | AD36: 0.72 | AE36: 0.5 | AF36: 0.3 | AG36: 0.31 | AH36: 0.32 | AI36: 0.26 | AJ36: 0.25 | AK36: 0.22 | AL36: 0.24 | AM36: 0.28 | AN36: 0.35 | AO36: 0.38 | AP36: 0.5 | AQ36: 0.53 | AR36: 0.69 | AS36: 0.86 | AT36: 0.63 | AU36: 0.77 | AV36: 1.28 | AW36: 1.66 | AX36: 1.65 | AY36: 1.64 | AZ36: 1.51 | BA36: 1.55 | BB36: 1.63 | BC36: 1.26 | BD36: 1.24 | BE36: 1.21 | BF36: 0.88 | BG36: 0.77 | BH36: 0.73 | BI36: 0.58 | BJ36: 0.57 | BK36: 0.58 | BL36: 0.63 | BM36: 0.73 | BN36: 0.35 | BO36: 0.53 | BP36: 0.62 | BQ36: 0.78 | BR36: 0.77 | BS36: 0.75 | BT36: 0.59 | BU36: 0.56 | BV36: 0.49 | BW36: 0.57 | BX36: 0.59 | BY36: 0.54 | BZ36: 0.5 | CA36: 0.47 | CB36: 0.53 | CC36: 0.59 | CD36: 0.53 | CE36: 0.44 | CF36: 0.27 | CG36: 0.28 | CH36: 0.3 | CI36: 0.33 | CJ36: 0.3 | CK36: 0.35 | CL36: 0.4 | CM36: 0.34 | CN36: 0.37 | CO36: 0.43 | CP36: 0.48 | CQ36: 0.46 | CR36: 0.51 | CS36: 0.64 | CT36: 0.51 | CU36: 0.49 | CV36: 0.78 | CW36: 1.02 | CX36: 1.12 | CY36: 1.24 | CZ36: 0.84 | DA36: 1.03 | DB36: 1.42 | DC36: 1.09 | DD36: 1.12 | DN36: =SUM(BN36:DM36) -> 26.32 | DO36: 全国
B37: 咽頭結膜熱 | C37: 北部 | D37: 0 | E37: 0 | F37: 0 | G37: 0 | H37: 0 | I37: 0 | J37: 0 | K37: 0 | L37: 0 | M37: 0 | N37: 0 | O37: 0 | P37: 0 | Q37: 0 | R37: 0 | S37: 0 | T37: 0 | U37: 0 | V37: 0 | W37: 0 | X37: 0 | Y37: 0 | Z37: 0 | AA37: 0 | AB37: 0 | AC37: 2 | AD37: 0 | AE37: 0 | AF37: 2 | AG37: 1 | AH37: 0 | AI37: 1 | AJ37: 1 | AK37: 2 | AL37: 0 | AM37: 0 | AN37: 1 | AO37: 2 | AP37: 1 | AQ37: 1 | AR37: 1 | AS37: 0 | AT37: 0 | AU37: 0 | AV37: 0 | AW37: 3 | AX37: 0 | AY37: 1 | AZ37: 1 | BA37: 0 | BB37: 1 | BC37: 1 | BD37: 1 | BE37: 1 | BF37: 1 | BG37: 2 | BH37: 0 | BI37: 1 | BJ37: 0 | BK37: 1 | BL37: 1 | BM37: 0 | BN37: 0 | BO37: 2 | BP37: 0 | BQ37: 1 | BR37: 2 | BS37: 3 | BT37: 1 | BU37: 2 | BV37: 3 | BW37: 1 | BX37: 1 | BY37: 1 | BZ37: 0 | CA37: 0 | CB37: 0 | CC37: 0 | CD37: 2 | CE37: 2 | CF37: 0 | CG37: 2 | CH37: 0 | CI37: 2 | CJ37: 1 | CK37: 1 | CL37: 0 | CM37: 2 | CN37: 2 | CO37: 1 | CP37: 1 | CQ37: 0 | CR37: 0 | CS37: 3 | CT37: 0 | CU37: 2 | CV37: 0 | CW37: 0 | CX37: 2 | CY37: 1 | CZ37: 0 | DA37: 1 | DB37: 3 | DC37: 1 | DD37: 3 | DN37: =SUM(BN37:DM37) -> 49 | DO37: 北部
B38: （報告数） | C38: 中部 | D38: 2 | E38: 0 | F38: 4 | G38: 0 | H38: 2 | I38: 1 | J38: 2 | K38: 2 | L38: 0 | M38: 5 | N38: 0 | O38: 4 | P38: 0 | Q38: 1 | R38: 2 | S38: 2 | T38: 1 | U38: 1 | V38: 0 | W38: 2 | X38: 6 | Y38: 0 | Z38: 4 | AA38: 3 | AB38: 0 | AC38: 1 | AD38: 2 | AE38: 4 | AF38: 4 | AG38: 5 | AH38: 8 | AI38: 14 | AJ38: 3 | AK38: 14 | AL38: 13 | AM38: 6 | AN38: 12 | AO38: 6 | AP38: 7 | AQ38: 7 | AR38: 8 | AS38: 7 | AT38: 15 | AU38: 8 | AV38: 10 | AW38: 6 | AX38: 10 | AY38: 6 | AZ38: 5 | BA38: 4 | BB38: 3 | BC38: 5 | BD38: 6 | BE38: 9 | BF38: 3 | BG38: 4 | BH38: 3 | BI38: 1 | BJ38: 4 | BK38: 2 | BL38: 3 | BM38: 2 | BN38: 0 | BO38: 3 | BP38: 2 | BQ38: 5 | BR38: 1 | BS38: 1 | BT38: 4 | BU38: 2 | BV38: 0 | BW38: 3 | BX38: 2 | BY38: 0 | BZ38: 1 | CA38: 2 | CB38: 3 | CC38: 1 | CD38: 4 | CE38: 3 | CF38: 5 | CG38: 3 | CH38: 10 | CI38: 9 | CJ38: 7 | CK38: 13 | CL38: 7 | CM38: 4 | CN38: 5 | CO38: 4 | CP38: 8 | CQ38: 3 | CR38: 0 | CS38: 2 | CT38: 8 | CU38: 1 | CV38: 4 | CW38: 4 | CX38: 8 | CY38: 9 | CZ38: 2 | DA38: 6 | DB38: 1 | DC38: 3 | DD38: 0 | DN38: =SUM(BN38:DM38) -> 163 | DO38: 中部
C39: 那覇市 | D39: 0 | E39: 1 | F39: 0 | G39: 0 | H39: 0 | I39: 1 | J39: 0 | K39: 2 | L39: 0 | M39: 1 | N39: 0 | O39: 2 | P39: 0 | Q39: 0 | R39: 3 | S39: 0 | T39: 1 | U39: 2 | V39: 1 | W39: 1 | X39: 3 | Y39: 2 | Z39: 0 | AA39: 3 | AB39: 0 | AC39: 1 | AD39: 1 | AE39: 0 | AF39: 1 | AG39: 0 | AH39: 1 | AI39: 11 | AJ39: 0 | AK39: 4 | AL39: 1 | AM39: 2 | AN39: 0 | AO39: 4 | AP39: 5 | AQ39: 5 | AR39: 2 | AS39: 0 | AT39: 0 | AU39: 2 | AV39: 1 | AW39: 8 | AX39: 6 | AY39: 1 | AZ39: 2 | BA39: 4 | BB39: 0 | BC39: 0 | BD39: 3 | BE39: 0 | BF39: 0 | BG39: 1 | BH39: 0 | BI39: 1 | BJ39: 1 | BK39: 0 | BL39: 1 | BM39: 2 | BN39: 0 | BO39: 11 | BP39: 0 | BQ39: 0 | BR39: 0 | BS39: 2 | BT39: 1 | BU39: 1 | BV39: 2 | BW39: 0 | BX39: 0 | BY39: 0 | BZ39: 3 | CA39: 0 | CB39: 0 | CC39: 0 | CD39: 1 | CE39: 4 | CF39: 0 | CG39: 0 | CH39: 0 | CI39: 1 | CJ39: 2 | CK39: 0 | CL39: 0 | CM39: 1 | CN39: 1 | CO39: 3 | CP39: 0 | CQ39: 3 | CR39: 2 | CS39: 2 | CT39: 3 | CU39: 4 | CV39: 1 | CW39: 2 | CX39: 1 | CY39: 2 | CZ39: 0 | DA39: 0 | DB39: 0 | DC39: 0 | DD39: 0 | DN39: =SUM(BN39:DM39) -> 53 | DO39: 那覇市
C40: 南部 | D40: 2 | E40: 0 | F40: 0 | G40: 0 | H40: 1 | I40: 0 | J40: 2 | K40: 1 | L40: 1 | M40: 3 | N40: 0 | O40: 3 | P40: 2 | Q40: 3 | R40: 1 | S40: 2 | T40: 3 | U40: 0 | V40: 4 | W40: 2 | X40: 2 | Y40: 0 | Z40: 0 | AA40: 2 | AB40: 1 | AC40: 6 | AD40: 1 | AE40: 3 | AF40: 2 | AG40: 0 | AH40: 5 | AI40: 7 | AJ40: 3 | AK40: 3 | AL40: 2 | AM40: 1 | AN40: 2 | AO40: 6 | AP40: 10 | AQ40: 4 | AR40: 1 | AS40: 3 | AT40: 0 | AU40: 7 | AV40: 3 | AW40: 6 | AX40: 3 | AY40: 3 | AZ40: 3 | BA40: 6 | BB40: 2 | BC40: 11 | BD40: 6 | BE40: 12 | BF40: 2 | BG40: 4 | BH40: 1 | BI40: 1 | BJ40: 3 | BK40: 2 | BL40: 2 | BM40: 1 | BN40: 2 | BO40: 1 | BP40: 2 | BQ40: 2 | BR40: 4 | BS40: 3 | BT40: 2 | BU40: 1 | BV40: 2 | BW40: 1 | BX40: 0 | BY40: 2 | BZ40: 0 | CA40: 0 | CB40: 1 | CC40: 6 | CD40: 1 | CE40: 3 | CF40: 0 | CG40: 3 | CH40: 1 | CI40: 1 | CJ40: 1 | CK40: 3 | CL40: 3 | CM40: 0 | CN40: 6 | CO40: 4 | CP40: 2 | CQ40: 1 | CR40: 6 | CS40: 5 | CT40: 5 | CU40: 4 | CV40: 3 | CW40: 1 | CX40: 3 | CY40: 3 | CZ40: 0 | DA40: 3 | DB40: 2 | DC40: 2 | DD40: 2 | DN40: =SUM(BN40:DM40) -> 97 | DO40: 南部
...

Sheet 報告数合計
B4: インフルエンザ
C6: シーズン（9月～翌年8月）別の報告数合計
C7: 平均報告数 （2026/27を除く） | D7: 2021/22 | E7: 2022/23 | F7: 2023/24 | G7: 2024/25 | H7: 2025/26 | I7: 2026/27
C8: =+AVERAGE(D8:H8) -> 21093 | D8: {=TRANSPOSE([1]沖縄県!$DH$22:$DH$27)} -> 184 | E8: 19108 | F8: 36351 | G8: 25389 | H8: 24433 | I8: 8854
B12: ＲＳウイルス
C14: シーズン（9月～翌年8月）別の報告数合計
C15: =C7 -> 平均報告数 （2026/27を除く） | D15: =D7 -> 2021/22 | E15: =E7 -> 2022/23 | F15: =F7 -> 2023/24 | G15: =G7 -> 2024/25 | H15: =H7 -> 2025/26 | I15: =I7 -> 2026/27
C16: =AVERAGE(D16:H16) -> 1701.6 | D16: {=TRANSPOSE([1]沖縄県!$DH$81:$DH$86)} -> 1892 | E16: 2431 | F16: 1467 | G16: 1418 | H16: 1300 | I16: 63
B20: 咽頭結膜熱
C22: シーズン別の報告数合計
C23: 平均報告数 （2026年を除く） | D23: 2021年 | E23: 2022年 | F23: 2023年 | G23: 2024年 | H23: 2025年 | I23: 2026年
C24: =+AVERAGE(D24:H24) -> 1065.6 | D24: {=TRANSPOSE([1]沖縄県!$BD$140:$BD$145)} -> 693 | E24: 245 | F24: 2862 | G24: 981 | H24: 547 | I24: 376
B28: Ａ群溶血性レンサ球菌咽頭炎
C30: シーズン別の報告数合計
C31: =$C$23 -> 平均報告数 （2026年を除く） | D31: =$D$23 -> 2021年 | E31: =$E$23 -> 2022年 | F31: =$F$23 -> 2023年 | G31: =$G$23 -> 2024年 | H31: =$H$23 -> 2025年 | I31: =$I$23 -> 2026年
C32: =+AVERAGE(D32:G32) -> 2515 | D32: {=TRANSPOSE([1]沖縄県!$BD$199:$BD$204)} -> 1592 | E32: 921 | F32: 2962 | G32: 4585 | H32: 2164 | I32: 1258
B36: 感染性胃腸炎
C38: シーズン（9月～翌年8月）別の報告数合計
C39: =C7 -> 平均報告数 （2026/27を除く） | D39: =D7 -> 2021/22 | E39: =E7 -> 2022/23 | F39: =F7 -> 2023/24 | G39: =G7 -> 2024/25 | H39: =H7 -> 2025/26 | I39: =I7 -> 2026/27
C40: =+AVERAGE(D40:H40) -> 3725.4 | D40: {=TRANSPOSE([1]沖縄県!$DH$258:$DH$263)} -> 2810 | E40: 3468 | F40: 3088 | G40: 4408 | H40: 4853 | I40: 849
B44: 水痘
C46: シーズン別の報告数合計
C47: =$C$23 -> 平均報告数 （2026年を除く） | D47: =$D$23 -> 2021年 | E47: =$E$23 -> 2022年 | F47: =$F$23 -> 2023年 | G47: =$G$23 -> 2024年 | H47: =$H$23 -> 2025年 | I47: =$I$23 -> 2026年
C48: =+AVERAGE(D48:H48) -> 365.6 | D48: {=TRANSPOSE([1]沖縄県!$BD$317:$BD$322)} -> 302 | E48: 191 | F48: 146 | G48: 342 | H48: 847 | I48: 522
B52: 手足口病
C54: シーズン別の報告数合計
C55: =$C$23 -> 平均報告数 （2026年を除く） | D55: =$D$23 -> 2021年 | E55: =$E$23 -> 2022年 | F55: =$F$23 -> 2023年 | G55: =$G$23 -> 2024年 | H55: =$H$23 -> 2025年 | I55: =$I$23 -> 2026年
C56: =+AVERAGE(D56:H56) -> 2221.6 | D56: {=TRANSPOSE([1]沖縄県!$BD$376:$BD$381)} -> 729 | E56: 2909 | F56: 2526 | G56: 4098 | H56: 846 | I56: 1430
B60: 伝染性紅斑
C62: シーズン別の報告数合計
C63: =$C$23 -> 平均報告数 （2026年を除く） | D63: =$D$23 -> 2021年 | E63: =$E$23 -> 2022年 | F63: =$F$23 -> 2023年 | G63: =$G$23 -> 2024年 | H63: =$H$23 -> 2025年 | I63: =$I$23 -> 2026年
C64: =+AVERAGE(D64:H64) -> 240 | D64: {=TRANSPOSE([1]沖縄県!$BD$435:$BD$440)} -> 6 | E64: 15 | F64: 24 | G64: 118 | H64: 1037 | I64: 50
B68: 突発性発疹
C70: シーズン別の報告数合計
C71: =$C$23 -> 平均報告数 （2026年を除く） | D71: =$D$23 -> 2021年 | E71: =$E$23 -> 2022年 | F71: =$F$23 -> 2023年 | G71: =$G$23 -> 2024年 | H71: =$H$23 -> 2025年 | I71: =$I$23 -> 2026年
C72: =+AVERAGE(D72:H72) -> 381.8 | D72: {=TRANSPOSE([1]沖縄県!$BD$494:$BD$499)} -> 488 | E72: 393 | F72: 354 | G72: 321 | H72: 353 | I72: 284
B76: ヘルパンギーナ
C78: シーズン別の報告数合計
C79: =$C$23 -> 平均報告数 （2026年を除く） | D79: =$D$23 -> 2021年 | E79: =$E$23 -> 2022年 | F79: =$F$23 -> 2023年 | G79: =$G$23 -> 2024年 | H79: =$H$23 -> 2025年 | I79: =$I$23 -> 2026年
C80: =+AVERAGE(D80:H80) -> 363 | D80: {=TRANSPOSE([1]沖縄県!$BD$553:$BD$558)} -> 253 | E80: 325 | F80: 467 | G80: 468 | H80: 302 | I80: 453
...

Sheet カレンダー
A1: 月 | B1: 週 | C1: 週初日 | D1: 週終日
A2: 1 | B2: 1 | C2: 46020 | D2: =+C2+6 -> 46026
A3: 1 | B3: 2 | C3: =+C2+7 -> 46027 | D3: =+D2+7 -> 46033
A4: 1 | B4: 3 | C4: =+C3+7 -> 46034 | D4: =+D3+7 -> 46040
A5: 1 | B5: 4 | C5: =+C4+7 -> 46041 | D5: =+D4+7 -> 46047
A6: 1 | B6: 5 | C6: =+C5+7 -> 46048 | D6: =+D5+7 -> 46054
A7: 2 | B7: 6 | C7: =+C6+7 -> 46055 | D7: =+D6+7 -> 46061
A8: 2 | B8: 7 | C8: =+C7+7 -> 46062 | D8: =+D7+7 -> 46068
A9: 2 | B9: 8 | C9: =+C8+7 -> 46069 | D9: =+D8+7 -> 46075
A10: 2 | B10: 9 | C10: =+C9+7 -> 46076 | D10: =+D9+7 -> 46082
A11: 3 | B11: 10 | C11: =+C10+7 -> 46083 | D11: =+D10+7 -> 46089
A12: 3 | B12: 11 | C12: =+C11+7 -> 46090 | D12: =+D11+7 -> 46096
A13: 3 | B13: 12 | C13: =+C12+7 -> 46097 | D13: =+D12+7 -> 46103
A14: 3 | B14: 13 | C14: =+C13+7 -> 46104 | D14: =+D13+7 -> 46110
... A53: 12 | B53: 52 | C53: =+C52+7 -> 46377 | D53: =+D52+7 -> 46383

Sheet 年次別
B1: グラフ用 | C1: グラフ用 | G1: インフルエンザ | I1: RSウイルス感染症 | K1: 咽頭結膜熱 | M1: A群溶血性レンサ球菌咽頭炎 | O1: 感染性胃腸炎 | Q1: 水痘 | S1: 手足口病 | U1: 伝染性紅斑 | W1: 突発性発疹 | Y1: 百日咳 | AA1: 風疹 | AC1: ヘルパンギーナ | AE1: 麻疹 | AG1: 流行性耳下腺炎 | AI1: 急性出血性結膜炎 | AK1: 流行性角結膜炎 | AM1: 急性脳炎 | AO1: 細菌性髄膜炎 | AQ1: 無菌性髄膜炎 | AS1: マイコプラズマ肺炎 | AU1: クラミジア肺炎 | AW1: 成人麻疹 | AY1: 感染性胃腸炎（ロタウイルス） | BA1: COVID-19
A2: No. | B2: 年 | C2: 月 | D2: 西暦 | E2: 和暦 | F2: 月 | G2: 沖縄県 | H2: 全国 | I2: 沖縄県 | J2: 全国 | K2: 沖縄県 | L2: 全国 | M2: 沖縄県 | N2: 全国 | O2: 沖縄県 | P2: 全国 | Q2: 沖縄県 | R2: 全国 | S2: 沖縄県 | T2: 全国 | U2: 沖縄県 | V2: 全国 | W2: 沖縄県 | X2: 全国 | Y2: 沖縄県 | Z2: 全国 | AA2: 沖縄県 | AB2: 全国 | AC2: 沖縄県 | AD2: 全国 | AE2: 沖縄県 | AF2: 全国 | AG2: 沖縄県 | AH2: 全国 | AI2: 沖縄県 | AJ2: 全国 | AK2: 沖縄県 | AL2: 全国 | AM2: 沖縄県 | AN2: 全国 | AO2: 沖縄県 | AP2: 全国 | AQ2: 沖縄県 | AR2: 全国 | AS2: 沖縄県 | AT2: 全国 | AU2: 沖縄県 | AV2: 全国 | AW2: 沖縄県 | AX2: 全国 | AY2: 沖縄県 | AZ2: 全国 | BA2: 沖縄県 | BB2: 全国
A3: 1 | B3: 2004 | C3: 1 | D3: 2004 | E3: 平成16年 | F3: 1 | G3: 8.5206897 | H3: 13.570127 | I3: - | J3: - | K3: 0.011764706 | L3: 0.19642266 | M3: 0.35882353 | N3: 1.0979795 | O3: 5.1764706 | P3: 8.4041736 | Q3: 1.63 | R3: 2.5094402 | S3: 0.052941176 | T3: 0.071811858 | U3: 0.088235294 | V3: 0.30851275 | W3: 0.39411765 | X3: 0.61106327 | Y3: 0.023529412 | Z3: 0.007817158 | AA3: 0.023529412 | AB3: 0.01165949 | AC3: 0.029411765 | AD3: 0.025240146 | AE3: 0 | AF3: 0.0097383239 | AG3: 0.15882353 | AH3: 0.44961908 | AI3: 0.02 | AJ3: 0.020537125 | AK3: 0.74 | AL3: 0.76682464 | AM3: 0 | AN3: 0 | AO3: 0.057142857 | AP3: 0.014315789 | AQ3: 0.028571429 | AR3: 0.024 | AS3: 0 | AT3: 0.21347368 | AU3: 0 | AV3: 0.0058947368 | AW3: 0 | AX3: 0.0025263158 | AY3: - | AZ3: -
A4: 2 | D4: 2004 | E4: 平成16年 | F4: 2 | G4: 28.913793 | H4: 20.175317 | I4: - | J4: - | K4: 0.022058824 | L4: 0.19112289 | M4: 0.375 | N4: 1.7119907 | O4: 3.75 | P4: 8.7115767 | Q4: 2.515 | R4: 2.1154356 | S4: 0.066176471 | T4: 0.060864525 | U4: 0.058823529 | V4: 0.2733521 | W4: 0.27941176 | X4: 0.61787771 | Y4: 0.0073529412 | Z4: 0.0072871812 | AA4: 0.0073529412 | AB4: 0.027575356 | AC4: 0.029411765 | AD4: 0.025256708 | AE4: 0 | AF4: 0.0082808877 | AG4: 0.16176471 | AH4: 0.47722756 | AI4: 0.1 | AJ4: 0.031595577 | AK4: 1.375 | AL4: 2.8771722 | AM4: 0 | AN4: 0 | AO4: 0 | AP4: 0.014210526 | AQ4: 0 | AR4: 0.021052632 | AS4: 0 | AT4: 0.19052632 | AU4: 0 | AV4: 0.0094736842 | AW4: 0 | AX4: 0.0042105263 | AY4: - | AZ4: -
A5: 3 | C5: 3 | D5: 2004 | E5: 平成16年 | F5: 3 | G5: 4.8413793 | H5: 2.4496024 | I5: - | J5: - | K5: 0.017647059 | L5: 0.19224909 | M5: 0.31176471 | N5: 1.7619742 | O5: 2.2117647 | P5: 7.851739 | Q5: 2.788 | R5: 1.6393508 | S5: 0.14705882 | T5: 0.041073203 | U5: 0.11764706 | V5: 0.27101689 | W5: 0.32941176 | X5: 0.49413713 | Y5: 0.011764706 | Z5: 0.0073534283 | AA5: 0.011764706 | AB5: 0.038224578 | AC5: 0.011764706 | AD5: 0.027028817 | AE5: 0 | AF5: 0.011063266 | AG5: 0.12352941 | AH5: 0.49360715 | AI5: 0.06 | AJ5: 0.02464455 | AK5: 1.44 | AL5: 0.72480253 | AM5: 0 | AN5: 0 | AO5: 0.028571429 | AP5: 0.010105263 | AQ5: 0 | AR5: 0.018526316 | AS5: 0 | AT5: 0.13557895 | AU5: 0 | AV5: 0.0063157895 | AW5: 0 | AX5: 0.0046315789 | AY5: - | AZ5: -
A6: 4 | D6: 2004 | E6: 平成16年 | F6: 4 | G6: 1.9137931 | H6: 0.4637868 | I6: - | J6: - | K6: 0.066176471 | L6: 0.39201722 | M6: 0.52941176 | N6: 2.1586618 | O6: 1.1985294 | P6: 8.6425141 | Q6: 3.73 | R6: 2.4326764 | S6: 0.76470588 | T6: 0.092000662 | U6: 0.26470588 | V6: 0.53974826 | W6: 0.72058824 | X6: 0.91263663 | Y6: 0.014705882 | Z6: 0.017555482 | AA6: 0.24264706 | AB6: 0.084879099 | AC6: 0.16176471 | AD6: 0.11725737 | AE6: 0.029411765 | AF6: 0.024925472 | AG6: 0.25 | AH6: 0.7957105 | AI6: 0 | AJ6: 0.029225908 | AK6: 8.55 | AL6: 1.0951817 | AM6: 0 | AN6: 0 | AO6: 0 | AP6: 0.015789474 | AQ6: 0 | AR6: 0.029473684 | AS6: 0 | AT6: 0.15842105 | AU6: 0 | AV6: 0.010526316 | AW6: 0 | AX6: 0.0026315789 | AY6: - | AZ6: -
A7: 5 | C7: 5 | D7: 2004 | E7: 平成16年 | F7: 5 | G7: 0.18534483 | H7: 0.073608425 | I7: - | J7: - | K7: 0.22058824 | L7: 0.40982113 | M7: 1 | N7: 1.8608811 | O7: 0.73529412 | P7: 5.234846 | Q7: 1.7925 | R7: 2.0300596 | S7: 1.3455882 | T7: 0.17654853 | U7: 0.23529412 | V7: 0.52699569 | W7: 0.65441176 | X7: 0.69203379 | Y7: 0.051470588 | Z7: 0.015236833 | AA7: 0.29411765 | AB7: 0.069228221 | AC7: 0.13970588 | AD7: 0.51300099 | AE7: 0.0073529412 | AF7: 0.020536602 | AG7: 0.21323529 | AH7: 0.71936072 | AI7: 0 | AJ7: 0.02093207 | AK7: 9.975 | AL7: 0.86808847 | AM7: 0 | AN7: 0 | AO7: 0 | AP7: 0.014736842 | AQ7: 0.035714286 | AR7: 0.021052632 | AS7: 0 | AT7: 0.19052632 | AU7: 0 | AV7: 0.0089473684 | AW7: 0 | AX7: 0.0010526316 | AY7: - | AZ7: -
A8: 6 | D8: 2004 | E8: 平成16年 | F8: 6 | G8: 0.065517241 | H8: 0.0081787741 | I8: - | J8: - | K8: 0.37058824 | L8: 0.58482941 | M8: 1.5058824 | N8: 1.5077178 | O8: 0.57058824 | P8: 3.4278238 | Q8: 0.936 | R8: 1.4661809 | S8: 1.6411765 | T8: 0.36926134 | U8: 0.11176471 | V8: 0.4651209 | W8: 0.39411765 | X8: 0.63477973 | Y8: 0.023529412 | Z8: 0.015038092 | AA8: 0.064705882 | AB8: 0.032991057 | AC8: 0.082352941 | AD8: 1.5499834 | AE8: 0.0058823529 | AF8: 0.012851938 | AG8: 0.23529412 | AH8: 0.78370321 | AI8: 0.02 | AJ8: 0.014218009 | AK8: 7.46 | AL8: 0.76240126 | AM8: 0 | AN8: 0 | AO8: 0 | AP8: 0.011368421 | AQ8: 0.028571429 | AR8: 0.036631579 | AS8: 0.028571429 | AT8: 0.21810526 | AU8: 0 | AV8: 0.010526316 | AW8: 0 | AX8: 0.0016842105 | AY8: - | AZ8: -
A9: 7 | C9: 7 | D9: 2004 | E9: 平成16年 | F9: 7 | G9: 0.12931034 | H9: 0.0040833871 | I9: - | J9: - | K9: 1.0220588 | L9: 1.3434084 | M9: 1.8382353 | N9: 1.2392348 | O9: 0.77205882 | P9: 3.611792 | Q9: 0.64 | R9: 1.2585293 | S9: 2.4926471 | T9: 1.4503147 | U9: 0.17647059 | V9: 0.53204704 | W9: 0.64705882 | X9: 1.0494369 | Y9: 0.073529412 | Z9: 0.021033455 | AA9: 0.051470588 | AB9: 0.027078503 | AC9: 0.24264706 | AD9: 4.0317158 | AE9: 0.022058824 | AF9: 0.012669758 | AG9: 0.29411765 | AH9: 1.2959589 | AI9: 0 | AJ9: 0.026066351 | AK9: 5.65 | AL9: 1.186019 | AM9: 0 | AN9: 0 | AO9: 0 | AP9: 0.022105263 | AQ9: 0 | AR9: 0.12789474 | AS9: 0 | AT9: 0.27578947 | AU9: 0 | AV9: 0.014736842 | AW9: 0.035714286 | AX9: 0.0057894737 | AY9: - | AZ9: -
A10: 8 | D10: 2004 | E10: 平成16年 | F10: 8 | G10: 0.021551724 | H10: 0.0012894907 | I10: - | J10: - | K10: 0.61764706 | L10: 0.5746108 | M10: 0.94852941 | N10: 0.47962902 | O10: 0.52205882 | P10: 2.2649056 | Q10: 0.5075 | R10: 0.50447168 | S10: 1.2573529 | T10: 1.0326267 | U10: 0.125 | V10: 0.18706525 | W10: 0.51470588 | X10: 0.80018218 | Y10: 0.036764706 | Z10: 0.016313349 | AA10: 0.058823529 | AB10: 0.009440212 | AC10: 0.19852941 | AD10: 1.1706691 | AE10: 0.044117647 | AF10: 0.0075356078 | AG10: 0.32352941 | AH10: 0.8917688 | AI10: 0.05 | AJ10: 0.022116904 | AK10: 4.225 | AL10: 0.90679305 | AM10: 0 | AN10: 0 | AO10: 0 | AP10: 0.013684211 | AQ10: 0 | AR10: 0.077368421 | AS10: 0.17857143 | AT10: 0.20894737 | AU10: 0 | AV10: 0.01 | AW10: 0 | AX10: 0.0021052632 | AY10: - | AZ10: -
A11: 9 | C11: 9 | D11: 2004 | E11: 平成16年 | F11: 9 | G11: 0.013793103 | H11: 0.0016333548 | I11: - | J11: - | K11: 0.094117647 | L11: 0.23517721 | M11: 0.23529412 | N11: 0.54786353 | O11: 0.55294118 | P11: 2.4169593 | Q11: 0.412 | R11: 0.44895661 | S11: 0.83529412 | T11: 1.0767141 | U11: 0.070588235 | V11: 0.14395495 | W11: 0.6 | X11: 0.81960914 | Y11: 0.017647059 | Z11: 0.015700563 | AA11: 0.076470588 | AB11: 0.0091421 | AC11: 0.15882353 | AD11: 0.46425969 | AE11: 0.011764706 | AF11: 0.0031798609 | AG11: 0.31764706 | AH11: 0.78403445 | AI11: 0.02 | AJ11: 0.035387046 | AK11: 3.76 | AL11: 0.80126382 | AM11: 0 | AN11: 0 | AO11: 0 | AP11: 0.017684211 | AQ11: 0 | AR11: 0.052210526 | AS11: 0.11428571 | AT11: 0.18778947 | AU11: 0 | AV11: 0.0075789474 | AW11: 0 | AX11: 0.0012631579 | AY11: - | AZ11: -
